BEGIN:VCALENDAR
VERSION:2.0
PRODID:-//jEvents 2.0 for Joomla//EN
CALSCALE:GREGORIAN
METHOD:PUBLISH
BEGIN:VEVENT
UID:9d23b1910492f63e508b73b2c85d56dc
CATEGORIES:Polar Online Events
CREATED:20201111T185241
SUMMARY:Society of Environmental Toxicology and Chemistry
DESCRIPTION:Call for abstracts: 2-13 Unravelling the occurrence and impact of multiple 
 stressors of natural and anthropogenic origin pollutants in Polar Regions (
 Track 2-Ecotoxicology becomes stress ecology: from population to ecosystems
  and landscapes) at the virtual 31st SETAC Europe (https://europe2021.setac
 .org/) annual meeting, 3-6 May 2021  The session will be a contribution to 
 the SCAR-AG “Plastic in the Polar Environments” and will be jointly co-chai
 red by Ilaria Corsi from Siena University, Clara Manno from British Antarct
 ic Survey, Ilka Peeken from Alfred Wegener Institute and José Xavier from U
 niversity of Coimbra. Abstracts to be submitted before the 2nd December 202
 0 at: <a href="https://europe2021.setac.org/programme/scientific-programme/
 abstract-submission/">https://europe2021.setac.org/programme/scientific-pro
 gramme/abstract-submission/</a>  
X-ALT-DESC;FMTTYPE=text/html:<div>Call for abstracts:&nbsp;<strong>2-13 Unravelling the occurrence and i
 mpact of multiple stressors of natural and anthropogenic origin pollutants 
 in Polar Regions&nbsp;</strong>(Track 2-Ecotoxicology becomes stress ecolog
 y: from population to ecosystems and landscapes) at the virtual&nbsp;31<sup
 >st</sup>&nbsp;SETAC Europe (<a href="https://europe2021.setac.org/">https:
 //europe2021.setac.org/</a>)&nbsp;annual meeting,&nbsp;3-6 May 2021&nbsp;</
 div><div>&nbsp;</div><div>The session will be a contribution to the SCAR-AG
  “Plastic in the Polar Environments” and will be jointly co-chaired by Ilar
 ia Corsi from Siena University, Clara Manno from British Antarctic Survey,&
 nbsp;Ilka Peeken from Alfred Wegener Institute&nbsp;and&nbsp;José Xavier fr
 om University of Coimbra.&nbsp;</div><div><span lang="en-US"></span></div><
 div><span lang="en-US">Abstracts to be submitted before the&nbsp;<strong>2<
 sup>nd</sup>&nbsp;December 2020&nbsp;</strong>at:</span></div><div>&nbsp;</
 div><div><strong><a href="https://europe2021.setac.org/programme/scientific
 -programme/abstract-submission/">https://europe2021.setac.org/programme/sci
 entific-programme/abstract-submission/</a>&nbsp;&nbsp;</strong></div>
DTSTAMP:20260420T124334Z
DTSTART;TZID=UTC;VALUE=DATE:20210503
DTEND;TZID=UTC;VALUE=DATE:20210507
SEQUENCE:0
TRANSP:OPAQUE
END:VEVENT
END:VCALENDAR