BEGIN:VCALENDAR
VERSION:2.0
PRODID:-//jEvents 2.0 for Joomla//EN
CALSCALE:GREGORIAN
METHOD:PUBLISH
BEGIN:VEVENT
UID:52af655e180a6329992bce6807d1504a
CATEGORIES:APECS Events
CREATED:20201201T111241
SUMMARY:APECS Sweden: Polar Research Under Covid-19
LOCATION:Online
DESCRIPTION:9th December 2020 15:00 (Stockholm)\nTired of cancelled fieldwork? Missing 
 your daily procrastination fika by the coffee machine? Overloaded with Zoom
  calls and conferences (and currently reading this thinking, oh no, not ano
 ther one?!)? Polar research has looked very different over the last year as
  we grapple with life under a global pandemic.\nWe'd like to invite you to 
 reflect on the challenges of the year, both the good and the bad. We will b
 e joined by two researchers who are going to be talking about their experie
 nces during Covid-19, followed by group discussions. This hasn't been the e
 asiest year for anybody, but for everything that hasn't gone as planned, pe
 ople have been creatively adapting and problem solving, to keep research ru
 nning. We hope you will take the chance to join us as we look back on this 
 year, and forward to what 2021 will bring (hopefully fika again!)!\nIf you 
 would like to join, sign up through the Google form (https://docs.google.co
 m/forms/d/e/1FAIpQLSdsopPMuLADdMbbU5BQSGarSkw5fsoDJtF7ExbFOti_HjxLBQ/viewfo
 rm?fbclid=IwAR0maF7DeqYpInneekEAjiSYTUTtn3t2wtV35br-jY3Y_jf1B_efzKWZnIU) an
 d the link for the event will be sent to your email.\n\n\nSpeakers:\nSimon 
 Larsson - Stockholm University\n'My PhD progress in 2020'\nSalar Karam - Un
 iversity of Gothenburg\n'MOSAiC is a year-long Antarctic Research Expeditio
 n, that ended in September 2020. Salar Karam was one of the scientists taki
 ng part in this voyage'\n\nLook forward to seeing you there!\nAPECS Sweden\
 n
X-ALT-DESC;FMTTYPE=text/html:<p><strong>9th December 2020 15:00 (Stockholm)</strong></p><p>Tired of canc
 elled fieldwork? Missing your daily procrastination fika by the coffee mach
 ine? Overloaded with Zoom calls and conferences (and currently reading this
  thinking, oh no, not another one?!)? Polar research has looked very differ
 ent over the last year as we grapple with life under a global pandemic.</p>
 <p>We'd like to invite you to reflect on the challenges of the year, both t
 he good and the bad. We will be joined by two researchers who are going to 
 be talking about their experiences during Covid-19, followed by group discu
 ssions. This hasn't been the easiest year for anybody, but for everything t
 hat hasn't gone as planned, people have been creatively adapting and proble
 m solving, to keep research running. We hope you will take the chance to jo
 in us as we look back on this year, and forward to what 2021 will bring (ho
 pefully fika again!)!</p><p>If you would like to join, sign up through the 
 <a href="https://docs.google.com/forms/d/e/1FAIpQLSdsopPMuLADdMbbU5BQSGarSk
 w5fsoDJtF7ExbFOti_HjxLBQ/viewform?fbclid=IwAR0maF7DeqYpInneekEAjiSYTUTtn3t2
 wtV35br-jY3Y_jf1B_efzKWZnIU" target="_blank" rel="noopener">Google form</a>
  and the link for the event will be sent to your email.<br /><br /></p><p><
 strong>Speakers:</strong><br /><em>Simon Larsson</em> - Stockholm Universit
 y<br />'My PhD progress in 2020'</p><p><em>Salar Karam</em> - University of
  Gothenburg<br />'MOSAiC is a year-long Antarctic Research Expedition, that
  ended in September 2020. Salar Karam was one of the scientists taking part
  in this voyage'</p><p><br />Look forward to seeing you there!</p><p>APECS 
 Sweden</p>
CONTACT:Freya Sykes This email address is being protected from spambots. You need JavaScript enabled to view it.
				document.getElementById('cloak76c9d1d453a0fbe415c762264c17f908').innerHTML = '';
				var prefix = '&#109;a' + 'i&#108;' + '&#116;o';
				var path = 'hr' + 'ef' + '=';
				var addy76c9d1d453a0fbe415c762264c17f908 = 'fr&#101;y&#97;&#101;syk&#101;s' + '&#64;';
				addy76c9d1d453a0fbe415c762264c17f908 = addy76c9d1d453a0fbe415c762264c17f908 + 'gm&#97;&#105;l' + '&#46;' + 'c&#111;m';
				var addy_text76c9d1d453a0fbe415c762264c17f908 = 'fr&#101;y&#97;&#101;syk&#101;s' + '&#64;' + 'gm&#97;&#105;l' + '&#46;' + 'c&#111;m';document.getElementById('cloak76c9d1d453a0fbe415c762264c17f908').innerHTML += '<a ' + path + '\'' + prefix + ':' + addy76c9d1d453a0fbe415c762264c17f908 + '\'>'+addy_text76c9d1d453a0fbe415c762264c17f908+'';
		
DTSTAMP:20260419T232647Z
DTSTART;TZID=UTC:20201209T080000
SEQUENCE:0
TRANSP:OPAQUE
END:VEVENT
END:VCALENDAR