BEGIN:VCALENDAR
VERSION:2.0
PRODID:-//jEvents 2.0 for Joomla//EN
CALSCALE:GREGORIAN
METHOD:PUBLISH
BEGIN:VEVENT
UID:a4185a9040f8919fb51c6240bfe4c575
CATEGORIES:APECS Events
CREATED:20201209T103111
SUMMARY:IPRN (APECS India) webinar: Himalayan Mountainous Regions
LOCATION:Online
DESCRIPTION:On the occasion of International Mountain Day, Indian Polar Research Networ
 k (APECS-India) is organizing a webinar on ‘Himalayan Mountainous Regions’ 
 on 11th December. We have three Early Career Researchers from three differe
 nt domains, telling us about the various aspects of scientific research in 
 the mountainous regions of Himalaya.<br /><br />For details, please visit :
  https://iprnindia.wixsite.com/iprn/international-mountain-day.
X-EXTRAINFO:GMT
DTSTAMP:20260419T225056Z
DTSTART;TZID=UTC:20201211T113000
SEQUENCE:0
TRANSP:OPAQUE
END:VEVENT
END:VCALENDAR