BEGIN:VCALENDAR
VERSION:2.0
PRODID:-//jEvents 2.0 for Joomla//EN
CALSCALE:GREGORIAN
METHOD:PUBLISH
BEGIN:VEVENT
UID:00a6c247503290bf2d427bbb29e5aeb2
CATEGORIES:Polar Conferences, Meetings and Events
CREATED:20201218T074355
SUMMARY:4th Hydrospace-GEOGloWS 2021
LOCATION:Frascati\, Italy
DESCRIPTION:The European Space Agency, in the context of the "Earth Observations Scienc
 e for Society" Programme, and CNES are organising a sequel event to Hydrosp
 ace2015, called 4th Space for Hydrology Workshop - "Inland Water Storage an
 d Runoff: Modeling, In Situ Data and Remote Sensing", Monday 7 - Friday 11 
 June 2021, hosted at ESA-ESRIN, Frascati, Italy. This time around the Hydro
 space Workshop is organised in collaboration with the GEO Global Water Sust
 ainability Initiative (GEOGloWS), looking for opportunities to explore join
 t solutions with a broader view on key science questions for Research and D
 evelopment, up to Operational use of remote sensing information. The aim of
  getting together during 4~4.5 days is to strengthen the collaboration betw
 een the four critical water communities: in situ, modelling and space obser
 vation scientists as well as non-scientific users such as water managers to
  address the needs of the application community. \nYou are invited to submi
 t your abstract(s) for an oral or a poster presentation. Below you will fin
 d the link to submit your contributions: \n\nAbstract Submission Portal (ht
 tps://hydrospace2021.org/abstract-submission) \n\nThe deadline for submitti
 ng your abstract(s) is 15 February 2021. \n\nNo participation fees will be 
 charged. Participants are expected to finance their own travel and accommod
 ation expenses. The working language of the workshop is English. \n\nFor mo
 re information and to stay updated on the event, please visit the event pag
 e <a href="https://www.hydrospace2021.org">https://www.hydrospace2021.org</
 a> \n\nThanks in advance for you contribution(s). \n\n\nBest regards, \n\nT
 he Hydrospace-GEOGloWS 2021 Organising Committee (https://hydrospace2021.or
 g/organising-committee) \n
X-ALT-DESC;FMTTYPE=text/html:<p>The European Space Agency, in the context of the "Earth Observations Sci
 ence for Society" Programme, and CNES are organising a sequel event to Hydr
 ospace2015, called&nbsp;<strong>4th Space for Hydrology Workshop - "Inland 
 Water Storage and Runoff: Modeling, In Situ Data and Remote Sensing"</stron
 g>, Monday 7 - Friday 11 June 2021, hosted at ESA-ESRIN, Frascati, Italy. T
 his time around the Hydrospace Workshop is organised in collaboration with 
 the GEO Global Water Sustainability Initiative (GEOGloWS), looking for oppo
 rtunities to explore joint solutions with a broader view on key science que
 stions for Research and Development, up to Operational use of remote sensin
 g information. The aim of getting together during 4~4.5 days is to strength
 en the collaboration between the four critical water communities: in situ, 
 modelling and space observation scientists as well as non-scientific users 
 such as water managers to address the needs of the application community.&n
 bsp;</p><p>You are invited to submit your abstract(s) for an oral or a post
 er presentation. Below you will find the link to submit your contributions:
 &nbsp;<br /><br /><a href="https://hydrospace2021.org/abstract-submission" 
 moz-do-not-send="true">Abstract Submission Portal</a>&nbsp;<br /><br /><str
 ong>The deadline for submitting your abstract(s) is 15 February 2021.</stro
 ng>&nbsp;<br /><br />No participation fees will be charged. Participants ar
 e expected to finance their own travel and accommodation expenses. The work
 ing language of the workshop is English.&nbsp;<br /><br />For more informat
 ion and to stay updated on the event, please visit the event page <a href="
 https://www.hydrospace2021.org">https://www.hydrospace2021.org</a>&nbsp;<br
  /><br />Thanks in advance for you contribution(s).&nbsp;<br /><br /><br />
 Best regards,&nbsp;<br /><br />The Hydrospace-GEOGloWS 2021&nbsp;<a href="h
 ttps://hydrospace2021.org/organising-committee" moz-do-not-send="true"><spa
 n style="text-decoration: underline;">Organising Committee</span></a>&nbsp;
 </p>
DTSTAMP:20260419T224910Z
DTSTART;TZID=UTC;VALUE=DATE:20210607
DTEND;TZID=UTC;VALUE=DATE:20210612
SEQUENCE:0
TRANSP:OPAQUE
END:VEVENT
END:VCALENDAR