BEGIN:VCALENDAR
VERSION:2.0
PRODID:-//jEvents 2.0 for Joomla//EN
CALSCALE:GREGORIAN
METHOD:PUBLISH
BEGIN:VEVENT
UID:fb329486bcda84e344b671a565fb38ca
CATEGORIES:Polar Online Events
CREATED:20201218T082558
SUMMARY:ASM3 Theme 1: Observe: Observing networks; Data sharing - towards implementation
LOCATION:Online
DESCRIPTION:ASM3 Theme 1: Observe: Observing networks; Data sharing - towards implement
 ation. The organizers of ASM3 have designed a webinar series in order to in
 crease the transparency of the Arctic Science Ministerial science process.\
 n\n20th January 2021, 13:00-15:00 UTC\n\n\n
X-ALT-DESC;FMTTYPE=text/html:<p>ASM3 Theme 1: Observe: Observing networks;&nbsp;Data sharing - towards i
 mplementation. The organizers of ASM3 have designed a webinar series in ord
 er to increase the transparency of the Arctic Science Ministerial science p
 rocess.<br /><br /><strong>20th January 2021, 13:00-15:00 UTC</strong><span
  style="text-decoration: underline;"><br /></span></p><p><a href="https://a
 rcticobserving.us15.list-manage.com/track/click?u=c4b39d1d0b859cceeeb05d4f6
 &amp;id=d3f1ed3831&amp;e=b743e69913">More information and registration can 
 be found here.</a></p>
X-EXTRAINFO:UTC
DTSTAMP:20260419T224910Z
DTSTART;TZID=UTC:20210120T130000
DTEND;TZID=UTC:20210120T150000
SEQUENCE:0
TRANSP:OPAQUE
END:VEVENT
END:VCALENDAR