BEGIN:VCALENDAR
VERSION:2.0
PRODID:-//jEvents 2.0 for Joomla//EN
CALSCALE:GREGORIAN
METHOD:PUBLISH
BEGIN:VEVENT
UID:833a3e78c2c1f5ff98b738681df34043
CATEGORIES:Polar Online Events
CREATED:20201218T083045
SUMMARY:ASM3 Theme 4: Strengths: Capacity building; Education; Networking; Resilience - prepare the next generation
LOCATION:Online
DESCRIPTION:ASM3 Theme 4: Strengths: Capacity building; Education; Networking; Resilien
 ce - prepare the next generation\n7 April 2021, 13:00-15: 00 UTC\nMore info
 rmation and registration can be found here: https://asm3.org/webinar-series
 /\n
X-ALT-DESC;FMTTYPE=text/html:<p>ASM3 Theme 4: Strengths: Capacity building;&nbsp;Education;&nbsp;Network
 ing;&nbsp;Resilience - prepare the next generation</p><p><strong>7 April 20
 21, 13:00-15: 00 UTC</strong></p><p>More information and registration can b
 e found here: <a href="https://asm3.org/webinar-series/">https://asm3.org/w
 ebinar-series/</a></p>
X-EXTRAINFO:UTC
DTSTAMP:20260420T123440Z
DTSTART;TZID=UTC:20210407T130000
DTEND;TZID=UTC:20210407T150000
SEQUENCE:0
TRANSP:OPAQUE
END:VEVENT
END:VCALENDAR