BEGIN:VCALENDAR
VERSION:2.0
PRODID:-//jEvents 2.0 for Joomla//EN
CALSCALE:GREGORIAN
METHOD:PUBLISH
BEGIN:VEVENT
UID:f12f5f443b7bc7925221f007fafcc54f
CATEGORIES:Polar Online Events
CREATED:20201218T083124
SUMMARY:ASM3 Closing webinar - Post-Ministerial Review: Joint Statement and Actions
LOCATION:Online
DESCRIPTION:<p style="text-align: justify;">Thank you all for contributing to such a su
 ccessful Arctic Science Ministerial just a few weeks ago. We would like to 
 inform you that <strong>the final ASM3 webinar has been rescheduled to 16 J
 une at 13:00 UTC.</strong></p><p style="text-align: justify;"><a href="http
 s://us02web.zoom.us/webinar/register/WN_lMyehwxcS7Sbv-F_v1oJGQ" target="_bl
 ank" rel="noopener">Registration </a>is still open. If you have already reg
 istered there is no need to do so again and you should have already receive
 d a notification from our co-organizers in this series, the European Polar 
 Board, with the a change of date notification. This webinar is an opportuni
 ty for the wider ASM3 community and interested public to review the full AS
 M3 science process and the final outcomes of ASM3.</p><p style="text-align:
  justify;">We also would like to share that we are now updating the ASM3 we
 bsite in order to make all of the final ASM3 outcomes easily findable and s
 earchable, so you can look forward to seeing those updates in the coming da
 ys. The final <a href="https://asm3.org/ministerial-/" target="_blank" rel=
 "noopener">Joint Statement of Ministers and the ASM3 Final Report</a> are a
 vailable on the current version of the website as well. A hard copy of the 
 Report will be sent from Tokyo to all those who participated in the Ministe
 rial in the coming weeks.</p><p style="text-align: justify;">We look forwar
 d to seeing you all on 16 June!</p>
X-EXTRAINFO:UTC
DTSTAMP:20260419T185641Z
DTSTART;TZID=UTC;VALUE=DATE:20210616
DTEND;TZID=UTC;VALUE=DATE:20210617
SEQUENCE:0
TRANSP:OPAQUE
END:VEVENT
END:VCALENDAR