BEGIN:VCALENDAR
VERSION:2.0
PRODID:-//jEvents 2.0 for Joomla//EN
CALSCALE:GREGORIAN
METHOD:PUBLISH
BEGIN:VEVENT
UID:a17c0d8135d9552bffbc66ff7ec5bda5
CATEGORIES:Polar Online Events
CREATED:20210113T085736
SUMMARY:IARPC Public Webinar Series: Introduction to IARPC
DESCRIPTION:New to the Interagency Arctic Research Policy Committee and have questions 
 about how this interagency body works? On January 22, 10am AKT / 2pm ET, jo
 in us for a 30-minute webinar introduction to IARPC and IARPC Collaboration
 s. This webinar will include an overview of IARPC member agencies, the curr
 ent Arctic Research Plan, the IARPC Collaborations web platform, collaborat
 ion teams, and how you can get involved.\nProject Analyst Meredith LaValley
  and Web Manager/Community Coordinator Liz Weinberg will give a 15 minute o
 verview presentation, followed by 15 minutes for Q&amp;A. Members of the IA
 RPC Secretariat (https://www.iarpccollaborations.org/IARPC-Secretariat.html
 ) will be available to answer questions. This webinar will be recorded.\n<a
  href="https://www.iarpccollaborations.org/events/20412" target="_blank" re
 l="noopener">Learn More</a>\nRegister (https://iarpc.zoom.us/meeting/regist
 er/tZYpfumvrD0jE9EUe10H88qT53F9uZLWmeaI)\n
X-ALT-DESC;FMTTYPE=text/html:<p>New to the <strong>Interagency Arctic Research Policy Committee</strong>
  and have questions about how this interagency body works? On January 22, 1
 0am AKT / 2pm ET, join us for a 30-minute webinar introduction to IARPC and
  IARPC Collaborations. This webinar will include an overview of IARPC membe
 r agencies, the current Arctic Research Plan, the IARPC Collaborations web 
 platform, collaboration teams, and how you can get involved.</p><p>Project 
 Analyst Meredith LaValley and Web Manager/Community Coordinator Liz Weinber
 g will give a 15 minute overview presentation, followed by 15 minutes for Q
 &amp;A. Members of the <a href="https://www.iarpccollaborations.org/IARPC-S
 ecretariat.html" target="_blank" rel="noopener">IARPC Secretariat</a> will 
 be available to answer questions. This webinar will be recorded.</p><p><a h
 ref="https://www.iarpccollaborations.org/events/20412" target="_blank" rel=
 "noopener"><strong>Learn More</strong></a></p><p><a href="https://iarpc.zoo
 m.us/meeting/register/tZYpfumvrD0jE9EUe10H88qT53F9uZLWmeaI" target="_blank"
  rel="noopener"><strong>Register</strong></a></p>
DTSTAMP:20260419T171239Z
DTSTART;TZID=UTC:20210122T190000
DTEND;TZID=UTC;VALUE=DATE:20210123
SEQUENCE:0
TRANSP:OPAQUE
END:VEVENT
END:VCALENDAR