BEGIN:VCALENDAR
VERSION:2.0
PRODID:-//jEvents 2.0 for Joomla//EN
CALSCALE:GREGORIAN
METHOD:PUBLISH
BEGIN:VEVENT
UID:7bcdf2983377ac9e57159c3d6286fca8
CATEGORIES:Polar Online Events
CREATED:20210113T090908
SUMMARY:U.S. National Ice Center Program Manager Chat
DESCRIPTION:U.S. National Ice Center Program Manager Chat (https://www.iarpccollaborati
 ons.org/events/20181)\nOn January 21, 1-2pm ET / 9-10am AKT, join the U.S. 
 National Ice Center for an overview of its products and resources. The U.S.
  National Ice Center provides global-to-tactical-scale ice and snow product
 s, ice forecasting, and other environmental intelligence services. Center D
 irector CDR Heather Quilenderino, Ph.D., will give a presentation about the
  center in this webinar; there will be time at the end for questions. This 
 webinar will be recorded. Learn more and register: <a href="https://www.iar
 pccollaborations.org/events/20181"></a>https://www.iarpccollaborations.org/
 events/20181\n
X-ALT-DESC;FMTTYPE=text/html:<p><a href="https://www.iarpccollaborations.org/events/20181">U.S. National
  Ice Center Program Manager Chat</a></p><p>On January 21, 1-2pm ET / 9-10am
  AKT, join the U.S. National Ice Center for an overview of its products and
  resources. The U.S. National Ice Center provides global-to-tactical-scale 
 ice and snow products, ice forecasting, and other environmental intelligenc
 e services. Center Director CDR Heather Quilenderino, Ph.D., will give a pr
 esentation about the center in this webinar; there will be time at the end 
 for questions. This webinar will be recorded. Learn more and register: <a h
 ref="https://www.iarpccollaborations.org/events/20181"></a><a href="https:/
 /www.iarpccollaborations.org/events/20181">https://www.iarpccollaborations.
 org/events/20181</a></p>
DTSTAMP:20260419T185246Z
DTSTART;TZID=UTC:20210121T180000
DTEND;TZID=UTC:20210121T190000
SEQUENCE:0
TRANSP:OPAQUE
END:VEVENT
END:VCALENDAR