BEGIN:VCALENDAR
VERSION:2.0
PRODID:-//jEvents 2.0 for Joomla//EN
CALSCALE:GREGORIAN
METHOD:PUBLISH
BEGIN:VEVENT
UID:13282e0a14f7f5ba8b4c034e9b8162a6
CATEGORIES:Polar Online Events
CREATED:20210113T091525
SUMMARY:The INSTANT kick-off workshop
LOCATION:Online
DESCRIPTION:<p><strong>****The INSTANT kick-off workshop</strong>: will take place onli
 ne on <strong>February 15-17th.****</strong></p><p>At this establishment wo
 rkshop we will develop the detailed work plan for the Programme, Themes and
  subcommittees as well as identify committee members and leaders.&nbsp;</p>
 <p><strong>Registration is open</strong> (no fee) and it would greatly help
  us if you could register not too late so we can estimate the number of par
 ticipants.</p><div>At this link you can find the schedule of INSTANT kick-o
 ff:</div><div><a href="https://www.scar.org/scar-news/instant-news/kickoff-
 schedule/" target="_blank" rel="noopener" title="&lt;a href=" scar-news="" 
 instant-news="" kickoff-schedule="">https://www.scar.org/scar-news/instant-
 news/kickoff-schedule/</a>"&gt;<a href="https://www.scar.org/scar-news/inst
 ant-news/kickoff-schedule/">https://www.scar.org/scar-news/instant-news/kic
 koff-schedule/</a></div><div>&nbsp;</div><div><strong>Registration will rem
 ain opened until February 10th:</strong></div><div><a href="https://www.sca
 r.org/science/instant/instant-meeting-form/" target="_blank" rel="noopener"
  title="&lt;a href=">https://www.scar.org/science/instant/instant-meeting-f
 orm/</a>"&gt;<a href="https://www.scar.org/science/instant/instant-meeting-
 form/">https://www.scar.org/science/instant/instant-meeting-form/</a></div>
 <div>&nbsp;</div><div>Other info about INSTANT kick-off can be found here:<
 /div><div><a href="https://www.scar.org/scar-news/instant-news/instant-kick
 off/" target="_blank" rel="noopener"></a><a href="https://www.scar.org/scar
 -news/instant-news/instant-kickoff/">https://www.scar.org/scar-news/instant
 -news/instant-kickoff/</a></div><p>If you would like to be involved in the 
 pre-workshop organisation please register on the INSTANT mailing list and l
 et Tim (<a href="mailto:timothy.Naish@vuw.ac.nz"></a><span id="cloak6836cf5
 7dfa08fcd132a0804ac8a5a01">This email address is being protected from spamb
 ots. You need JavaScript enabled to view it.</span><script type='text/javas
 cript'>
				document.getElementById('cloak6836cf57dfa08fcd132a0804ac8a5a01'
 ).innerHTML = '';
				var prefix = '&#109;a' + 'i&#108;' + '&#116;o';
				v
 ar path = 'hr' + 'ef' + '=';
				var addy6836cf57dfa08fcd132a0804ac8a5a01 =
  't&#105;m&#111;thy.N&#97;&#105;sh' + '&#64;';
				addy6836cf57dfa08fcd132a
 0804ac8a5a01 = addy6836cf57dfa08fcd132a0804ac8a5a01 + 'v&#117;w' + '&#46;' 
 + '&#97;c' + '&#46;' + 'nz';
				var addy_text6836cf57dfa08fcd132a0804ac8a5
 a01 = 't&#105;m&#111;thy.N&#97;&#105;sh' + '&#64;' + 'v&#117;w' + '&#46;' +
  '&#97;c' + '&#46;' + 'nz';document.getElementById('cloak6836cf57dfa08fcd13
 2a0804ac8a5a01').innerHTML += '<a ' + path + '\'' + prefix + ':' + addy6836
 cf57dfa08fcd132a0804ac8a5a01 + '\'>'+addy_text6836cf57dfa08fcd132a0804ac8a5
 a01+'<\/a>';
		</script>) or I (<a href="mailto:fcolleoni@inogs.it"></a><sp
 an id="cloakde05b113aaccade183e6dfc460a6bd2d">This email address is being p
 rotected from spambots. You need JavaScript enabled to view it.</span><scri
 pt type='text/javascript'>
				document.getElementById('cloakde05b113aaccad
 e183e6dfc460a6bd2d').innerHTML = '';
				var prefix = '&#109;a' + 'i&#108;'
  + '&#116;o';
				var path = 'hr' + 'ef' + '=';
				var addyde05b113aaccade
 183e6dfc460a6bd2d = 'fc&#111;ll&#101;&#111;n&#105;' + '&#64;';
				addyde05
 b113aaccade183e6dfc460a6bd2d = addyde05b113aaccade183e6dfc460a6bd2d + '&#10
 5;n&#111;gs' + '&#46;' + '&#105;t';
				var addy_textde05b113aaccade183e6df
 c460a6bd2d = 'fc&#111;ll&#101;&#111;n&#105;' + '&#64;' + '&#105;n&#111;gs' 
 + '&#46;' + '&#105;t';document.getElementById('cloakde05b113aaccade183e6dfc
 460a6bd2d').innerHTML += '<a ' + path + '\'' + prefix + ':' + addyde05b113a
 accade183e6dfc460a6bd2d + '\'>'+addy_textde05b113aaccade183e6dfc460a6bd2d+'
 <\/a>';
		</script>) know, and read the Science and Implementation plan.</p
 ><p>&nbsp;</p><p>&nbsp;</p><p><strong>****Invitation to participate in the 
 kick-off workshop for the SCAR INSTANT Programme - <em>INStabilities&nbsp; 
 &amp; Thresholds in ANTarctica: The Antarctic contribution to global sea-le
 vel</em></strong></p><p>Tim and I are proud and excited to announce&nbsp; “
 INSTANT”, a new SCAR scientific programme recently approved. INSTANT will o
 fficially start&nbsp; in January. Here you can download the science and imp
 lementation plan and have a look at video of INSTANT presentation during th
 e SCAR Online conference last summer:</p><p><a href="https://www.scar.org/s
 cience/instant/resources/"></a><a href="https://www.scar.org/science/instan
 t/resources/">https://www.scar.org/science/instant/resources/</a></p><p><a 
 href="https://www.youtube.com/watch?v=h_2S8OnAFRU"></a><a href="https://www
 .youtube.com/watch?v=h_2S8OnAFRU">https://www.youtube.com/watch?v=h_2S8OnAF
 RU</a> (min from 29:33 to 53:03)</p><p><strong>The aim of the SRP is to “qu
 antify the Antarctic ice sheet contribution to past and future global sea-l
 evel change, from improved understanding of climate, ocean and solid Earth 
 interactions and feedbacks with the ice, so that decision-makers can better
  anticipate and assess the risk in order to manage and adapt to sea-level r
 ise and evaluate mitigation pathways.</strong></p><p>This programme also pa
 rtners with SCAR-WCRP ISMASS Project, WRCP-CLIC core activities, WCRP-CLIVA
 R core activities, PALSEA, and PMIP.</p><p>****To follow INSTANT activities
 : please register to the following mailing list:****</p><p><a href="https:/
 /lists.scar.org/mailman/listinfo/instant"></a><a href="https://lists.scar.o
 rg/mailman/listinfo/instant">https://lists.scar.org/mailman/listinfo/instan
 t</a>.&nbsp;</p><p>The member list on the SCAR INSTANT website, which began
  as the members of the Programme Planning Group, is being updated all the t
 ime, and <strong>new members are welcomed</strong>.</p>
DTSTAMP:20260423T105030Z
DTSTART;TZID=UTC;VALUE=DATE:20210215
DTEND;TZID=UTC;VALUE=DATE:20210218
SEQUENCE:0
TRANSP:OPAQUE
END:VEVENT
END:VCALENDAR