BEGIN:VCALENDAR
VERSION:2.0
PRODID:-//jEvents 2.0 for Joomla//EN
CALSCALE:GREGORIAN
METHOD:PUBLISH
BEGIN:VEVENT
UID:266492f411e9de5bf77525d84ddf43fb
CATEGORIES:Polar Online Events
CREATED:20210119T114002
SUMMARY:Multidisciplinary workshop on snow research in Svalbard (online)
LOCATION:online
DESCRIPTION:<p><strong>The long awaited multidisciplinary SIOS workshop on snow researc
 h in Svalbard will be held online 1-3 &amp; 5 February. Registration is fre
 e and now open! Join us for 4 exciting mornings with focus on snow observat
 ions and research, technology development and many other topics.</strong></
 p><p>Snow covers all of Svalbard for up to nine months and affects all sphe
 res of the Earth System. However, we still lack a holistic picture of snow 
 processes and need to develop tools to monitor these processes, and assess 
 risks associated with snow.</p><p>This workshop aims to bring together peop
 le from different disciplines and backgrounds during 4 half-day sessions in
  order to develop specific targeted initiatives related to snow science in 
 Svalbard. The focus will be on activities that provide answers to snow rela
 ted science questions, with focus on activities that</p><ul><li>help integr
 ate cross-disciplinary studies*</li><li>help to develop technologies that c
 an be used to address the above</li><li>develop data management and metadat
 a creation processes that ensure proper archiving, dissemination, and commu
 nication</li></ul><p><em>* Currently, topics include snow physics and remot
 e sensing, snow chemistry (aerosols), and the need for standardised paramet
 ers as well as field data for modelling parameterisation. We hope that expe
 rts also from other fields will join the workshop in order to contribute to
  a comprehensive research agenda on snow research in Svalbard.</em></p><p>T
 he workshop will comprise two sections, (1) drafting of a <strong>research 
 agenda for snow research in Svalbard</strong>, and (2) discussions <strong>
 on technology development in the area of snow physics</strong>, and will in
 clude panel discussions, selected short scientific talks, discussions in br
 eak-out groups, and writing sessions on the research agenda draft. Extra ti
 me will be allocated for discussions on other relevant topics (community-ba
 sed observations, data management solutions, etc.).</p><p><strong>Where?</s
 trong> Online (Zoom)</p><p><strong>When?</strong> <strong>1<sup>st</sup> – 
 3<sup>rd</sup> (9:00 – 13:00 CET) and 5<sup>th</sup> (9:00 – 11:30 CET) Feb
 ruary 2021</strong></p><p><strong>Who is invited?</strong></p><ul><li>Scien
 tists from all disciplines affected by snow and local stakeholders in Svalb
 ard</li><li>Engineers and enterprises interested in the development of scie
 ntific sensors and technology suitable for measuring physical snow properti
 es under Arctic conditions.</li></ul>
DTSTAMP:20260419T151451Z
DTSTART;TZID=UTC;VALUE=DATE:20210201
DTEND;TZID=UTC;VALUE=DATE:20210206
SEQUENCE:0
TRANSP:OPAQUE
END:VEVENT
END:VCALENDAR