BEGIN:VCALENDAR
VERSION:2.0
PRODID:-//jEvents 2.0 for Joomla//EN
CALSCALE:GREGORIAN
METHOD:PUBLISH
BEGIN:VEVENT
UID:da1409fc1371d355e44e2fafcbcac88d
CATEGORIES:Polar Online Events
CREATED:20210119T114536
SUMMARY:Journal reading club on Greenland's surface mass balance
LOCATION:Online
DESCRIPTION:We are a group of scientists and graduate students who work on Greenland's 
 surface mass balance.We are starting an on-line journal reading club on thi
 s and related topics, aiming to integrate understandings and spark new idea
 s and collaboration.\n \n Each time, we will discuss one new publication *w
 ith the authors *by first reviewing the content and then Q&amp;A. Everyone 
 is welcome to join!!!\nSecond Meeting - Paper to discuss: Ward, J. L., Flan
 ner, M. G., &amp; Dunn-Sigouin, E. (2020). Impacts of Greenland Block Locat
 ion on Clouds and Surface Energy Fluxes Over the Greenland Ice Sheet. Journ
 al of Geophysical Research: Atmospheres, 125(22). https://doi.org/10.1029/2
 020JD033172\nTime: Jan. 20 (Wed) @ 8:30 AM PST\nZoom link: <a href="https:/
 /zoom.us/j/7225787134"></a>https://zoom.us/j/7225787134\n
X-ALT-DESC;FMTTYPE=text/html:<p>We are a group of scientists and graduate students who work on Greenland
 's surface mass balance.We are starting an on-line journal reading club on 
 this and related topics, aiming to integrate understandings and spark new i
 deas and collaboration.<br /> <br /> Each time, we will discuss one new pub
 lication *with the authors *by first reviewing the content and then Q&amp;A
 . Everyone is welcome to join!!!</p><p>Second Meeting - Paper to discuss: W
 ard, J. L., Flanner, M. G., &amp; Dunn-Sigouin, E. (2020). Impacts of Green
 land Block Location on Clouds and Surface Energy Fluxes Over the Greenland 
 Ice Sheet. Journal of Geophysical Research: Atmospheres, 125(22). <a href="
 https://doi.org/10.1029/2020JD033172">https://doi.org/10.1029/2020JD033172<
 /a></p><p>Time: Jan. 20 (Wed)&nbsp;@ 8:30 AM PST</p><p>Zoom link:&nbsp;<a h
 ref="https://zoom.us/j/7225787134"></a><a href="https://zoom.us/j/722578713
 4">https://zoom.us/j/7225787134</a></p>
DTSTAMP:20260419T171254Z
DTSTART;TZID=UTC:20210120T080000
DTEND;TZID=UTC:20210120T170000
SEQUENCE:0
TRANSP:OPAQUE
END:VEVENT
END:VCALENDAR