BEGIN:VCALENDAR
VERSION:2.0
PRODID:-//jEvents 2.0 for Joomla//EN
CALSCALE:GREGORIAN
METHOD:PUBLISH
BEGIN:VEVENT
UID:26e9e072b5e24ab10d764fbdfd9b17c3
CATEGORIES:Polar Online Events
CREATED:20210121T200913
SUMMARY:Webinar Series: The Arctic - A Global Health Perspective
LOCATION:Online
DESCRIPTION:This 10-part webinar series will explore diverse perspectives on Arctic Glo
 bal Health.\n\nThe Arctic remains an underrepresented area in global health
  research, and this series offers a transdisciplinary look at the region's 
 challenges and opportunities. Hear expert perspectives on issues including 
 Arctic governance, food security, migration, climate change, Indigenous rig
 hts, and more.\nPlease note: Space is limited, so be sure to register early
 .\n\n
X-ALT-DESC;FMTTYPE=text/html:<p>This 10-part webinar series&nbsp;will explore diverse perspectives on&nb
 sp;<strong>Arctic Global Health.</strong><br /><br />The Arctic remains an 
 underrepresented area in global health research, and this series offers a t
 ransdisciplinary look at the region's challenges and opportunities.&nbsp;He
 ar expert perspectives on issues including&nbsp;Arctic governance, food sec
 urity, migration, climate change, Indigenous rights, and more.</p><p>Please
  note: Space is limited, so be sure to register early.</p><p><a href="https
 ://nhsru.us8.list-manage.com/track/click?u=37c5014b5ee92747973b4954a&amp;id
 =25d439bde0&amp;e=6d0933fbc2" target="_blank" rel="noopener">Learn more and
  register.</a></p>
DTSTAMP:20260419T224750Z
DTSTART;TZID=UTC;VALUE=DATE:20210201
DTEND;TZID=UTC;VALUE=DATE:20210414
SEQUENCE:0
TRANSP:OPAQUE
END:VEVENT
END:VCALENDAR