BEGIN:VCALENDAR
VERSION:2.0
PRODID:-//jEvents 2.0 for Joomla//EN
CALSCALE:GREGORIAN
METHOD:PUBLISH
BEGIN:VEVENT
UID:14cbd0299a2e4645c0bf6cb5b2f15eda
CATEGORIES:Polar Online Events
CREATED:20210125T153542
SUMMARY:Potsdam Summer School 2021 (part II)
LOCATION:Online
DESCRIPTION:<p><strong>Due to the ongoing pandemic situation it has been decided to con
 duct it as an online event.</strong></p><p><strong>POTSDAM SUMMER SCHOOL 20
 21 (from Potsdam, Germany)</strong><br /><strong>Water: Our Global Common G
 ood - The Hydrosphere across Land and Sea<br /></strong><br /><strong>&nbsp
 ; 9-12 August (part I)<br />17-20 August (part II)<br /></strong></p><p>The
  deadline for submitting applications will be on <strong>March 31, 2021</st
 rong>.</p><p>For further information, please visit the <a href="https://pot
 sdam-summer-school.org/" target="_blank" rel="noopener">Potsdam Summer Scho
 ol website.</a></p>
CONTACT:angela.borowski(at)iass-potsdam.de
DTSTAMP:20260419T205227Z
DTSTART;TZID=UTC;VALUE=DATE:20210817
DTEND;TZID=UTC;VALUE=DATE:20210821
SEQUENCE:0
TRANSP:OPAQUE
END:VEVENT
END:VCALENDAR