BEGIN:VCALENDAR
VERSION:2.0
PRODID:-//jEvents 2.0 for Joomla//EN
CALSCALE:GREGORIAN
METHOD:PUBLISH
BEGIN:VEVENT
UID:a28533c00eee4008b88a129f6efa6810
CATEGORIES:Polar Online Events
CREATED:20210126T084215
SUMMARY:Students in Polar and Alpine Research Conference (SPARC) 
LOCATION:Online
DESCRIPTION:We are happy to announce the 7th annual Students in Polar and Alpine Resear
 ch Conference (SPARC) will take place in Brno, Czech Republic (if Covid sit
 uation allows), and also virtually, on 3-4 May 2021.  All students (undergr
 aduate/graduate/PhD) and early-career researchers (&lt;5 years after PhD de
 fense), working in the Polar and Alpine environments within the fields of b
 iological &amp; geosciences, are invited to participate in the conference. 
 You can find more information on invited speakers and important dates on Fa
 cebook (https://www.facebook.com/GeoPolar-Brno-667809679997442/) or our <a 
 href="https://sparc-brno.webnode.cz/" target="_blank" rel="noopener">websit
 e</a>.  In case of any queries contact us at This email address is being pr
 otected from spambots. You need JavaScript enabled to view it.
				document
 .getElementById('cloak83e2cbcd19acc17504f62c2d83335c1a').innerHTML = '';
		
 		var prefix = '&#109;a' + 'i&#108;' + '&#116;o';
				var path = 'hr' + 'ef
 ' + '=';
				var addy83e2cbcd19acc17504f62c2d83335c1a = 'g&#101;&#111;p&#11
 1;l&#97;rbrn&#111;' + '&#64;';
				addy83e2cbcd19acc17504f62c2d83335c1a = a
 ddy83e2cbcd19acc17504f62c2d83335c1a + 'gm&#97;&#105;l' + '&#46;' + 'c&#111;
 m';
				var addy_text83e2cbcd19acc17504f62c2d83335c1a = 'g&#101;&#111;p&#11
 1;l&#97;rbrn&#111;' + '&#64;' + 'gm&#97;&#105;l' + '&#46;' + 'c&#111;m';doc
 ument.getElementById('cloak83e2cbcd19acc17504f62c2d83335c1a').innerHTML += 
 '<a ' + path + '\'' + prefix + ':' + addy83e2cbcd19acc17504f62c2d83335c1a +
  '\' target="_blank" title="mailto:&lt;a href=">'+addy_text83e2cbcd19acc175
 04f62c2d83335c1a+'';
		!
X-ALT-DESC;FMTTYPE=text/html:<div>We are happy to announce the 7th annual&nbsp;<strong>Students in Polar
  and Alpine Research Conference (SPARC)</strong>&nbsp;will take place in Br
 no, Czech Republic (if Covid situation allows), and also virtually, on&nbsp
 ;<strong>3-4 May 2021</strong>.&nbsp;</div><div>&nbsp;</div><div>All studen
 ts (undergraduate/graduate/PhD) and early-career researchers (&lt;5 years a
 fter PhD defense), working in the Polar and Alpine environments within the 
 fields of biological &amp; geosciences, are invited to participate in the c
 onference. You can find more information on invited speakers and important 
 dates on&nbsp;<a href="https://www.facebook.com/GeoPolar-Brno-6678096799974
 42/" target="_blank" rel="noopener">Facebook</a> or our <a href="https://sp
 arc-brno.webnode.cz/" target="_blank" rel="noopener">website</a>.&nbsp;</di
 v><div>&nbsp;</div><div>In case of any queries contact us at&nbsp;<span id=
 "cloak83e2cbcd19acc17504f62c2d83335c1a">This email address is being protect
 ed from spambots. You need JavaScript enabled to view it.</span><script typ
 e='text/javascript'>
				document.getElementById('cloak83e2cbcd19acc17504f6
 2c2d83335c1a').innerHTML = '';
				var prefix = '&#109;a' + 'i&#108;' + '&#
 116;o';
				var path = 'hr' + 'ef' + '=';
				var addy83e2cbcd19acc17504f62
 c2d83335c1a = 'g&#101;&#111;p&#111;l&#97;rbrn&#111;' + '&#64;';
				addy83e
 2cbcd19acc17504f62c2d83335c1a = addy83e2cbcd19acc17504f62c2d83335c1a + 'gm&
 #97;&#105;l' + '&#46;' + 'c&#111;m';
				var addy_text83e2cbcd19acc17504f62
 c2d83335c1a = 'g&#101;&#111;p&#111;l&#97;rbrn&#111;' + '&#64;' + 'gm&#97;&#
 105;l' + '&#46;' + 'c&#111;m';document.getElementById('cloak83e2cbcd19acc17
 504f62c2d83335c1a').innerHTML += '<a ' + path + '\'' + prefix + ':' + addy8
 3e2cbcd19acc17504f62c2d83335c1a + '\' target="_blank" title="mailto:&lt;a h
 ref=">'+addy_text83e2cbcd19acc17504f62c2d83335c1a+'<\/a>';
		</script>!</di
 v>
DTSTAMP:20260422T134207Z
DTSTART;TZID=UTC;VALUE=DATE:20210503
DTEND;TZID=UTC;VALUE=DATE:20210505
SEQUENCE:0
TRANSP:OPAQUE
END:VEVENT
END:VCALENDAR