BEGIN:VCALENDAR
VERSION:2.0
PRODID:-//jEvents 2.0 for Joomla//EN
CALSCALE:GREGORIAN
METHOD:PUBLISH
BEGIN:VEVENT
UID:8b79e454351c05014f0e4822dc8939a3
CATEGORIES:Polar Online Events
CREATED:20210128T080116
SUMMARY:Virtual Workshop: Tracing the Pandemic Through Wastewater: Using Sewage Monitoring to Investigate Infectious Disease
LOCATION:Online
DESCRIPTION:<p>The U.S. Arctic Research Commission, the Centers for Disease Control and
  Prevention, and the Alaska Department of Environmental Conservation invite
  registration for the virtual workshop,&nbsp;<em>Tracing the Pandemic Throu
 gh Wastewater: Using Sewage Monitoring to Investigate Infectious Disease</e
 m>. This workshop will be held <strong>virtually 2-3 February 2021</strong>
 .</p><p>The workshop is free and open to the public, though aimed at health
  and water/sanitation professionals, and will feature guest speakers and pa
 nelists from around the world.</p><p><strong>The two-day workshop will cove
 r:</strong></p><ul><li>An overview of the current state of the science of W
 astewater Epidemiology,</li><li>How this technology is being used during th
 e COVID-19 pandemic,</li><li>Testing goals and potential sampling approache
 s for Alaska’s unique and varied remote communities, and</li><li>Ethical pr
 ivacy considerations when conducting these activities in small communities.
 </li></ul><p>For more information, including registration and the workshop 
 agenda, go to:<br /><a href="https://www.arcus.org/civicrm/mailing/url?u=27
 324&amp;qid=4691099" rel="nofollow">Workshop webpage</a></p><p>For question
 s, contact:<br />Caitlin Tuberville<br />Email:&nbsp;<a href="https://www.a
 rcus.org/civicrm/mailing/url?u=27325&amp;qid=4691099" rel="nofollow"></a><s
 pan id="cloak7bb419f52c087b5ffab42b04df79da78">This email address is being 
 protected from spambots. You need JavaScript enabled to view it.</span><scr
 ipt type='text/javascript'>
				document.getElementById('cloak7bb419f52c087
 b5ffab42b04df79da78').innerHTML = '';
				var prefix = '&#109;a' + 'i&#108;
 ' + '&#116;o';
				var path = 'hr' + 'ef' + '=';
				var addy7bb419f52c087b
 5ffab42b04df79da78 = 'r&#101;sc&#111;&#111;rd' + '&#64;';
				addy7bb419f52
 c087b5ffab42b04df79da78 = addy7bb419f52c087b5ffab42b04df79da78 + '&#97;rct&
 #105;c' + '&#46;' + 'g&#111;v';
				var addy_text7bb419f52c087b5ffab42b04df
 79da78 = 'r&#101;sc&#111;&#111;rd' + '&#64;' + '&#97;rct&#105;c' + '&#46;' 
 + 'g&#111;v';document.getElementById('cloak7bb419f52c087b5ffab42b04df79da78
 ').innerHTML += '<a ' + path + '\'' + prefix + ':' + addy7bb419f52c087b5ffa
 b42b04df79da78 + '\'>'+addy_text7bb419f52c087b5ffab42b04df79da78+'<\/a>';
	
 	</script></p>
DTSTAMP:20260420T143002Z
DTSTART;TZID=UTC;VALUE=DATE:20210202
DTEND;TZID=UTC;VALUE=DATE:20210204
SEQUENCE:0
TRANSP:OPAQUE
END:VEVENT
END:VCALENDAR