BEGIN:VCALENDAR
VERSION:2.0
PRODID:-//jEvents 2.0 for Joomla//EN
CALSCALE:GREGORIAN
METHOD:PUBLISH
BEGIN:VEVENT
UID:3b092bc6ed15c09bf5067d751d6a2632
CATEGORIES:Polar Online Events
CREATED:20210205T125613
SUMMARY:Field Research in Polar Law
LOCATION:Online
DESCRIPTION:Lawyers and legal academics are often perceived to spend endless hours in f
 ront of a screen or in the library, conducting desk and internet research. 
 Much of legal research, if not all, can be done far away from the issues un
 der research. Have you ever wondered what "going in the field" looks like f
 or legal research?\n\nJoin the University of Toronto Polar Law Group in lea
 rning from more experienced researchers about what field research and prima
 ry research in the legal discipline looks like in the polar context.\nWhen?
  Friday, February 12, 2021 at 12:30pm - 2pm EST \n\nOur guests are:\n Profe
 ssor Antje Neumann (Department of Law at the University of Akureyri, Icelan
 d),\nProfessor Betsy Baker (Vermont Law School, United States) and\nDr. Sar
 ah Mackie (Belfer Center for Science and International Affairs, Harvard Ken
 nedy School, United States). \n\nFree Registration: Here (https://utoronto.
 zoom.us/meeting/register/tZMtc-6orzIrHNDAFpOf1Y9poeQsjuTt5vg1)\n\n
X-ALT-DESC;FMTTYPE=text/html:<p>Lawyers and legal academics are often perceived to spend endless hours i
 n front of a screen or in the library, conducting desk and internet researc
 h. Much of legal research, if not all, can be done far away from the issues
  under research. Have you ever wondered what "going in the field" looks lik
 e for legal research?<br /><br />Join the <strong>University of Toronto Pol
 ar Law Group</strong> in learning from more experienced researchers about w
 hat field research and primary research in the legal discipline looks like 
 in the polar context.</p><p>When? <strong>Friday, February 12, 2021 at 12:3
 0pm - 2pm EST </strong></p><p><br />Our guests are:<br /> <strong>Professor
  Antje Neumann</strong> (Department of Law at the&nbsp;University of Akurey
 ri, Iceland),<br /><strong>Professor Betsy Baker</strong> (Vermont Law Scho
 ol, United States) and<br /><strong>Dr. Sarah Mackie</strong> (Belfer Cente
 r for Science and International Affairs, Harvard Kennedy School, United Sta
 tes).&nbsp;<br /><br /><strong>Free Registration: <a href="https://utoronto
 .zoom.us/meeting/register/tZMtc-6orzIrHNDAFpOf1Y9poeQsjuTt5vg1" target="_bl
 ank" rel="noopener">Here</a><br /></strong></p>
DTSTAMP:20260421T120431Z
DTSTART;TZID=UTC;VALUE=DATE:20210212
DTEND;TZID=UTC;VALUE=DATE:20210213
SEQUENCE:0
TRANSP:OPAQUE
END:VEVENT
END:VCALENDAR