BEGIN:VCALENDAR
VERSION:2.0
PRODID:-//jEvents 2.0 for Joomla//EN
CALSCALE:GREGORIAN
METHOD:PUBLISH
BEGIN:VEVENT
UID:bd61db2547f481f6245293326cef3dd8
CATEGORIES:Polar Online Events
CREATED:20210205T130919
SUMMARY:POLAR READINGS – 2021
LOCATION:Online
DESCRIPTION:The Ninth Scientific and Practical Conference\nPOLAR READINGS – 2021\nArt e
 xploration of the Arctic: Polar Regions in culture, art and philosophy\n18-
 19 May 2021\n \nThe next Polar readings (2021) will be devoted to the issue
 s of artistic and philosophical understanding of the Arctic and Antarctic, 
 identifying and forming the meanings that characterize and shape our unders
 tanding of the Polar regions.\nSpecialists, researchers of the Arctic and A
 ntarctic from research institutes, archives, museums, libraries, representa
 tives of state and public organizations are invited to participate in the c
 onference.\nIn this regard, on May 18-19, 2021 on the eve of Russian Polar 
 Explorer’s Day (May 21) in St. Petersburg on the basis of the Arctic and An
 tarctic research Institute will be held the next “Polar readings”.\nArctic 
 and Antarctic Research Institute, St Petersburg. Participation via Zoom wil
 l be possible. The deadline for submitting applications for participation a
 nd abstracts (up to 500 words) is March 1, 2021.\nPlease refer to this pape
 r (images/Articles/Files/Polyarnye_chtenia-2021-inf_pismo_1_english_11.pdf)
  for more details.\n \nConference website: <a href="http://polarconf.ru/en/
 1755-2/" title="&lt;a href=">http://polarconf.ru/en/1755-2/</a>\n
X-ALT-DESC;FMTTYPE=text/html:<p style="text-align: center;"><strong>The Ninth Scientific and Practical C
 onference</strong><br /><strong>POLAR READINGS – 2021</strong><br /><strong
 >Art exploration of the Arctic: Polar Regions in culture, art and philosoph
 y</strong></p><p style="text-align: center;"><strong>18-19 May 2021</strong
 ></p><p>&nbsp;</p><p>The next Polar readings (2021) will be devoted to the 
 issues of artistic and philosophical understanding of the Arctic and Antarc
 tic, identifying and forming the meanings that characterize and shape our u
 nderstanding of the Polar regions.</p><p>Specialists, researchers of the Ar
 ctic and Antarctic from research institutes, archives, museums, libraries, 
 representatives of state and public organizations are invited to participat
 e in the conference.</p><p>In this regard, on May 18-19, 2021 on the eve of
  Russian Polar Explorer’s Day (May 21) in St. Petersburg on the basis of th
 e Arctic and Antarctic research Institute will be held the next “Polar read
 ings”.</p><p>Arctic and Antarctic Research Institute, St Petersburg. Partic
 ipation via Zoom will be possible. The deadline for submitting applications
  for participation and abstracts (up to 500 words) is <strong>March 1, 2021
 </strong>.</p><p>Please refer to this <a href="images/Articles/Files/Polyar
 nye_chtenia-2021-inf_pismo_1_english_11.pdf" target="_blank">paper</a> for 
 more details.</p><p>&nbsp;</p><p>Conference website: <em><span style="text-
 decoration: underline;"><span><a href="http://polarconf.ru/en/1755-2/" titl
 e="&lt;a href=" 1755-2="">http://polarconf.ru/en/1755-2/</a></span></span><
 /em></p>
DTSTAMP:20260421T151531Z
DTSTART;TZID=UTC;VALUE=DATE:20210518
DTEND;TZID=UTC;VALUE=DATE:20210520
SEQUENCE:0
TRANSP:OPAQUE
END:VEVENT
END:VCALENDAR