BEGIN:VCALENDAR
VERSION:2.0
PRODID:-//jEvents 2.0 for Joomla//EN
CALSCALE:GREGORIAN
METHOD:PUBLISH
BEGIN:VEVENT
UID:7fc6fde0c577887e1f106d8b1383273e
CATEGORIES:Polar Online Events
CREATED:20210212T085452
SUMMARY:National Science Foundation Program Manager Chat: COVID-19 Update
LOCATION:Online
DESCRIPTION:On February 24, 3pm ET/11am AKT, join the National Science Foundation’s Off
 ice of Polar Program’s Arctic Science Section for program manager outreach.
  This virtual office hour will focus on informing the science community abo
 ut updates to the Arctic Science Section and offering insight into how COVI
 D-19 continues to impact operations. There will also be ample time for the 
 community to ask questions of NSF staff. More information and Zoom connecti
 on information:  (https://www.iarpccollaborations.org/events/20623)<a href=
 "https://www.iarpccollaborations.org/events/20623">https://www.iarpccollabo
 rations.org/events/20623</a>
X-ALT-DESC;FMTTYPE=text/html:<div>On February 24, 3pm ET/11am AKT, join the National Science Foundation’
 s Office of Polar Program’s Arctic Science Section for program manager outr
 each. This virtual office hour will focus on informing the science communit
 y about updates to the Arctic Science Section and offering insight into how
  COVID-19 continues to impact operations. There will also be ample time for
  the community to ask questions of NSF staff.</div><div>&nbsp;</div><div>Mo
 re information and Zoom connection information:&nbsp;<a href="https://www.i
 arpccollaborations.org/events/20623"></a><a href="https://www.iarpccollabor
 ations.org/events/20623">https://www.iarpccollaborations.org/events/20623</
 a></div>
DTSTAMP:20260423T165202Z
DTSTART;TZID=UTC;VALUE=DATE:20210224
DTEND;TZID=UTC;VALUE=DATE:20210225
SEQUENCE:0
TRANSP:OPAQUE
END:VEVENT
END:VCALENDAR