BEGIN:VCALENDAR
VERSION:2.0
PRODID:-//jEvents 2.0 for Joomla//EN
CALSCALE:GREGORIAN
METHOD:PUBLISH
BEGIN:VEVENT
UID:ce38d8b89d1299cefbb428f74051275d
CATEGORIES:Polar Conferences, Meetings and Events
CREATED:20161028T123353
SUMMARY:7th International Conference on Polar and Alpine Microbiology
LOCATION:Nuuk\, Greenland
DESCRIPTION:7th International Conference on Polar and Alpine Microbiology, Nuuk, Greenl
 and, 8-12 September 2017\n\nIncreasing focus on the Arctic region due to cl
 imate change and natural resources such as oil and minerals has made Greenl
 and a hot topic recently and it is of course an excellent place to meet and
  discuss polar and alpine microbiology. The theme of PAM 2017 will be Comin
 g in from the cold: Microbial roles in the warming cryosphere\nThis theme s
 hould reflect that PAM 2017 will place emphasis on novel research showcasin
 g the roles of microbes in the rapidly changing polar and alpine environmen
 ts. Greenland-related research will of course be prominent throughout the c
 onference.\nhttp://pam2017.org/\n
X-ALT-DESC;FMTTYPE=text/html:<p><strong>7th International Conference on Polar and Alpine Microbiology, N
 uuk, Greenland, 8-12 September 2017</strong><br /><br />Increasing focus on
  the Arctic region due to climate change and natural resources such as oil 
 and minerals has made Greenland a hot topic recently and it is of course an
  excellent place to meet and discuss polar and alpine microbiology. The the
 me of PAM 2017 will be Coming in from the cold: Microbial roles in the warm
 ing cryosphere<br />This theme should reflect that PAM 2017 will place emph
 asis on novel research showcasing the roles of microbes in the rapidly chan
 ging polar and alpine environments. Greenland-related research will of cour
 se be prominent throughout the conference.</p><p><a href="http://pam2017.or
 g/">http://pam2017.org/</a></p>
DTSTAMP:20260420T131415Z
DTSTART;TZID=UTC;VALUE=DATE:20170908
DTEND;TZID=UTC;VALUE=DATE:20170913
SEQUENCE:0
TRANSP:OPAQUE
END:VEVENT
END:VCALENDAR