BEGIN:VCALENDAR
VERSION:2.0
PRODID:-//jEvents 2.0 for Joomla//EN
CALSCALE:GREGORIAN
METHOD:PUBLISH
BEGIN:VEVENT
UID:f2ac6cd13fd29379ed53cdc6fab0e8f1
CATEGORIES:Polar Online Events
CREATED:20210216T124906
SUMMARY:16th Conference on Polar Meteorology and Oceanography - Call for abstracts
LOCATION:Online
DESCRIPTION:The 16th Conference on Polar Meteorology and Oceanography, sponsored by the
  American Meteorological Society and organized by the AMS Polar Meteorology
  and Oceanography Committee, will be held 1-4 June, 2021. Due to continued 
 uncertainty and restrictions on travel associated with the COVID-19 pandemi
 c, this conference will take place entirely virtually. Please consider subm
 itting an abstract to this virtual conference.\nPapers are solicited on all
  aspects of polar meteorology and oceanography, including but not limited t
 o:\n-Climate variability and change in the polar regions;\n-Rapid environme
 ntal change in the polar regions;\n-Interactions among polar atmosphere-oce
 an-land-ice components;\n-Atmospheric, ocean, land ice, or sea ice physical
  processes;\n-High latitude atmospheric and oceanic dynamics;\n-Weather and
  climate modelling in the polar regions;\n-Connections of the polar regions
  with the tropics and midlatitudes\nPlease submit your abstract electronica
 lly via the AMS conference website by 5 March 2021 (see the website for ins
 tructions). The abstract submission fee of $95 USD is charged at the time o
 f submission and refundable only if the abstract is not accepted. Authors o
 f accepted presentations will be notified via email by mid April 2021.\nThe
  conference program will be optimized for a virtual platform. Sessions will
  take place during the same set of standard work hours for the contiguous U
 nited States (e.g., 12pm-5pm Eastern time / 11am-4pm Central time / 10am-3p
 m Mountain time / 9am-2pm Pacific time). Live oral and poster sessions will
  not overlap.\nSubmissions by students, early-career scientists, and underr
 epresented groups will be prioritized, and limited funds in the form of reg
 istration fee waivers are available to support participation. Application i
 nstructions will be provided when abstract acceptance notifications are sen
 t.\n\nFor further program information please contact the program chair, Edw
 ard Blanchard-Wrigglesworth, Department of Atmospheric Sciences, University
  of Washington (email:  (mailto:edwardbw@uw.edu)This email address is being
  protected from spambots. You need JavaScript enabled to view it.
				docum
 ent.getElementById('cloak6caa019f63bf454843c8928759af2d06').innerHTML = '';
 
				var prefix = '&#109;a' + 'i&#108;' + '&#116;o';
				var path = 'hr' + 
 'ef' + '=';
				var addy6caa019f63bf454843c8928759af2d06 = '&#101;dw&#97;rd
 bw' + '&#64;';
				addy6caa019f63bf454843c8928759af2d06 = addy6caa019f63bf4
 54843c8928759af2d06 + '&#117;w' + '&#46;' + '&#101;d&#117;';
				var addy_t
 ext6caa019f63bf454843c8928759af2d06 = '&#101;dw&#97;rdbw' + '&#64;' + '&#11
 7;w' + '&#46;' + '&#101;d&#117;';document.getElementById('cloak6caa019f63bf
 454843c8928759af2d06').innerHTML += '<a ' + path + '\'' + prefix + ':' + ad
 dy6caa019f63bf454843c8928759af2d06 + '\'>'+addy_text6caa019f63bf454843c8928
 759af2d06+'';
		).\nTo submit an abstract: <a href="http://ametsoc.informz.
 net/z/cjUucD9taT05ODE3NDAwJnA9MSZ1PTEwODE3ODY5NDAmbGk9ODM2NjAzMjg/index.htm
 l"></a>http://ametsoc.informz.net/z/cjUucD9taT05ODE3NDAwJnA9MSZ1PTEwODE3ODY
 5NDAmbGk9ODM2NjAzMjg/index.html\nMeeting website: <a href="http://ametsoc.i
 nformz.net/z/cjUucD9taT05ODE3NDAwJnA9MSZ1PTEwODE3ODY5NDAmbGk9ODM2NjAzMzA/in
 dex.html"></a>http://ametsoc.informz.net/z/cjUucD9taT05ODE3NDAwJnA9MSZ1PTEw
 ODE3ODY5NDAmbGk9ODM2NjAzMzA/index.html\n
X-ALT-DESC;FMTTYPE=text/html:<p style="text-align: justify;">The <strong>16th Conference on Polar Meteor
 ology and Oceanography</strong>, sponsored by the American Meteorological S
 ociety and organized by the AMS Polar Meteorology and Oceanography Committe
 e, will be held <strong>1-4 June, 2021</strong>. Due to continued uncertain
 ty and restrictions on travel associated with the COVID-19 pandemic, this c
 onference will take place entirely virtually. Please consider submitting an
  abstract to this virtual conference.</p><p style="text-align: justify;">Pa
 pers are solicited on all aspects of polar meteorology and oceanography, in
 cluding but not limited to:</p><p style="text-align: justify;">-Climate var
 iability and change in the polar regions;<br />-Rapid environmental change 
 in the polar regions;<br />-Interactions among polar atmosphere-ocean-land-
 ice components;<br />-Atmospheric, ocean, land ice, or sea ice physical pro
 cesses;<br />-High latitude atmospheric and oceanic dynamics;<br />-Weather
  and climate modelling in the polar regions;<br />-Connections of the polar
  regions with the tropics and midlatitudes</p><p style="text-align: justify
 ;">Please <strong>submit your abstract</strong> electronically via the AMS 
 conference website by<strong> 5 March 2021</strong> (see the website for in
 structions). The abstract submission fee of $95 USD is charged at the time 
 of submission and refundable only if the abstract is not accepted. Authors 
 of accepted presentations will be notified via email by mid April 2021.</p>
 <p style="text-align: justify;">The conference program will be optimized fo
 r a virtual platform. Sessions will take place during the same set of stand
 ard work hours for the contiguous United States (e.g., 12pm-5pm Eastern tim
 e / 11am-4pm Central time / 10am-3pm Mountain time / 9am-2pm Pacific time).
  Live oral and poster sessions will not overlap.</p><p style="text-align: j
 ustify;">Submissions by students, early-career scientists, and underreprese
 nted groups will be prioritized, and limited funds in the form of registrat
 ion fee waivers are available to support participation. Application instruc
 tions will be provided when abstract acceptance notifications are sent.</p>
 <p style="text-align: left;"><br />For further program information please c
 ontact the program chair, Edward Blanchard-Wrigglesworth, Department of Atm
 ospheric Sciences, University of Washington (email: <a href="mailto:edwardb
 w@uw.edu"></a><span id="cloak6caa019f63bf454843c8928759af2d06">This email a
 ddress is being protected from spambots. You need JavaScript enabled to vie
 w it.</span><script type='text/javascript'>
				document.getElementById('cl
 oak6caa019f63bf454843c8928759af2d06').innerHTML = '';
				var prefix = '&#1
 09;a' + 'i&#108;' + '&#116;o';
				var path = 'hr' + 'ef' + '=';
				var ad
 dy6caa019f63bf454843c8928759af2d06 = '&#101;dw&#97;rdbw' + '&#64;';
				add
 y6caa019f63bf454843c8928759af2d06 = addy6caa019f63bf454843c8928759af2d06 + 
 '&#117;w' + '&#46;' + '&#101;d&#117;';
				var addy_text6caa019f63bf454843c
 8928759af2d06 = '&#101;dw&#97;rdbw' + '&#64;' + '&#117;w' + '&#46;' + '&#10
 1;d&#117;';document.getElementById('cloak6caa019f63bf454843c8928759af2d06')
 .innerHTML += '<a ' + path + '\'' + prefix + ':' + addy6caa019f63bf454843c8
 928759af2d06 + '\'>'+addy_text6caa019f63bf454843c8928759af2d06+'<\/a>';
		<
 /script>).</p><p style="text-align: left;">To submit an abstract: <a href="
 http://ametsoc.informz.net/z/cjUucD9taT05ODE3NDAwJnA9MSZ1PTEwODE3ODY5NDAmbG
 k9ODM2NjAzMjg/index.html"></a><a href="http://ametsoc.informz.net/z/cjUucD9
 taT05ODE3NDAwJnA9MSZ1PTEwODE3ODY5NDAmbGk9ODM2NjAzMjg/index.html" target="_b
 lank" rel="noopener">http://ametsoc.informz.net/z/cjUucD9taT05ODE3NDAwJnA9M
 SZ1PTEwODE3ODY5NDAmbGk9ODM2NjAzMjg/index.html</a></p><p style="text-align: 
 left;">Meeting website: <a href="http://ametsoc.informz.net/z/cjUucD9taT05O
 DE3NDAwJnA9MSZ1PTEwODE3ODY5NDAmbGk9ODM2NjAzMzA/index.html"></a><a href="htt
 p://ametsoc.informz.net/z/cjUucD9taT05ODE3NDAwJnA9MSZ1PTEwODE3ODY5NDAmbGk9O
 DM2NjAzMzA/index.html" target="_blank" rel="noopener">http://ametsoc.inform
 z.net/z/cjUucD9taT05ODE3NDAwJnA9MSZ1PTEwODE3ODY5NDAmbGk9ODM2NjAzMzA/index.h
 tml</a></p>
DTSTAMP:20260419T224910Z
DTSTART;TZID=UTC;VALUE=DATE:20210601
DTEND;TZID=UTC;VALUE=DATE:20210605
SEQUENCE:0
TRANSP:OPAQUE
END:VEVENT
END:VCALENDAR