BEGIN:VCALENDAR
VERSION:2.0
PRODID:-//jEvents 2.0 for Joomla//EN
CALSCALE:GREGORIAN
METHOD:PUBLISH
BEGIN:VEVENT
UID:e5f5867ac054c3156c1cdf1b5716dac9
CATEGORIES:APECS Events
CREATED:20210216T133131
SUMMARY:APECS/YESS/YOPP Workshop at ASSW2021
LOCATION:Online
DESCRIPTION:Session 1 “Home Office (Fatigue) and Zoom Networking – COVID-19 and ECRs”: 
 Sunday, 21 March 2021; 06:00 – 07:30 GMT Session 2 “The 4 Essential Cs - Co
 ordination, Communication, Community, and Collaboration”: Sunday, 21 March 
 2021; 16:00 – 17:30 GMT Session 3 “Predict and Predictability – The Arctic 
 YOPP”: Monday, 22 March 2021; 12:00 – 13:30 GMT\n\nFor more information, pl
 ease visit the workshop webpage (upcoming-event-highlights/apecs-yess-yopp-
 ecr-workshop-at-assw2021.html).\n
X-ALT-DESC;FMTTYPE=text/html:<div class="gmail_default"><strong>Session 1</strong>&nbsp;“Home Office (Fa
 tigue) and Zoom Networking – COVID-19 and ECRs”:&nbsp;<strong>Sunday, 21 Ma
 rch 2021; 06:00 – 07:30 GMT&nbsp;</strong></div><div class="gmail_default">
 <strong>Session 2</strong>&nbsp;“The 4 Essential Cs - Coordination, Communi
 cation, Community, and Collaboration”:&nbsp;<strong>Sunday, 21 March 2021; 
 16:00 – 17:30 GMT&nbsp;</strong></div><div class="gmail_default"><strong>Se
 ssion 3</strong>&nbsp;“Predict and Predictability – The Arctic YOPP”:&nbsp;
 <strong>Monday, 22 March 2021; 12:00 – 13:30 GMT<br /><br /></strong>For mo
 re information, please visit the <a href="upcoming-event-highlights/apecs-y
 ess-yopp-ecr-workshop-at-assw2021.html">workshop webpage</a>.<strong><br />
 </strong></div>
DTSTAMP:20260420T151035Z
DTSTART;TZID=UTC;VALUE=DATE:20210321
DTEND;TZID=UTC;VALUE=DATE:20210323
SEQUENCE:0
TRANSP:OPAQUE
END:VEVENT
END:VCALENDAR