BEGIN:VCALENDAR
VERSION:2.0
PRODID:-//jEvents 2.0 for Joomla//EN
CALSCALE:GREGORIAN
METHOD:PUBLISH
BEGIN:VEVENT
UID:b38558fdcbbebb40378ed25f935f1cd0
CATEGORIES:Polar Online Events
CREATED:20210217T083621
SUMMARY:New international ice-core seminar series: first seminar advertisement
LOCATION:Online
DESCRIPTION:<p><strong>Ice Core Young Scientists (ICYS)</strong> is happy to announce a
  new international ice-core seminar series starting February 25<sup>th</sup
 >, with the support of the International Partnership in Ice Core Sciences (
 IPICS).</p><p>We will be holding monthly seminars each with two talks, one 
 from a senior researcher, followed by an early-career researcher (ECR) in a
  similar research theme. There will be plenty of time for questions and dis
 cussion.</p><p>The series aims to provide much needed scientific interactio
 ns between researchers at all stages in their careers, especially given the
  cancellation of in-person conferences at this time.</p><p>Our first semina
 r will take place on <strong>February 25<sup>th</sup> </strong>at <strong>1
 9:00 – 20:00 UTC</strong>:</p><ol><li><strong>Mass spectrometry under the i
 ce&nbsp;- Carlo Barbante</strong> (Ca' Foscari University of Venice, Italy)
 .</li><li><strong>High res = high gain? New frontiers in ice core trace ele
 ment analysis with laser </strong><strong>ablation ICP-MS&nbsp;- Pascal Boh
 leber</strong> (Ca' Foscari University of Venice, Italy).</li></ol><p>We wi
 ll also be hearing more details on the new DEEPICE training network:</p><ol
 ><li><strong>DEEPICE: A new r</strong><strong>esearch &amp; training networ
 k on understanding proxies from Antarctic deep ice</strong>&nbsp;- Emilie C
 apron (Institut des Geosciences et de l’Environment (IGE), France).</li></o
 l><p><strong>To receive the zoom link for the seminar, please email: </stro
 ng><a href="mailto:icecoreys@gmail.com"></a><strong><span id="cloakad30bd79
 56c57bac175f80aa1cd6c89f">This email address is being protected from spambo
 ts. You need JavaScript enabled to view it.</span><script type='text/javasc
 ript'>
				document.getElementById('cloakad30bd7956c57bac175f80aa1cd6c89f')
 .innerHTML = '';
				var prefix = '&#109;a' + 'i&#108;' + '&#116;o';
				va
 r path = 'hr' + 'ef' + '=';
				var addyad30bd7956c57bac175f80aa1cd6c89f = 
 '&#105;c&#101;c&#111;r&#101;ys' + '&#64;';
				addyad30bd7956c57bac175f80aa
 1cd6c89f = addyad30bd7956c57bac175f80aa1cd6c89f + 'gm&#97;&#105;l' + '&#46;
 ' + 'c&#111;m';
				var addy_textad30bd7956c57bac175f80aa1cd6c89f = '&#105;
 c&#101;c&#111;r&#101;ys' + '&#64;' + 'gm&#97;&#105;l' + '&#46;' + 'c&#111;m
 ';document.getElementById('cloakad30bd7956c57bac175f80aa1cd6c89f').innerHTM
 L += '<a ' + path + '\'' + prefix + ':' + addyad30bd7956c57bac175f80aa1cd6c
 89f + '\' target="_blank">'+addy_textad30bd7956c57bac175f80aa1cd6c89f+'<\/a
 >';
		</script></strong><strong>, with the header ‘Seminar’. </strong>The l
 ink will be emailed out to you ~24 hrs before the seminar.</p><p>More infor
 mation about future talks will be posted on the ICYS PAGES <a href="http://
 pastglobalchanges.org/science/end-aff/icys" target="_blank" rel="noopener">
 website </a>and on twitter @ICYSci.</p><p>We look forward to lots of you jo
 ining the talks, and welcome anyone who is keen to give a presentation of t
 heir work to get in touch with us via <a href="mailto:icecoreys@gmail.com">
 </a><strong><span id="cloakd5e06d4238a1e742e1807b872db1b7d3">This email add
 ress is being protected from spambots. You need JavaScript enabled to view 
 it.</span><script type='text/javascript'>
				document.getElementById('cloa
 kd5e06d4238a1e742e1807b872db1b7d3').innerHTML = '';
				var prefix = '&#109
 ;a' + 'i&#108;' + '&#116;o';
				var path = 'hr' + 'ef' + '=';
				var addy
 d5e06d4238a1e742e1807b872db1b7d3 = '&#105;c&#101;c&#111;r&#101;ys' + '&#64;
 ';
				addyd5e06d4238a1e742e1807b872db1b7d3 = addyd5e06d4238a1e742e1807b872
 db1b7d3 + 'gm&#97;&#105;l' + '&#46;' + 'c&#111;m';
				var addy_textd5e06d4
 238a1e742e1807b872db1b7d3 = '&#105;c&#101;c&#111;r&#101;ys' + '&#64;' + 'gm
 &#97;&#105;l' + '&#46;' + 'c&#111;m';document.getElementById('cloakd5e06d42
 38a1e742e1807b872db1b7d3').innerHTML += '<a ' + path + '\'' + prefix + ':' 
 + addyd5e06d4238a1e742e1807b872db1b7d3 + '\'>'+addy_textd5e06d4238a1e742e18
 07b872db1b7d3+'<\/a>';
		</script></strong><strong>.</strong></p>
DTSTAMP:20260419T205134Z
DTSTART;TZID=UTC:20210225T190000
DTEND;TZID=UTC:20210225T200000
SEQUENCE:0
TRANSP:OPAQUE
END:VEVENT
END:VCALENDAR