BEGIN:VCALENDAR
VERSION:2.0
PRODID:-//jEvents 2.0 for Joomla//EN
CALSCALE:GREGORIAN
METHOD:PUBLISH
BEGIN:VEVENT
UID:e24f8b952e278be3bef3891cbe483e85
CATEGORIES:Polar Online Events
CREATED:20210222T132903
SUMMARY:IGS Global Seminar Series - Feb 24th Alex Robel Georgia Tech
LOCATION:Online
DESCRIPTION:International Glaciological Society Global Seminar Series 2021 #35\nWednesd
 ay Feb 24th\nAlex Robel, Georgia Tech\n"Beyond the Ice Sheet Stability Bina
 ry"\nYou need to register in advance for the seminars, but your registratio
 n should last for several seminars. If it was a while ago that you register
 ed - check your link still works and drop me an email if it doesn't. There'
 s a short question to answer - please tell me enough to accept you! I'll be
  doing that manually, so just be kind and make it obvious (even if I met yo
 u once at AGU)… (something like: I'm a PhD student with X... or whatever). 
 Using your official university email address would make my life particularl
 y easy! https://tinyurl.com/yyhbcqrq (https://swanseauniversity.zoom.us/mee
 ting/register/tJUqfuirrzouG9C5Dj7FfLjpsy3cINaVRWK6?fbclid=IwAR37piz-Ii8mFaa
 RGuFsShgiB9_4SrmSWncCCxRIvNSchnr6EB0mxnr-Rxo)\nAfter registering, you will 
 receive a confirmation email containing information about joining the semin
 ar. If you attended this week you use the same link next week and don't nee
 d to re-register.\n\n - March 3rd Three shorter talks:\nLavanya Ashokkumar,
  University of Arizona, "Global sea-level estimates from glaciers"\nJullian
  Williams, U Texas, San Antonio, "Sea Ice lead detection in the Arctic"\nAn
 na Bergstrom, Boise State University, "The role of sediment on hydrological
  and biogeochemical connectivity on McMurdo Dry Valley Glaciers, Antarctica
 "\n - March 10th Jon Hawkings (Florida State), Martin Tranter (Bristol), Ma
 rk Skidmore (Montana State) "Biogeochemistry of ice sheet meltwater: surfac
 e, bed and runoff"\n\n\n - March 17th Three shorter talks:\nMaurice van Tig
 gelen, Utrecht University, "The turbulent but predictable relationship betw
 een rough Greenland ice and the atmosphere : the story from a drone, ICESat
  -2 and several eddy covariance stations"\nLynn Kaluzienski, University of 
 Maine, "Modelling Ross Ice Shelf Sensitivity to Changes at its Western Late
 ral Margin using the Ice Sheet System Model (ISSM)"\nRiley Culberg, Stanfor
 d Radio Glaciology, Title tba\n - March 24th Dustin Schroeder, Stanford, "P
 aths Forward in Radioglaciology"\n\n\n - March 31st Drew Christ, University
  of Vermont, "A multi-million-year-old record of Greenland vegetation and g
 lacial history preserved in sediment beneath 1.4 km of ice at Camp Century"
 \n\n\n - April 14th Joseph Graly, Northumbria University, "What do we know 
 about subglacial geochemistry?"\n\n\n - April 21st Lauren Simkins, Universi
 ty of Virginia, "Landform evidence of persistent subglacial plumbing near g
 rounding lines"\n\n\n - April 28th Jan Lenaerts, University of Boulder at C
 olorado, “Scratching the ice sheet surface: surface processes from observat
 ions and numerical models\n\n\n - May 5th Three shorter talks: details tba.
  If you want one of these slots please contact IGS Early Career Glaciology 
 Group &lt;<a href="mailto:egg@igsoc.org"></a>This email address is being pr
 otected from spambots. You need JavaScript enabled to view it.
				document
 .getElementById('cloak3c799a3c9a8b5359c753118bb9e3cea3').innerHTML = '';
		
 		var prefix = '&#109;a' + 'i&#108;' + '&#116;o';
				var path = 'hr' + 'ef
 ' + '=';
				var addy3c799a3c9a8b5359c753118bb9e3cea3 = '&#101;gg' + '&#64;
 ';
				addy3c799a3c9a8b5359c753118bb9e3cea3 = addy3c799a3c9a8b5359c753118bb
 9e3cea3 + '&#105;gs&#111;c' + '&#46;' + '&#111;rg';
				var addy_text3c799a
 3c9a8b5359c753118bb9e3cea3 = '&#101;gg' + '&#64;' + '&#105;gs&#111;c' + '&#
 46;' + '&#111;rg';document.getElementById('cloak3c799a3c9a8b5359c753118bb9e
 3cea3').innerHTML += '<a ' + path + '\'' + prefix + ':' + addy3c799a3c9a8b5
 359c753118bb9e3cea3 + '\'>'+addy_text3c799a3c9a8b5359c753118bb9e3cea3+'';
	
 	&gt;\n\n\n - May 12th Martin Schneebeli, WSL Institute for Snow and Avalan
 che Research, Davos, "Seeing snow on sea ice during the MOSAiC expedition"\
 n\n\n - May 19th Hilmar Gudmundsson, University of Northumbria\n\n\n - June
  2nd Three shorter talks: details tba. If you want one of these slots pleas
 e contact IGS Early Career Glaciology Group &lt; (mailto:egg@igsoc.org)This
  email address is being protected from spambots. You need JavaScript enable
 d to view it.
				document.getElementById('cloak5742635ae31dd02947bea1d463a
 67008').innerHTML = '';
				var prefix = '&#109;a' + 'i&#108;' + '&#116;o';
 
				var path = 'hr' + 'ef' + '=';
				var addy5742635ae31dd02947bea1d463a6
 7008 = '&#101;gg' + '&#64;';
				addy5742635ae31dd02947bea1d463a67008 = add
 y5742635ae31dd02947bea1d463a67008 + '&#105;gs&#111;c' + '&#46;' + '&#111;rg
 ';
				var addy_text5742635ae31dd02947bea1d463a67008 = '&#101;gg' + '&#64;'
  + '&#105;gs&#111;c' + '&#46;' + '&#111;rg';document.getElementById('cloak5
 742635ae31dd02947bea1d463a67008').innerHTML += '<a ' + path + '\'' + prefix
  + ':' + addy5742635ae31dd02947bea1d463a67008 + '\'>'+addy_text5742635ae31d
 d02947bea1d463a67008+'';
		&gt;\n\n\n - June 16th Miriam Jackson, ICIMODSem
 inar times:\nLondon - 9pm\nEurope - 10pm\nEast Coast US - 4pm\nWest Coast U
 S - 1pm\nDelhi (+1) - 2.30am (sorry!)\nTokyo (+1) - 6am\nSydney (+1) - 8am\
 nNew Zealand (+1) - 10am\nThe seminar will also be recorded and posted to t
 he Friends of the International Glaciological Society Facebook page after t
 he seminar so that you can watch it afterwards if technology fails or you c
 an't make it! Hope to see you there!\n
X-ALT-DESC;FMTTYPE=text/html:<p><strong>International Glaciological Society Global Seminar Series 2021 #
 35</strong></p><p>Wednesday <strong>Feb 24th<br /></strong>Alex Robel, Geor
 gia Tech<br />"<em>Beyond the Ice Sheet Stability Binary</em>"</p><p style=
 "text-align: justify;">You need to register in advance for the seminars, bu
 t your registration should last for several seminars. If it was a while ago
  that you registered - check your link still works and drop me an email if 
 it doesn't. There's a short question to answer - please tell me enough to a
 ccept you! I'll be doing that manually, so just be kind and make it obvious
  (even if I met you once at AGU)… (something like: I'm a PhD student with X
 ... or whatever). Using your official university email address would make m
 y life particularly easy! <a href="https://swanseauniversity.zoom.us/meetin
 g/register/tJUqfuirrzouG9C5Dj7FfLjpsy3cINaVRWK6?fbclid=IwAR37piz-Ii8mFaaRGu
 FsShgiB9_4SrmSWncCCxRIvNSchnr6EB0mxnr-Rxo" target="_blank" rel="noopener">h
 ttps://tinyurl.com/yyhbcqrq</a></p><p style="text-align: justify;">After re
 gistering, you will receive a confirmation email containing information abo
 ut joining the seminar. If you attended this week you use the same link nex
 t week and don't need to re-register.</p><ul><li>March 3rd Three shorter ta
 lks:<br /><strong>Lavanya Ashokkumar</strong>, University of Arizona, "Glob
 al sea-level estimates from glaciers"<br /><strong>Jullian Williams</strong
 >, U Texas, San Antonio, "Sea Ice lead detection in the Arctic"<br /><stron
 g>Anna Bergstrom</strong>, Boise State University, "The role of sediment on
  hydrological and biogeochemical connectivity on McMurdo Dry Valley Glacier
 s, Antarctica"</li></ul><ul><li>March 10th <strong>Jon Hawkings</strong> (F
 lorida State), <strong>Martin Tranter</strong> (Bristol), <strong>Mark Skid
 more</strong> (Montana State) "Biogeochemistry of ice sheet meltwater: surf
 ace, bed and runoff"<br /><br /></li><li>March 17th Three shorter talks:<br
  /><strong>Maurice van Tiggelen</strong>, Utrecht University, "The turbulen
 t but predictable relationship between rough Greenland ice and the atmosphe
 re : the story from a drone, ICESat -2 and several eddy covariance stations
 "<br /><strong>Lynn Kaluzienski</strong>, University of Maine, "Modelling R
 oss Ice Shelf Sensitivity to Changes at its Western Lateral Margin using th
 e Ice Sheet System Model (ISSM)"<br /><strong>Riley Culberg</strong>, Stanf
 ord Radio Glaciology, Title tba</li></ul><ul><li>March 24th <strong>Dustin 
 Schroeder</strong>, Stanford, "Paths Forward in Radioglaciology"<br /><br /
 ></li><li>March 31st <strong>Drew Christ</strong>, University of Vermont, "
 A multi-million-year-old record of Greenland vegetation and glacial history
  preserved in sediment beneath 1.4 km of ice at Camp Century"<br /><br /></
 li><li>April 14th <strong>Joseph Graly</strong>, Northumbria University, "W
 hat do we know about subglacial geochemistry?"<br /><br /></li><li>April 21
 st <strong>Lauren Simkins</strong>, University of Virginia, "Landform evide
 nce of persistent subglacial plumbing near grounding lines"<br /><br /></li
 ><li>April 28th <strong>Jan Lenaerts</strong>, University of Boulder at Col
 orado, “Scratching the ice sheet surface: surface processes from observatio
 ns and numerical models<br /><br /></li><li>May 5th Three shorter talks: de
 tails tba. If you want one of these slots please contact IGS Early Career G
 laciology Group &lt;<a href="mailto:egg@igsoc.org"></a><span id="cloak3c799
 a3c9a8b5359c753118bb9e3cea3">This email address is being protected from spa
 mbots. You need JavaScript enabled to view it.</span><script type='text/jav
 ascript'>
				document.getElementById('cloak3c799a3c9a8b5359c753118bb9e3cea
 3').innerHTML = '';
				var prefix = '&#109;a' + 'i&#108;' + '&#116;o';
			
 	var path = 'hr' + 'ef' + '=';
				var addy3c799a3c9a8b5359c753118bb9e3cea3
  = '&#101;gg' + '&#64;';
				addy3c799a3c9a8b5359c753118bb9e3cea3 = addy3c7
 99a3c9a8b5359c753118bb9e3cea3 + '&#105;gs&#111;c' + '&#46;' + '&#111;rg';
	
 			var addy_text3c799a3c9a8b5359c753118bb9e3cea3 = '&#101;gg' + '&#64;' + '
 &#105;gs&#111;c' + '&#46;' + '&#111;rg';document.getElementById('cloak3c799
 a3c9a8b5359c753118bb9e3cea3').innerHTML += '<a ' + path + '\'' + prefix + '
 :' + addy3c799a3c9a8b5359c753118bb9e3cea3 + '\'>'+addy_text3c799a3c9a8b5359
 c753118bb9e3cea3+'<\/a>';
		</script>&gt;<br /><br /></li><li>May 12th <str
 ong>Martin Schneebeli</strong>, WSL Institute for Snow and Avalanche Resear
 ch, Davos, "Seeing snow on sea ice during the MOSAiC expedition"<br /><br /
 ></li><li>May 19th <strong>Hilmar Gudmundsson</strong>, University of North
 umbria<br /><br /></li><li>June 2nd Three shorter talks: details tba. If yo
 u want one of these slots please contact IGS Early Career Glaciology Group 
 &lt;<a href="mailto:egg@igsoc.org"></a><span id="cloak5742635ae31dd02947bea
 1d463a67008">This email address is being protected from spambots. You need 
 JavaScript enabled to view it.</span><script type='text/javascript'>
				do
 cument.getElementById('cloak5742635ae31dd02947bea1d463a67008').innerHTML = 
 '';
				var prefix = '&#109;a' + 'i&#108;' + '&#116;o';
				var path = 'hr'
  + 'ef' + '=';
				var addy5742635ae31dd02947bea1d463a67008 = '&#101;gg' + 
 '&#64;';
				addy5742635ae31dd02947bea1d463a67008 = addy5742635ae31dd02947b
 ea1d463a67008 + '&#105;gs&#111;c' + '&#46;' + '&#111;rg';
				var addy_text
 5742635ae31dd02947bea1d463a67008 = '&#101;gg' + '&#64;' + '&#105;gs&#111;c'
  + '&#46;' + '&#111;rg';document.getElementById('cloak5742635ae31dd02947bea
 1d463a67008').innerHTML += '<a ' + path + '\'' + prefix + ':' + addy5742635
 ae31dd02947bea1d463a67008 + '\'>'+addy_text5742635ae31dd02947bea1d463a67008
 +'<\/a>';
		</script>&gt;<br /><br /></li><li>June 16th <strong>Miriam Jack
 son</strong>, ICIMOD</li></ul><p><strong>Seminar times:<br /></strong>Londo
 n - 9pm<br />Europe - 10pm<br />East Coast US - 4pm<br />West Coast US - 1p
 m<br />Delhi (+1) - 2.30am (sorry!)<br />Tokyo (+1) - 6am<br />Sydney (+1) 
 - 8am<br />New Zealand (+1) - 10am</p><p>The seminar will also be recorded 
 and posted to the Friends of the International Glaciological Society Facebo
 ok page after the seminar so that you can watch it afterwards if technology
  fails or you can't make it! Hope to see you there!</p>
DTSTAMP:20260420T150740Z
DTSTART;TZID=UTC;VALUE=DATE:20210224
DTEND;TZID=UTC;VALUE=DATE:20210225
SEQUENCE:0
TRANSP:OPAQUE
END:VEVENT
END:VCALENDAR