BEGIN:VCALENDAR
VERSION:2.0
PRODID:-//jEvents 2.0 for Joomla//EN
CALSCALE:GREGORIAN
METHOD:PUBLISH
BEGIN:VEVENT
UID:8f848f5b93faab05f3e75dac3c176953
CATEGORIES:APECS Events
CREATED:20210226T170352
SUMMARY:Online Technical Training: How to build a Sea Robot
LOCATION:Online
DESCRIPTION:Date: 30 March 2021\nTime: 8:00 – 11:30 GMT\nCourse summary: An introductio
 n into the engineer's approach for developing scientific subsea technology.
  Emphasis is on enhancing understanding and communication between engineers
  and scientists in polar marine research. In addition to the theoretical pa
 rt which includes principal considerations and limitations, construction de
 sign and 3D modeling, participants will use this knowledge to design a mari
 ne robot themselves!\nFor further information and to register, please visit
  the .\n
X-ALT-DESC;FMTTYPE=text/html:<p><strong>Date: 30 March 2021<br />Time: 8:00 – 11:30 GMT</strong></p><p><
 strong>Course summary: </strong>An introduction into the engineer's approac
 h for developing scientific subsea technology. Emphasis is on enhancing und
 erstanding and communication between engineers and scientists in polar mari
 ne research. In addition to the theoretical part which includes principal c
 onsiderations and limitations, construction design and 3D modeling, partici
 pants will use this knowledge to design a marine robot themselves!</p><p>Fo
 r further information and to register, please visit the <a href="index.php?
 option=com_content&amp;view=category&amp;id=413" target="_blank">Online Tec
 hnical Training webpage</a>.</p>
CONTACT:This email address is being protected from spambots. You need JavaScript enabled to view it.
				document.getElementById('cloak481c2bc603af85939f9830acfcc19741').innerHTML = '';
				var prefix = '&#109;a' + 'i&#108;' + '&#116;o';
				var path = 'hr' + 'ef' + '=';
				var addy481c2bc603af85939f9830acfcc19741 = '&#105;nf&#111;' + '&#64;';
				addy481c2bc603af85939f9830acfcc19741 = addy481c2bc603af85939f9830acfcc19741 + '&#97;p&#101;cs' + '&#46;' + '&#105;s';
				var addy_text481c2bc603af85939f9830acfcc19741 = '&#105;nf&#111;' + '&#64;' + '&#97;p&#101;cs' + '&#46;' + '&#105;s';document.getElementById('cloak481c2bc603af85939f9830acfcc19741').innerHTML += '<a ' + path + '\'' + prefix + ':' + addy481c2bc603af85939f9830acfcc19741 + '\'>'+addy_text481c2bc603af85939f9830acfcc19741+'';
		
DTSTAMP:20260422T213850Z
DTSTART;TZID=UTC:20210330T080000
DTEND;TZID=UTC:20210330T113000
SEQUENCE:0
TRANSP:OPAQUE
END:VEVENT
END:VCALENDAR