BEGIN:VCALENDAR
VERSION:2.0
PRODID:-//jEvents 2.0 for Joomla//EN
CALSCALE:GREGORIAN
METHOD:PUBLISH
BEGIN:VEVENT
UID:c2339025a08fe17955867de0bbbd362d
CATEGORIES:APECS Events
CREATED:20210226T170555
SUMMARY:Online Technical Training: Mooring operations in polar waters 
LOCATION:Online
DESCRIPTION:Date: 13 April 2021\nTime: 9:00 – 10:30 GMT\nCourse summary: Fixed ocean mo
 orings are the main platforms to provide long-term observations of marine e
 nvironment, covering different time scales from shorter than hourly to mont
 hly, seasonal and multi-annual measurements. Moored instruments can measure
  different ocean variables, including physical, biogeochemical and biologic
 al parameters (and also collect samples and visual images) in the entire wa
 ter column, also under the sea ice. However, mooring operations in the dema
 nding, ice-covered polar areas are linked to unique challenges, related bot
 h to the platform design (instrumentation and mooring hardware) and to the 
 manner of deployment and recovery from an icebreaker in conditions of parti
 al or even sea ice cover. During this short course, we will introduce the m
 ain issues about how to plan, design, equip and operate a mooring for measu
 rements in the polar region and discuss planning the campaign and specific 
 ship operations for deployment and recovery of moorings in ice-covered wate
 rs. The details of such work will be explored using a case study with the d
 eep ocean acoustic multidisciplinary moorings deployed under the CAATEX pro
 ject for 2019-2020 in the Arctic Ocean from the Norwegian Coast Guard icebr
 eaker KV Svalbard.\nFor further information and to register, please visit t
 he .\n
X-ALT-DESC;FMTTYPE=text/html:<p><strong><strong>Date: 13 April 2021<br />Time: 9:00 – 10:30 GMT</strong>
 </strong></p><p><strong>Course summary:</strong> Fixed ocean moorings are t
 he main platforms to provide long-term observations of marine environment, 
 covering different time scales from shorter than hourly to monthly, seasona
 l and multi-annual measurements. Moored instruments can measure different o
 cean variables, including physical, biogeochemical and biological parameter
 s (and also collect samples and visual images) in the entire water column, 
 also under the sea ice. However, mooring operations in the demanding, ice-c
 overed polar areas are linked to unique challenges, related both to the pla
 tform design (instrumentation and mooring hardware) and to the manner of de
 ployment and recovery from an icebreaker in conditions of partial or even s
 ea ice cover. During this short course, we will introduce the main issues a
 bout how to plan, design, equip and operate a mooring for measurements in t
 he polar region and discuss planning the campaign and specific ship operati
 ons for deployment and recovery of moorings in ice-covered waters. The deta
 ils of such work will be explored using a case study with the deep ocean ac
 oustic multidisciplinary moorings deployed under the CAATEX project for 201
 9-2020 in the Arctic Ocean from the Norwegian Coast Guard icebreaker KV Sva
 lbard.</p><p>For further information and to register, please visit the <a h
 ref="index.php?option=com_content&amp;view=category&amp;id=413" target="_bl
 ank">Online Technical Training webpage</a>.</p>
CONTACT:This email address is being protected from spambots. You need JavaScript enabled to view it.
				document.getElementById('cloak6993b90c9e86b12b1e320026ce129323').innerHTML = '';
				var prefix = '&#109;a' + 'i&#108;' + '&#116;o';
				var path = 'hr' + 'ef' + '=';
				var addy6993b90c9e86b12b1e320026ce129323 = '&#105;nf&#111;' + '&#64;';
				addy6993b90c9e86b12b1e320026ce129323 = addy6993b90c9e86b12b1e320026ce129323 + '&#97;p&#101;cs' + '&#46;' + '&#105;s';
				var addy_text6993b90c9e86b12b1e320026ce129323 = '&#105;nf&#111;' + '&#64;' + '&#97;p&#101;cs' + '&#46;' + '&#105;s';document.getElementById('cloak6993b90c9e86b12b1e320026ce129323').innerHTML += '<a ' + path + '\'' + prefix + ':' + addy6993b90c9e86b12b1e320026ce129323 + '\'>'+addy_text6993b90c9e86b12b1e320026ce129323+'';
		
DTSTAMP:20260421T132529Z
DTSTART;TZID=UTC:20210413T090000
DTEND;TZID=UTC:20210413T103000
SEQUENCE:0
TRANSP:OPAQUE
END:VEVENT
END:VCALENDAR