BEGIN:VCALENDAR
VERSION:2.0
PRODID:-//jEvents 2.0 for Joomla//EN
CALSCALE:GREGORIAN
METHOD:PUBLISH
BEGIN:VEVENT
UID:fda0a217d742f9074703a4825fb0b16f
CATEGORIES:APECS Events
CREATED:20210226T170840
SUMMARY:Online Technical Training: Technical Science Support at the British Antarctic Survey
LOCATION:Online
DESCRIPTION:Date: 14 April 2021\nTime: 8:00 – 9:30 GMT\n\nCourse summary: This course p
 resents an overview of BAS’s equipment options, spares, how we do things, w
 hat we can do better, and what we think we do well, followed by a discussio
 n on best practice.\nFor further information and to register, please visit 
 the .\n
X-ALT-DESC;FMTTYPE=text/html:<p><strong><strong><strong><strong>Date: 14 April 2021<br />Time: 8:00 – 9:
 30 GMT<br /></strong></strong></strong></strong></p><p><strong>Course summa
 ry:</strong> This course presents an overview of BAS’s equipment options, s
 pares, how we do things, what we can do better, and what we think we do wel
 l, followed by a discussion on best practice.</p><p>For further information
  and to register, please visit the <a href="index.php?option=com_content&am
 p;view=category&amp;id=413" target="_blank">Online Technical Training webpa
 ge</a>.</p>
CONTACT:This email address is being protected from spambots. You need JavaScript enabled to view it.
				document.getElementById('cloak4044b7660ab4e19321f3d919b3923b08').innerHTML = '';
				var prefix = '&#109;a' + 'i&#108;' + '&#116;o';
				var path = 'hr' + 'ef' + '=';
				var addy4044b7660ab4e19321f3d919b3923b08 = '&#105;nf&#111;' + '&#64;';
				addy4044b7660ab4e19321f3d919b3923b08 = addy4044b7660ab4e19321f3d919b3923b08 + '&#97;p&#101;cs' + '&#46;' + '&#105;s';
				var addy_text4044b7660ab4e19321f3d919b3923b08 = '&#105;nf&#111;' + '&#64;' + '&#97;p&#101;cs' + '&#46;' + '&#105;s';document.getElementById('cloak4044b7660ab4e19321f3d919b3923b08').innerHTML += '<a ' + path + '\'' + prefix + ':' + addy4044b7660ab4e19321f3d919b3923b08 + '\'>'+addy_text4044b7660ab4e19321f3d919b3923b08+'';
		
DTSTAMP:20260420T163110Z
DTSTART;TZID=UTC:20210414T080000
DTEND;TZID=UTC:20210414T093000
SEQUENCE:0
TRANSP:OPAQUE
END:VEVENT
END:VCALENDAR