BEGIN:VCALENDAR
VERSION:2.0
PRODID:-//jEvents 2.0 for Joomla//EN
CALSCALE:GREGORIAN
METHOD:PUBLISH
BEGIN:VEVENT
UID:90fd958c767819bbfa455c72a78d8765
CATEGORIES:Polar Online Events
CREATED:20210301T135714
SUMMARY:New seminar series on sea-level changes, GIA and ice sheets starting March 9th
LOCATION:Online
DESCRIPTION:As a group under the combined auspices of the WCRP, PALSEA, SERCE and IAG s
 ub-commission 3.4, we are starting a once-a-month virtual seminar series de
 aling with sea-level changes, GIA, and ice sheets. This monthly seminar ser
 ies is intended to engage a broad community in advance of future workshops 
 organized by PALSEA-SERCE and the WCRP, and to stimulate discussion and ide
 as for collaboration and synthesis in this multidisciplinary community.\nSe
 minars are scheduled for the second Tuesday of each month, starting March 9
 th, and nominally will fall within the time window of 11:00-13:00 EST, depe
 nding on the schedule and time zones of the speakers. For our inaugural mee
 ting on March 9th at 11:30 am EST, Bob Kopp of Rutgers University will talk
  about the IPCC AR6 process, including the topic “What is needed from the p
 aleo and GIA community to help refine projections of future sea-level chang
 e?” The talk will be followed by a discussion period, and this first sessio
 n will also introduce the broader goals of the series.\nThe future planned 
 seminars are:\nMarch 9: Bob Kopp and introduction (start time: 1130 EST)\nA
 pril 13: Intercomparisons and Benchmarking of GIA models (Wouter van der Wa
 l and others TBD), followed by discussion\nMay 11: Aimee Slangen and TBD\nJ
 une 8: TBD \nJuly 13: TBD \n\nSeminars will be held on the second Tuesday o
 f every month, within the following time window:\n1100-1300 EST\n0800-1000 
 West coast america\n1600-1800 GMT\n1700-1900 CET\n\nSeminar attendance is o
 pen to all, and the registration link for the first seminar is https://msu.
 zoom.us/webinar/register/WN_II7v3x8YSW2q3frUzH9XMg. We are looking for volu
 nteers and nominations for future speakers; please use this google form (<a
  href="https://forms.gle/ZsEsx3LJDKwuZ98b6" target="_blank" rel="noopener">
 https://forms.gle/ZsEsx3LJDKwuZ98b6</a>) to send your suggestions by March 
 12th. If you have a problem with the form, please contact Natalya Gomez (Th
 is email address is being protected from spambots. You need JavaScript enab
 led to view it.
				document.getElementById('cloak693c044401bc63595825b166b
 dfeaa0a').innerHTML = '';
				var prefix = '&#109;a' + 'i&#108;' + '&#116;o
 ';
				var path = 'hr' + 'ef' + '=';
				var addy693c044401bc63595825b166bd
 feaa0a = 'n&#97;t&#97;ly&#97;.g&#111;m&#101;z' + '&#64;';
				addy693c04440
 1bc63595825b166bdfeaa0a = addy693c044401bc63595825b166bdfeaa0a + 'mcg&#105;
 ll' + '&#46;' + 'c&#97;';
				var addy_text693c044401bc63595825b166bdfeaa0a
  = 'n&#97;t&#97;ly&#97;.g&#111;m&#101;z' + '&#64;' + 'mcg&#105;ll' + '&#46;
 ' + 'c&#97;';document.getElementById('cloak693c044401bc63595825b166bdfeaa0a
 ').innerHTML += '<a ' + path + '\'' + prefix + ':' + addy693c044401bc635958
 25b166bdfeaa0a + '\'>'+addy_text693c044401bc63595825b166bdfeaa0a+'';
		).\n
 We are maintaining a mailing list, so to make sure you receive notification
 s about the future seminars and related events, subscribe by sending an e-m
 ail (with a blank subject line) to  (mailto:listserv@lists.mcgill.ca)This e
 mail address is being protected from spambots. You need JavaScript enabled 
 to view it.
				document.getElementById('cloak4ee92c14e8db89a89e45f674e3c3a
 db9').innerHTML = '';
				var prefix = '&#109;a' + 'i&#108;' + '&#116;o';
	
 			var path = 'hr' + 'ef' + '=';
				var addy4ee92c14e8db89a89e45f674e3c3ad
 b9 = 'l&#105;sts&#101;rv' + '&#64;';
				addy4ee92c14e8db89a89e45f674e3c3ad
 b9 = addy4ee92c14e8db89a89e45f674e3c3adb9 + 'l&#105;sts' + '&#46;' + 'mcg&#
 105;ll' + '&#46;' + 'c&#97;';
				var addy_text4ee92c14e8db89a89e45f674e3c3
 adb9 = 'l&#105;sts&#101;rv' + '&#64;' + 'l&#105;sts' + '&#46;' + 'mcg&#105;
 ll' + '&#46;' + 'c&#97;';document.getElementById('cloak4ee92c14e8db89a89e45
 f674e3c3adb9').innerHTML += '<a ' + path + '\'' + prefix + ':' + addy4ee92c
 14e8db89a89e45f674e3c3adb9 + '\'>'+addy_text4ee92c14e8db89a89e45f674e3c3adb
 9+'';
		 containing the following text command:  \nsubscribe earth-ice-sea 
 firstname lastname (Note that within ~1hr you should receive an email reque
 sting you to confirm your subscription, which you can do by replying to the
  email with "OK"). If you have trouble subscribing, please contact Natalya 
 Gomez (<a href="mailto:natalya.gomez@mcgill.ca" target="_blank"></a>This em
 ail address is being protected from spambots. You need JavaScript enabled t
 o view it.
				document.getElementById('cloakf1656e1704dbbf27b78b427292fa29
 08').innerHTML = '';
				var prefix = '&#109;a' + 'i&#108;' + '&#116;o';
		
 		var path = 'hr' + 'ef' + '=';
				var addyf1656e1704dbbf27b78b427292fa290
 8 = 'n&#97;t&#97;ly&#97;.g&#111;m&#101;z' + '&#64;';
				addyf1656e1704dbbf
 27b78b427292fa2908 = addyf1656e1704dbbf27b78b427292fa2908 + 'mcg&#105;ll' +
  '&#46;' + 'c&#97;';
				var addy_textf1656e1704dbbf27b78b427292fa2908 = 'n
 &#97;t&#97;ly&#97;.g&#111;m&#101;z' + '&#64;' + 'mcg&#105;ll' + '&#46;' + '
 c&#97;';document.getElementById('cloakf1656e1704dbbf27b78b427292fa2908').in
 nerHTML += '<a ' + path + '\'' + prefix + ':' + addyf1656e1704dbbf27b78b427
 292fa2908 + '\'>'+addy_textf1656e1704dbbf27b78b427292fa2908+'';
		).\nAll t
 he best, from a team from …\nPALSEA,\nThe IAG Subcommission 3.4 on Cryosphe
 re Deformation, \nThe WCRP Grand Challenges on Regional Sea Level and Coast
 al Impacts (WP1 on long term sea level and GIA), and SCAR-SERCE\n\nJacky Au
 stermann, Jeff Freymueller, Natalya Gomez, Alex Simms, Natasha Barlow, Thom
 as James, Alessio Rovere, Jeremy Shakun, and Mark Tamisiea\n
X-ALT-DESC;FMTTYPE=text/html:<p dir="ltr" style="text-align: justify;">As a group under the combined aus
 pices of the WCRP, PALSEA, SERCE and IAG sub-commission 3.4, we are startin
 g a <strong>once-a-month virtual seminar series dealing with sea-level chan
 ges, GIA, and ice sheets</strong>. This monthly seminar series is intended 
 to engage a broad community in advance of future workshops organized by PAL
 SEA-SERCE and the WCRP, and to stimulate discussion and ideas for collabora
 tion and synthesis in this multidisciplinary community.</p><p dir="ltr" sty
 le="text-align: justify;">Seminars are scheduled for the second Tuesday of 
 each month, starting March 9th, and nominally will fall within the time win
 dow of 11:00-13:00 EST, depending on the schedule and time zones of the spe
 akers. For our inaugural meeting on <strong>March 9th at 11:30 am EST</stro
 ng>, <strong>Bob Kopp</strong> of Rutgers University will talk about the IP
 CC AR6 process, including the topic <strong>“What is needed from the paleo 
 and GIA community to help refine projections of future sea-level change?”</
 strong> The talk will be followed by a discussion period, and this first se
 ssion will also introduce the broader goals of the series.</p><p dir="ltr" 
 style="text-align: justify;">The future planned seminars are:</p><p dir="lt
 r" style="text-align: justify;">March 9: Bob Kopp and introduction (start t
 ime: 1130 EST)</p><p dir="ltr" style="text-align: justify;">April 13: Inter
 comparisons and Benchmarking of GIA models (Wouter van der Wal and others T
 BD), followed by discussion</p><p dir="ltr" style="text-align: justify;">Ma
 y 11: Aimee Slangen and TBD</p><p dir="ltr" style="text-align: justify;">Ju
 ne 8: TBD&nbsp;</p><p dir="ltr" style="text-align: justify;">July 13: TBD&n
 bsp;</p><p style="text-align: justify;"><span style="color: #000000; font-f
 amily: arial, sans-serif;"><span style="color: #000000; font-family: arial,
  sans-serif;"></span></span></p><p dir="ltr" style="text-align: justify;"><
 strong>Seminars will be held on the second Tuesday of every month,</strong>
  within the following time window:</p><p dir="ltr" style="text-align: justi
 fy;">1100-1300 EST</p><p dir="ltr" style="text-align: justify;">0800-1000 W
 est coast america</p><p dir="ltr" style="text-align: justify;">1600-1800 GM
 T</p><p dir="ltr" style="text-align: justify;">1700-1900 CET</p><p style="t
 ext-align: justify;"><span style="color: #000000; font-family: arial, sans-
 serif;"><span style="color: #000000; font-family: arial, sans-serif;"></spa
 n></span></p><p dir="ltr" style="text-align: justify;">Seminar attendance i
 s open to all, and the registration link for the first seminar is <a href="
 https://msu.zoom.us/webinar/register/WN_II7v3x8YSW2q3frUzH9XMg" target="_bl
 ank" rel="noopener">https://msu.zoom.us/webinar/register/WN_II7v3x8YSW2q3fr
 UzH9XMg</a>. We are looking for volunteers and nominations for future speak
 ers; please use this google form (<a href="https://forms.gle/ZsEsx3LJDKwuZ9
 8b6" target="_blank" rel="noopener">https://forms.gle/ZsEsx3LJDKwuZ98b6</a>
 ) to send your suggestions by March 12th. If you have a problem with the fo
 rm, please contact Natalya Gomez (<span id="cloak693c044401bc63595825b166bd
 feaa0a">This email address is being protected from spambots. You need JavaS
 cript enabled to view it.</span><script type='text/javascript'>
				documen
 t.getElementById('cloak693c044401bc63595825b166bdfeaa0a').innerHTML = '';
	
 			var prefix = '&#109;a' + 'i&#108;' + '&#116;o';
				var path = 'hr' + 'e
 f' + '=';
				var addy693c044401bc63595825b166bdfeaa0a = 'n&#97;t&#97;ly&#9
 7;.g&#111;m&#101;z' + '&#64;';
				addy693c044401bc63595825b166bdfeaa0a = a
 ddy693c044401bc63595825b166bdfeaa0a + 'mcg&#105;ll' + '&#46;' + 'c&#97;';
	
 			var addy_text693c044401bc63595825b166bdfeaa0a = 'n&#97;t&#97;ly&#97;.g&#
 111;m&#101;z' + '&#64;' + 'mcg&#105;ll' + '&#46;' + 'c&#97;';document.getEl
 ementById('cloak693c044401bc63595825b166bdfeaa0a').innerHTML += '<a ' + pat
 h + '\'' + prefix + ':' + addy693c044401bc63595825b166bdfeaa0a + '\'>'+addy
 _text693c044401bc63595825b166bdfeaa0a+'<\/a>';
		</script>).</p><p dir="ltr
 " style="text-align: justify;">We are maintaining a <strong>mailing list</s
 trong>, so to make sure you receive notifications about the future seminars
  and related events, subscribe by sending an e-mail (with a blank subject l
 ine) to <a href="mailto:listserv@lists.mcgill.ca" target="_blank"></a><span
  id="cloak4ee92c14e8db89a89e45f674e3c3adb9">This email address is being pro
 tected from spambots. You need JavaScript enabled to view it.</span><script
  type='text/javascript'>
				document.getElementById('cloak4ee92c14e8db89a8
 9e45f674e3c3adb9').innerHTML = '';
				var prefix = '&#109;a' + 'i&#108;' +
  '&#116;o';
				var path = 'hr' + 'ef' + '=';
				var addy4ee92c14e8db89a89
 e45f674e3c3adb9 = 'l&#105;sts&#101;rv' + '&#64;';
				addy4ee92c14e8db89a89
 e45f674e3c3adb9 = addy4ee92c14e8db89a89e45f674e3c3adb9 + 'l&#105;sts' + '&#
 46;' + 'mcg&#105;ll' + '&#46;' + 'c&#97;';
				var addy_text4ee92c14e8db89a
 89e45f674e3c3adb9 = 'l&#105;sts&#101;rv' + '&#64;' + 'l&#105;sts' + '&#46;'
  + 'mcg&#105;ll' + '&#46;' + 'c&#97;';document.getElementById('cloak4ee92c1
 4e8db89a89e45f674e3c3adb9').innerHTML += '<a ' + path + '\'' + prefix + ':'
  + addy4ee92c14e8db89a89e45f674e3c3adb9 + '\'>'+addy_text4ee92c14e8db89a89e
 45f674e3c3adb9+'<\/a>';
		</script> containing the following text command:&
 nbsp; <br /><strong>subscribe earth-ice-sea firstname lastname </strong>(No
 te that within ~1hr you should receive an email requesting you to confirm y
 our subscription, which you can do by replying to the email with "OK"). If 
 you have trouble subscribing, please contact Natalya Gomez (<a href="mailto
 :natalya.gomez@mcgill.ca" target="_blank"></a><span id="cloakf1656e1704dbbf
 27b78b427292fa2908">This email address is being protected from spambots. Yo
 u need JavaScript enabled to view it.</span><script type='text/javascript'>
 
				document.getElementById('cloakf1656e1704dbbf27b78b427292fa2908').inner
 HTML = '';
				var prefix = '&#109;a' + 'i&#108;' + '&#116;o';
				var path
  = 'hr' + 'ef' + '=';
				var addyf1656e1704dbbf27b78b427292fa2908 = 'n&#97
 ;t&#97;ly&#97;.g&#111;m&#101;z' + '&#64;';
				addyf1656e1704dbbf27b78b4272
 92fa2908 = addyf1656e1704dbbf27b78b427292fa2908 + 'mcg&#105;ll' + '&#46;' +
  'c&#97;';
				var addy_textf1656e1704dbbf27b78b427292fa2908 = 'n&#97;t&#97
 ;ly&#97;.g&#111;m&#101;z' + '&#64;' + 'mcg&#105;ll' + '&#46;' + 'c&#97;';do
 cument.getElementById('cloakf1656e1704dbbf27b78b427292fa2908').innerHTML +=
  '<a ' + path + '\'' + prefix + ':' + addyf1656e1704dbbf27b78b427292fa2908 
 + '\'>'+addy_textf1656e1704dbbf27b78b427292fa2908+'<\/a>';
		</script>).</p
 ><p dir="ltr" style="text-align: justify;">All the best, from a team from …
 </p><p dir="ltr" style="text-align: justify;">PALSEA,</p><p dir="ltr" style
 ="text-align: justify;">The IAG Subcommission 3.4 on Cryosphere Deformation
 ,&nbsp;</p><p dir="ltr" style="text-align: justify;">The WCRP Grand Challen
 ges on Regional Sea Level and Coastal Impacts (WP1 on long term sea level a
 nd GIA), and SCAR-SERCE</p><p dir="ltr" style="text-align: justify;"><br />
 Jacky Austermann, Jeff Freymueller, Natalya Gomez, Alex Simms, Natasha Barl
 ow, Thomas James, Alessio Rovere, Jeremy Shakun, and Mark Tamisiea</p>
DTSTAMP:20260419T125632Z
DTSTART;TZID=UTC;VALUE=DATE:20210309
DTEND;TZID=UTC;VALUE=DATE:20210310
SEQUENCE:0
TRANSP:OPAQUE
END:VEVENT
END:VCALENDAR