BEGIN:VCALENDAR
VERSION:2.0
PRODID:-//jEvents 2.0 for Joomla//EN
CALSCALE:GREGORIAN
METHOD:PUBLISH
BEGIN:VEVENT
UID:b7e09cedfea0f35b835a646bdba084b5
CATEGORIES:APECS Events
CREATED:20210303T071628
SUMMARY: UK Polar Early Career Conference
LOCATION:Online
DESCRIPTION:<p>Please see below the call for abstracts for the&nbsp;<strong>UK Polar Ea
 rly Career Conference.</strong></p><p><strong>Conference theme:</strong>&nb
 sp;Early Career Researchers and the future of UK Polar Science</p><p><stron
 g>Conference date:</strong>&nbsp;5-6th May 2021</p><p><strong>Contact</stro
 ng>:&nbsp;<a href="mailto:polarecc@polarnetwork.org"></a><span id="cloak9be
 abdd65a8aeb91537ea10da12c349a"><a href="mailto:polarecc@polarnetwork.org"><
 /a><span id="cloak1c1c2ec8fdb9d072b2f2d491c5a3c44c">This email address is b
 eing protected from spambots. You need JavaScript enabled to view it.</span
 ><script type='text/javascript'>
				document.getElementById('cloak1c1c2ec8
 fdb9d072b2f2d491c5a3c44c').innerHTML = '';
				var prefix = '&#109;a' + 'i&
 #108;' + '&#116;o';
				var path = 'hr' + 'ef' + '=';
				var addy1c1c2ec8f
 db9d072b2f2d491c5a3c44c = 'p&#111;l&#97;r&#101;cc' + '&#64;';
				addy1c1c2
 ec8fdb9d072b2f2d491c5a3c44c = addy1c1c2ec8fdb9d072b2f2d491c5a3c44c + 'p&#11
 1;l&#97;rn&#101;tw&#111;rk' + '&#46;' + '&#111;rg';
				var addy_text1c1c2e
 c8fdb9d072b2f2d491c5a3c44c = 'p&#111;l&#97;r&#101;cc' + '&#64;' + 'p&#111;l
 &#97;rn&#101;tw&#111;rk' + '&#46;' + '&#111;rg';document.getElementById('cl
 oak1c1c2ec8fdb9d072b2f2d491c5a3c44c').innerHTML += '<a ' + path + '\'' + pr
 efix + ':' + addy1c1c2ec8fdb9d072b2f2d491c5a3c44c + '\'>'+addy_text1c1c2ec8
 fdb9d072b2f2d491c5a3c44c+'<\/a>';
		</script></span></p><p><strong>Location
 :</strong>&nbsp;Online</p><p><strong>Abstract deadline</strong>: Friday 19t
 h March 2021</p><p>We invite Early Career Researchers (ECRs) to present the
 ir Polar research in a friendly environment. We also invite anyone, of any 
 academic or professional background, who is curious or passionate about Pol
 ar research to attend.</p><p>This conference has been organised with the su
 pport of the UK Polar Network (<a href="https://polarnetwork.org/"></a><a h
 ref="https://polarnetwork.org/"></a><a href="https://polarnetwork.org/">htt
 ps://polarnetwork.org/</a>)</p><p>This two-day online conference will highl
 ight the work of ECRs within Polar Science from a range of disciplines and 
 institutions. This is the first UK Polar ECR conference and is tailored tow
 ards this community. The conference will focus on the high-quality science 
 produced by ECRs and the contemporary issues Polar ECRs are facing. The sci
 entific talks will be divided in to five streams which will run parallel th
 roughout the conference:</p><p>-&nbsp;&nbsp;&nbsp;&nbsp;&nbsp;&nbsp;&nbsp;&
 nbsp;&nbsp;&nbsp;&nbsp;&nbsp;&nbsp;&nbsp;&nbsp;&nbsp;&nbsp; Ecosystems</p><
 p>-&nbsp;&nbsp;&nbsp;&nbsp;&nbsp;&nbsp;&nbsp;&nbsp;&nbsp;&nbsp;&nbsp;&nbsp;
 &nbsp;&nbsp;&nbsp;&nbsp;&nbsp; Oceanography&nbsp;</p><p>-&nbsp;&nbsp;&nbsp;
 &nbsp;&nbsp;&nbsp;&nbsp;&nbsp;&nbsp;&nbsp;&nbsp;&nbsp;&nbsp;&nbsp;&nbsp;&nb
 sp;&nbsp; Geology and Glaciology</p><p>-&nbsp;&nbsp;&nbsp;&nbsp;&nbsp;&nbsp
 ;&nbsp;&nbsp;&nbsp;&nbsp;&nbsp;&nbsp;&nbsp;&nbsp;&nbsp;&nbsp;&nbsp; Atmosph
 ere and Climate</p><p>-&nbsp;&nbsp;&nbsp;&nbsp;&nbsp;&nbsp;&nbsp;&nbsp;&nbs
 p;&nbsp;&nbsp;&nbsp;&nbsp;&nbsp;&nbsp;&nbsp;&nbsp; Social Sciences</p><p>In
  addition to scientific talks and posters, there will be a strong emphasis 
 on careers &amp; employability, as well as discussing the future of UK Pola
 r science. This will include:</p><p>-&nbsp;&nbsp;&nbsp;&nbsp;&nbsp;&nbsp;&n
 bsp;&nbsp;&nbsp;&nbsp;&nbsp;&nbsp;&nbsp;&nbsp;&nbsp;&nbsp;&nbsp; Employabil
 ity workshops for careers both in and out of academia.</p><p>-&nbsp;&nbsp;&
 nbsp;&nbsp;&nbsp;&nbsp;&nbsp;&nbsp;&nbsp;&nbsp;&nbsp;&nbsp;&nbsp;&nbsp;&nbs
 p;&nbsp;&nbsp; A session dedicated to improving collaboration with Indigeno
 us communities.</p><p>-&nbsp;&nbsp;&nbsp;&nbsp;&nbsp;&nbsp;&nbsp;&nbsp;&nbs
 p;&nbsp;&nbsp;&nbsp;&nbsp;&nbsp;&nbsp;&nbsp;&nbsp; A panel discussing the f
 uture of UK polar science with specific emphasis on the impacts of Brexit, 
 COVID-19 and the UN Decade of Ocean Science.&nbsp;</p><p><strong>Submission
 s</strong></p><p>The form for submitting an abstract for a talk or a poster
  is available on the link below, this will simultaneously register you for 
 the conference. We ask that those submitting an abstract fall within the ca
 tegory of ECR (Post-graduate students, PhD students and Post-doctoral resea
 rchers). Abstracts must be &lt; 200 words and the submission deadline is Fr
 iday 19th March 2021.</p><p>Abstract submission &amp; registration form:&nb
 sp;<a href="https://forms.gle/mZd2bZupmWQ1PLen6"></a><a href="https://forms
 .gle/mZd2bZupmWQ1PLen6"></a><a href="https://forms.gle/mZd2bZupmWQ1PLen6">h
 ttps://forms.gle/mZd2bZupmWQ1PLen6</a></p><p><strong>Attendance</strong></p
 ><p>This conference is an opportunity for ECRs to hone their skills in a fr
 iendly environment however we also welcome anyone, of any academic or profe
 ssional background, interested in Polar science to attend the conference.</
 p><p>Conference registration form (for attendees only):&nbsp;<a href="https
 ://forms.gle/9Tvt4yVAJEC1BZjr5"></a><a href="https://forms.gle/9Tvt4yVAJEC1
 BZjr5"></a><a href="https://forms.gle/9Tvt4yVAJEC1BZjr5">https://forms.gle/
 9Tvt4yVAJEC1BZjr5</a><br /><br />Further information can be found here:&nbs
 p;<a href="https://forms.gle/9Tvt4yVAJEC1BZjr5"></a><a href="http://polarne
 twork.org/polar-ecc/" target="_blank" rel="noopener"></a><a href="http://po
 larnetwork.org/polar-ecc/">http://polarnetwork.org/polar-ecc/</a><a href="h
 ttps://forms.gle/9Tvt4yVAJEC1BZjr5"><br /></a></p>
CONTACT:This email address is being protected from spambots. You need JavaScript enabled to view it.
				document.getElementById('cloak137374c7fa644042161c20cc76432306').innerHTML = '';
				var prefix = '&#109;a' + 'i&#108;' + '&#116;o';
				var path = 'hr' + 'ef' + '=';
				var addy137374c7fa644042161c20cc76432306 = 'p&#111;l&#97;r&#101;cc' + '&#64;';
				addy137374c7fa644042161c20cc76432306 = addy137374c7fa644042161c20cc76432306 + 'p&#111;l&#97;rn&#101;tw&#111;rk' + '&#46;' + '&#111;rg';
				var addy_text137374c7fa644042161c20cc76432306 = 'p&#111;l&#97;r&#101;cc' + '&#64;' + 'p&#111;l&#97;rn&#101;tw&#111;rk' + '&#46;' + '&#111;rg';document.getElementById('cloak137374c7fa644042161c20cc76432306').innerHTML += '<a ' + path + '\'' + prefix + ':' + addy137374c7fa644042161c20cc76432306 + '\'>'+addy_text137374c7fa644042161c20cc76432306+'';
		
DTSTAMP:20260420T124127Z
DTSTART;TZID=UTC;VALUE=DATE:20210505
DTEND;TZID=UTC;VALUE=DATE:20210507
SEQUENCE:0
TRANSP:OPAQUE
END:VEVENT
END:VCALENDAR