BEGIN:VCALENDAR
VERSION:2.0
PRODID:-//jEvents 2.0 for Joomla//EN
CALSCALE:GREGORIAN
METHOD:PUBLISH
BEGIN:VEVENT
UID:3b6e6f886f1b924c5996702ae43e5fc4
CATEGORIES:Polar Online Events
CREATED:20210303T082007
SUMMARY:Inuit Qaujimajatuqangit: Traditional Knowledge in the Contemporary World Roundtable
LOCATION:Online
DESCRIPTION:Virtual Roundtable March 19, 2021\n09:00 - 15:30 (Montreal)\nWhat is Inuit 
 Traditional Knowledge? How is it relevant to the contemporary world and to 
 decolonialization?\n\nThe Roundtable will begin with the traditional lighti
 ng of the Qulliq by Aaju Peter.\n\nInuit and non-Inuit speakers will presen
 t innovative and contemporary applications of Traditional Knowledge as a ce
 ntral aspect of decolonialization and our common future.\n\nThe Roundtable 
 will finish with a presentation by Provost Manfredi and Art Curator, Isabel
 le Laurier, exploring how Inuit art bridges Traditional Knowledge and conte
 mporary research.\nFor more information click here (images/Articles/Files/I
 nuitQaujimajatuqangit_Announcement.pdf)\n<a href="https://mcgill.zoom.us/me
 eting/register/tZ0qfumtpzMsGdc57VXQapC-YOzTSxe-2OeJ" target="_blank" rel="n
 oopener">Register here</a>\n
X-ALT-DESC;FMTTYPE=text/html:<p style="text-align: justify;">Virtual Roundtable <strong>March 19, 2021</
 strong><br />09:00 - 15:30 (Montreal)</p><p style="text-align: justify;"><s
 trong>What is Inuit Traditional Knowledge? How is it relevant to the contem
 porary world and to decolonialization?</strong><br /><br />The Roundtable w
 ill begin with the traditional lighting of the Qulliq by Aaju Peter.<br /><
 br />Inuit and non-Inuit speakers will present innovative and contemporary 
 applications of Traditional Knowledge as a central aspect of decolonializat
 ion and our common future.<br /><br />The Roundtable will finish with a pre
 sentation by Provost Manfredi and Art Curator, Isabelle Laurier, exploring 
 how Inuit art bridges Traditional Knowledge and contemporary research.</p><
 p style="text-align: justify;">For more information click <a href="images/A
 rticles/Files/InuitQaujimajatuqangit_Announcement.pdf" target="_blank">here
 </a></p><p style="text-align: justify;"><a href="https://mcgill.zoom.us/mee
 ting/register/tZ0qfumtpzMsGdc57VXQapC-YOzTSxe-2OeJ" target="_blank" rel="no
 opener">Register here</a></p>
DTSTAMP:20260420T142716Z
DTSTART;TZID=UTC;VALUE=DATE:20210319
DTEND;TZID=UTC;VALUE=DATE:20210320
SEQUENCE:0
TRANSP:OPAQUE
END:VEVENT
END:VCALENDAR