BEGIN:VCALENDAR
VERSION:2.0
PRODID:-//jEvents 2.0 for Joomla//EN
CALSCALE:GREGORIAN
METHOD:PUBLISH
BEGIN:VEVENT
UID:989f9c2e98591c1bbfa93bb23beae162
CATEGORIES:Polar Conferences, Meetings and Events
CREATED:20210305T141842
SUMMARY:IPC2021 virtual congress
LOCATION:Online
DESCRIPTION:The International Peatland Society and Estonian Peat Association is invitin
 g you to join the most important forum for IPS members, peatland specialist
 s, scientists and students. This year you can attend the congress from your
  home or office.\nThe official dates for the IPC2021 online congress are Mo
 nday, 3 May – Thursday, 6 May 2021.\nThe world’s leading virtual event plat
 form Brella will be used to ensure both the delegates and speakers a high s
 tandard virtual congress experience. Including scientific sessions, virtual
  exhibition and networking. In addition to participation in the live event,
  all attendees will have access to on-demand recordings for an additional 6
 0 days upon completing the congress. So more value for the lower registrati
 on fee. \nVisit the International Peatland Congress website (https://www.pe
 atlandcongress2021.com/) for more information.\nYou can register <a href="h
 ttps://www.peatlandcongress2021.com/registration/" target="_blank" rel="noo
 pener">here</a>.\n
X-ALT-DESC;FMTTYPE=text/html:<p style="text-align: justify;"><strong>The International Peatland Society 
 and Estonian Peat Association </strong>is inviting you to join the<strong> 
 most important forum for IPS members, peatland specialists, scientists and 
 students. </strong>This year you can attend the congress from your home or 
 office.</p><p style="text-align: justify;">The official dates for the<stron
 g> IPC2021 online congress </strong>are<strong> Monday, 3 May – Thursday, 6
  May 2021.</strong></p><p style="text-align: justify;">The world’s leading 
 virtual event platform Brella will be used to ensure both the delegates and
  speakers a high standard virtual congress experience. Including scientific
  sessions, virtual exhibition and networking. In addition to participation 
 in the live event, all attendees will have access to on-demand recordings f
 or an additional 60 days upon completing the congress. So more value for th
 e lower registration fee.&nbsp;</p><p style="text-align: justify;">Visit th
 e <a href="https://www.peatlandcongress2021.com/" target="_blank" rel="noop
 ener">International Peatland Congress website</a> for more information.</p>
 <p style="text-align: justify;">You can register <a href="https://www.peatl
 andcongress2021.com/registration/" target="_blank" rel="noopener">here</a>.
 </p>
DTSTAMP:20260422T133812Z
DTSTART;TZID=UTC;VALUE=DATE:20210503
DTEND;TZID=UTC;VALUE=DATE:20210507
SEQUENCE:0
TRANSP:OPAQUE
END:VEVENT
END:VCALENDAR