BEGIN:VCALENDAR
VERSION:2.0
PRODID:-//jEvents 2.0 for Joomla//EN
CALSCALE:GREGORIAN
METHOD:PUBLISH
BEGIN:VEVENT
UID:1caf509bf82ead52735a7f532ed1919f
CATEGORIES:Polar Online Events
CREATED:20210305T144500
SUMMARY:Public talk: Martin Heimann
LOCATION:Online
DESCRIPTION:We are happy to announce an evening public talk of Prof. Dr. Martin Heimann
  (MPI-BGC Jena, Germany) "In search of greenhouse gas emissions from permaf
 rost in northeast Siberia" on Thursday, 25 March, 18:00 CET (12:00 EST), or
 ganized as a part of the International online Symposium „Focus Siberian Per
 mafrost – Terrestrial Cryosphere and Climate Change“.\nPlease join us onlin
 e (Zoom meeting): http://bit.ly/3c4G3TG\nMeeting-ID: 969 1852 7793\nPasscod
 e: 82788852\nAll are welcome to attend!\n \nIf you have any questions, plea
 se contact me (<a href="mailto:olga.vybornova@uni-hamburg.de" target="_blan
 k"></a>This email address is being protected from spambots. You need JavaSc
 ript enabled to view it.
				document.getElementById('cloak4c934375324454ea
 b1aedd66a8254955').innerHTML = '';
				var prefix = '&#109;a' + 'i&#108;' +
  '&#116;o';
				var path = 'hr' + 'ef' + '=';
				var addy4c934375324454eab
 1aedd66a8254955 = '&#111;lg&#97;.vyb&#111;rn&#111;v&#97;' + '&#64;';
				ad
 dy4c934375324454eab1aedd66a8254955 = addy4c934375324454eab1aedd66a8254955 +
  '&#117;n&#105;-h&#97;mb&#117;rg' + '&#46;' + 'd&#101;';
				var addy_text4
 c934375324454eab1aedd66a8254955 = '&#111;lg&#97;.vyb&#111;rn&#111;v&#97;' +
  '&#64;' + '&#117;n&#105;-h&#97;mb&#117;rg' + '&#46;' + 'd&#101;';document.
 getElementById('cloak4c934375324454eab1aedd66a8254955').innerHTML += '<a ' 
 + path + '\'' + prefix + ':' + addy4c934375324454eab1aedd66a8254955 + '\'>'
 +addy_text4c934375324454eab1aedd66a8254955+'';
		).\nBest Regards,\nOlga on
  behalf of the Organizing committee from the Institute of Soil Science\n
X-ALT-DESC;FMTTYPE=text/html:<p class="m_-8789906177358637845acymwysidtinymce--text--placeholder" style=
 "text-align: justify;">We are happy to announce an evening public talk of <
 strong>Prof. Dr. Martin Heimann</strong> (MPI-BGC Jena, Germany) "<strong>I
 n search of greenhouse gas emissions from permafrost in northeast Siberia</
 strong>" on Thursday,<strong> 25 March</strong>, 18:00 CET (12:00 EST), org
 anized as a part of the International online Symposium „Focus Siberian Perm
 afrost – Terrestrial Cryosphere and Climate Change“.</p><p class="m_-878990
 6177358637845acymwysidtinymce--text--placeholder" style="text-align: justif
 y;">Please join us online (Zoom meeting): <a href="http://bit.ly/3c4G3TG">h
 ttp://bit.ly/3c4G3TG</a></p><p class="m_-8789906177358637845acymwysidtinymc
 e--text--placeholder" style="text-align: justify;">Meeting-ID: 969 1852 779
 3</p><p class="m_-8789906177358637845acymwysidtinymce--text--placeholder" s
 tyle="text-align: justify;">Passcode: 82788852</p><p class="m_-878990617735
 8637845acymwysidtinymce--text--placeholder" style="text-align: justify;">Al
 l are welcome to attend!</p><p class="m_-8789906177358637845acymwysidtinymc
 e--text--placeholder" style="text-align: justify;">&nbsp;</p><p class="m_-8
 789906177358637845acymwysidtinymce--text--placeholder" style="text-align: j
 ustify;">If you have any questions, please contact me (<a href="mailto:olga
 .vybornova@uni-hamburg.de" target="_blank"></a><span id="cloak4c93437532445
 4eab1aedd66a8254955">This email address is being protected from spambots. Y
 ou need JavaScript enabled to view it.</span><script type='text/javascript'
 >
				document.getElementById('cloak4c934375324454eab1aedd66a8254955').inne
 rHTML = '';
				var prefix = '&#109;a' + 'i&#108;' + '&#116;o';
				var pat
 h = 'hr' + 'ef' + '=';
				var addy4c934375324454eab1aedd66a8254955 = '&#11
 1;lg&#97;.vyb&#111;rn&#111;v&#97;' + '&#64;';
				addy4c934375324454eab1aed
 d66a8254955 = addy4c934375324454eab1aedd66a8254955 + '&#117;n&#105;-h&#97;m
 b&#117;rg' + '&#46;' + 'd&#101;';
				var addy_text4c934375324454eab1aedd66
 a8254955 = '&#111;lg&#97;.vyb&#111;rn&#111;v&#97;' + '&#64;' + '&#117;n&#10
 5;-h&#97;mb&#117;rg' + '&#46;' + 'd&#101;';document.getElementById('cloak4c
 934375324454eab1aedd66a8254955').innerHTML += '<a ' + path + '\'' + prefix 
 + ':' + addy4c934375324454eab1aedd66a8254955 + '\'>'+addy_text4c93437532445
 4eab1aedd66a8254955+'<\/a>';
		</script>).</p><p class="m_-8789906177358637
 845acymwysidtinymce--text--placeholder" style="text-align: justify;">Best R
 egards,</p><p class="m_-8789906177358637845acymwysidtinymce--text--placehol
 der" style="text-align: justify;">Olga on behalf of the Organizing committe
 e from the Institute of Soil Science</p>
DTSTAMP:20260421T115149Z
DTSTART;TZID=UTC;VALUE=DATE:20210325
DTEND;TZID=UTC;VALUE=DATE:20210326
SEQUENCE:0
TRANSP:OPAQUE
END:VEVENT
END:VCALENDAR