BEGIN:VCALENDAR
VERSION:2.0
PRODID:-//jEvents 2.0 for Joomla//EN
CALSCALE:GREGORIAN
METHOD:PUBLISH
BEGIN:VEVENT
UID:823b5ee87fd05bbaa29bea59060b9a7e
CATEGORIES:Polar Online Events
CREATED:20210310T132627
SUMMARY:The Ends of the Earth: Polar Exploration, Print Culture, and Climate Change 
LOCATION:Online
DESCRIPTION:The Ends of the Earth: Polar Exploration, Print Culture, and Climate Change
  \nThe Ends of the Earth: Polar Exploration, Print Culture, and Climate Cha
 nge is an online symposium which will showcase recent scholarship at the in
 tersection of American literary studies, environmental humanities, and prin
 t culture and serve as a provocation to the audience: what kinds of knowled
 ge are produced at the (geographical, ecological, and possibly even the tem
 poral) ends of the earth? \nFriday, March 26, 2020 \n2:00-4:30 pm Central T
 ime \nZoom webinar \nPlease register in advance to receive a Zoom link at h
 ttps://illinois.zoom.us/webinar/register/WN_rOnQCs0tQ_ungrS0VPhvRg \nFree a
 nd open to the public. Please drop in and out as your schedule allows, or s
 tay for the whole symposium.  \n  \nSchedule of Events:  \n2:00 pm Central 
 Time- Introduction of the speakers and of the polar collections at the Univ
 ersity of Illinois  \n2:20pm Central Time - “A Humanist in the Northwest Pa
 ssage,” A talk by Hester Blum, Professor of English at Penn State  \n3:00 p
 m Central Time - “Land of Wondrous Cold: The Victorians in Antarctica.” A t
 alk by Gillen D’Arcy Wood, Langan Professorial Scholar of Environmental Hum
 anities and Associate Director of iSEE at the University of Illinois at Urb
 ana-Champaign (UIUC) \n3:45pm – 4:30 pm Central Time - Discussion and Q&amp
 ;A with Hester Blum and Gillen D’Arcy Wood, facilitated by co-organizers Ja
 mie L. Jones, Assistant Professor, Department of English, UIUC, and Adam Do
 skey, Curator of Rare Books and Manuscripts, UIUC.  \nSpeaker Gillen D’Arcy
  Wood recently published Land of Wondrous Cold: The Race to Discover Antarc
 tica and Unlock the Secrets of Its Ice (Princeton University Press, 2020). 
  Link: <a href="https://press.princeton.edu/books/hardcover/9780691172200/l
 and-of-wondrous-cold" target="_blank" rel="noopener">https://press.princeto
 n.edu/books/hardcover/9780691172200/land-of-wondrous-cold</a> \nSpeaker Hes
 ter Blum recently published The News at the Ends of the Earth: The Print Cu
 lture of Polar Exploration (Duke University Press, 2019). Link: https://www
 .dukeupress.edu/the-news-at-the-ends-of-the-earth \n \nSponsored by the Rar
 e Book &amp; Manuscript Library, UIUC; the Trowbridge Initiative in America
 n Cultures; iSEE (Institute for Sustainability, Energy, and the Environment
 ); and other generous campus sponsors. \nIf you will need disability-relate
 d accommodations in order to participate in this program/event, please cont
 act Jamie L. Jones at <a href="mailto:jaljones@illinois.edu"></a>This email
  address is being protected from spambots. You need JavaScript enabled to v
 iew it.
				document.getElementById('cloak5c4de697c28b629589eb3b1a5e9e3528'
 ).innerHTML = '';
				var prefix = '&#109;a' + 'i&#108;' + '&#116;o';
				v
 ar path = 'hr' + 'ef' + '=';
				var addy5c4de697c28b629589eb3b1a5e9e3528 =
  'j&#97;lj&#111;n&#101;s' + '&#64;';
				addy5c4de697c28b629589eb3b1a5e9e35
 28 = addy5c4de697c28b629589eb3b1a5e9e3528 + '&#105;ll&#105;n&#111;&#105;s' 
 + '&#46;' + '&#101;d&#117;';
				var addy_text5c4de697c28b629589eb3b1a5e9e3
 528 = 'j&#97;lj&#111;n&#101;s' + '&#64;' + '&#105;ll&#105;n&#111;&#105;s' +
  '&#46;' + '&#101;d&#117;';document.getElementById('cloak5c4de697c28b629589
 eb3b1a5e9e3528').innerHTML += '<a ' + path + '\'' + prefix + ':' + addy5c4d
 e697c28b629589eb3b1a5e9e3528 + '\'>'+addy_text5c4de697c28b629589eb3b1a5e9e3
 528+'';
		. Early requests are strongly encouraged to allow sufficient time
  to meet your access needs.\n
X-ALT-DESC;FMTTYPE=text/html:<p style="text-align: justify;"><strong>The Ends of the Earth: Polar Explor
 ation, Print Culture, and Climate Change</strong> </p><p style="text-align:
  justify;">The Ends of the Earth: Polar Exploration, Print Culture, and Cli
 mate Change is an online symposium which will showcase recent scholarship a
 t the intersection of American literary studies, environmental humanities, 
 and print culture and serve as a provocation to the audience: what kinds of
  knowledge are produced at the (geographical, ecological, and possibly even
  the temporal) ends of the earth?&nbsp;</p><p style="text-align: justify;">
 <strong>Friday, March 26, 2020</strong><strong>&nbsp;</strong></p><p style=
 "text-align: justify;"><strong>2:00-4:30 pm Central Time</strong><strong>&n
 bsp;</strong></p><p style="text-align: justify;"><strong>Zoom webinar&nbsp;
 </strong></p><p style="text-align: justify;"><strong>Please register in adv
 ance to receive a Zoom link at <a href="https://illinois.zoom.us/webinar/re
 gister/WN_rOnQCs0tQ_ungrS0VPhvRg" target="_blank" rel="noopener">https://il
 linois.zoom.us/webinar/register/WN_rOnQCs0tQ_ungrS0VPhvRg</a>&nbsp;</strong
 ></p><p style="text-align: justify;">Free and open to the public. Please dr
 op in and out as your schedule allows, or stay for the whole symposium. &nb
 sp;</p><p style="text-align: justify;">&nbsp;&nbsp;</p><p style="text-align
 : justify;"><strong>Schedule of Events:</strong>&nbsp; </p><p style="text-a
 lign: justify;"><strong>2:00 pm Central Time</strong>- Introduction of the 
 speakers and of the polar collections at the University of Illinois&nbsp; <
 /p><p style="text-align: justify;"><strong>2:20pm Central Time -</strong> “
 A Humanist in the Northwest Passage,” A talk by Hester Blum, Professor of E
 nglish at Penn State &nbsp;</p><p style="text-align: justify;"><strong>3:00
  pm Central Time -</strong> “Land of Wondrous Cold: The Victorians in Antar
 ctica.” A talk by Gillen D’Arcy Wood, Langan Professorial Scholar of Enviro
 nmental Humanities and Associate Director of iSEE at the University of Illi
 nois at Urbana-Champaign (UIUC)&nbsp;</p><p style="text-align: justify;"><s
 trong>3:45pm – 4:30 pm Central Time - </strong>Discussion and Q&amp;A with 
 Hester Blum and Gillen D’Arcy Wood, facilitated by co-organizers Jamie L. J
 ones, Assistant Professor, Department of English, UIUC, and Adam Doskey, Cu
 rator of Rare Books and Manuscripts, UIUC. &nbsp;</p><p style="text-align: 
 justify;">Speaker <strong>Gillen D’Arcy Wood</strong> recently published <e
 m>Land of Wondrous Cold: The Race to Discover Antarctica and Unlock the Sec
 rets of Its Ice</em> (Princeton University Press, 2020).&nbsp; Link: <a hre
 f="https://press.princeton.edu/books/hardcover/9780691172200/land-of-wondro
 us-cold" target="_blank" rel="noopener">https://press.princeton.edu/books/h
 ardcover/9780691172200/land-of-wondrous-cold</a>&nbsp;</p><p style="text-al
 ign: justify;">Speaker <strong>Hester Blum</strong> recently published <em>
 The News at the Ends of the Earth: The Print Culture of Polar Exploration</
 em> (Duke University Press, 2019). Link: <a href="https://www.dukeupress.ed
 u/the-news-at-the-ends-of-the-earth" target="_blank" rel="noopener">https:/
 /www.dukeupress.edu/the-news-at-the-ends-of-the-earth</a>&nbsp;</p><p>&nbsp
 ;</p><p style="text-align: justify;">Sponsored by the Rare Book &amp; Manus
 cript Library, UIUC; the Trowbridge Initiative in American Cultures; iSEE (
 Institute for Sustainability, Energy, and the Environment); and other gener
 ous campus sponsors.&nbsp;</p><p style="text-align: justify;">If you will n
 eed disability-related accommodations in order to participate in this progr
 am/event, please contact Jamie L. Jones at <a href="mailto:jaljones@illinoi
 s.edu"></a><span id="cloak5c4de697c28b629589eb3b1a5e9e3528">This email addr
 ess is being protected from spambots. You need JavaScript enabled to view i
 t.</span><script type='text/javascript'>
				document.getElementById('cloak
 5c4de697c28b629589eb3b1a5e9e3528').innerHTML = '';
				var prefix = '&#109;
 a' + 'i&#108;' + '&#116;o';
				var path = 'hr' + 'ef' + '=';
				var addy5
 c4de697c28b629589eb3b1a5e9e3528 = 'j&#97;lj&#111;n&#101;s' + '&#64;';
				a
 ddy5c4de697c28b629589eb3b1a5e9e3528 = addy5c4de697c28b629589eb3b1a5e9e3528 
 + '&#105;ll&#105;n&#111;&#105;s' + '&#46;' + '&#101;d&#117;';
				var addy_
 text5c4de697c28b629589eb3b1a5e9e3528 = 'j&#97;lj&#111;n&#101;s' + '&#64;' +
  '&#105;ll&#105;n&#111;&#105;s' + '&#46;' + '&#101;d&#117;';document.getEle
 mentById('cloak5c4de697c28b629589eb3b1a5e9e3528').innerHTML += '<a ' + path
  + '\'' + prefix + ':' + addy5c4de697c28b629589eb3b1a5e9e3528 + '\'>'+addy_
 text5c4de697c28b629589eb3b1a5e9e3528+'<\/a>';
		</script>. Early requests a
 re strongly encouraged to allow sufficient time to meet your access needs.<
 /p>
DTSTAMP:20260420T142717Z
DTSTART;TZID=UTC;VALUE=DATE:20210326
DTEND;TZID=UTC;VALUE=DATE:20210327
SEQUENCE:0
TRANSP:OPAQUE
END:VEVENT
END:VCALENDAR