BEGIN:VCALENDAR
VERSION:2.0
PRODID:-//jEvents 2.0 for Joomla//EN
CALSCALE:GREGORIAN
METHOD:PUBLISH
BEGIN:VEVENT
UID:1d4ce744962c08ec1f9d06cd4a0c7c84
CATEGORIES:APECS Events
CREATED:20210315T130540
SUMMARY:Webinar: When Indigenous Meet Western
LOCATION:Online
DESCRIPTION:During Polar Week, the APECS project group for Indigenous Collaborations is
  oranizing a webinar, where Indigenous Early Career Scientists will speak a
 bout the application of Indigenous knowledge to western science: traditiona
 l knowledge in fieldwork, data interpretation and communication.\n\nJoin us
  on Tuesday, 16 March at 2:00pm GMT!\n\nWebinar program (https://apecs.is/i
 mages/Articles/Files/294_Marianna_Pinzone_International_Polar_Week_March_20
 21_Indigenous_Collaborations_webinar.pdf)\n\n\nPlease register via the foll
 owing link and you will receive the link to the meeting afterwards:\n <a hr
 ef="https://us02web.zoom.us/webinar/register/WN__SRuvpVJTVqmORXX-GS2pQ" tar
 get="_blank" rel="noopener">https://us02web.zoom.us/webinar/register/WN__SR
 uvpVJTVqmORXX-GS2pQ</a>\n
X-ALT-DESC;FMTTYPE=text/html:<p style="text-align: justify;">During Polar Week, the <strong>APECS projec
 t group for Indigenous Collaborations</strong> is oranizing a webinar, wher
 e Indigenous Early Career Scientists will speak about <strong>the applicati
 on of Indigenous knowledge to western science: traditional knowledge in fie
 ldwork, data interpretation and communication.</strong></p><p style="text-a
 lign: justify;"><strong><br />Join us on Tuesday, 16 March at 2:00pm GMT!<b
 r /></strong></p><p style="text-align: justify;"><strong><a href="https://a
 pecs.is/images/Articles/Files/294_Marianna_Pinzone_International_Polar_Week
 _March_2021_Indigenous_Collaborations_webinar.pdf" target="_blank" rel="noo
 pener">Webinar program</a><br /></strong></p><p style="text-align: justify;
 "><br /><strong>Please register</strong> via the following link and you wil
 l receive the link to the meeting afterwards:<br /> <a href="https://us02we
 b.zoom.us/webinar/register/WN__SRuvpVJTVqmORXX-GS2pQ" target="_blank" rel="
 noopener">https://us02web.zoom.us/webinar/register/WN__SRuvpVJTVqmORXX-GS2p
 Q</a></p>
DTSTAMP:20260423T165010Z
DTSTART;TZID=UTC;VALUE=DATE:20210316
DTEND;TZID=UTC;VALUE=DATE:20210317
SEQUENCE:0
TRANSP:OPAQUE
END:VEVENT
END:VCALENDAR