BEGIN:VCALENDAR
VERSION:2.0
PRODID:-//jEvents 2.0 for Joomla//EN
CALSCALE:GREGORIAN
METHOD:PUBLISH
BEGIN:VEVENT
UID:ed26d52a12b01aefac2162b66233039e
CATEGORIES:APECS Events
CREATED:20210315T131750
SUMMARY:APECS Germany - Let´s talk Fieldwork
LOCATION:Online
DESCRIPTION:<p><span class="vkIF2 public-DraftStyleDefault-ltr">On <strong>Thursday,</s
 trong> <strong>March 18th</strong> <strong>at</strong> <strong>5:30pm (CET)
  <a href="https://apecsgermany.wixsite.com/apecsde" target="_blank" rel="no
 opener">APECS Germany</a></strong> is hosting a special Polar-Fieldwork eve
 nt, welcoming fellow researchers and interested students alike. </span></p>
 <p id="viewer-brlrc" class="XzvDs _208Ie ljrnk blog-post-text-font blog-pos
 t-text-color _2QAo- _25MYV _1Fao9 ljrnk public-DraftStyleDefault-block-dept
 h0 public-DraftStyleDefault-text-ltr"><span class="vkIF2 public-DraftStyleD
 efault-ltr"><br />What is the value of undertaking fieldwork? </span></p><p
  id="viewer-afo18" class="XzvDs _208Ie ljrnk blog-post-text-font blog-post-
 text-color _2QAo- _25MYV _1Fao9 ljrnk public-DraftStyleDefault-block-depth0
  public-DraftStyleDefault-text-ltr"><span class="vkIF2 public-DraftStyleDef
 ault-ltr">How to prepare when going to the polar regions? </span></p><p id=
 "viewer-6sm4d" class="XzvDs _208Ie ljrnk blog-post-text-font blog-post-text
 -color _2QAo- _25MYV _1Fao9 ljrnk public-DraftStyleDefault-block-depth0 pub
 lic-DraftStyleDefault-text-ltr"><span class="vkIF2 public-DraftStyleDefault
 -ltr">How can I create fieldwork opportunities for myself? </span></p><p id
 ="viewer-3pcun" class="XzvDs _208Ie ljrnk blog-post-text-font blog-post-tex
 t-color _2QAo- _25MYV _1Fao9 ljrnk public-DraftStyleDefault-block-depth0 pu
 blic-DraftStyleDefault-text-ltr"><span class="vkIF2 public-DraftStyleDefaul
 t-ltr"><br />Joined by a group of early career polar scientists you'll get 
 insights into various fieldwork campaigns and have a casual chat about your
  questions and other curiosities.</span><span class="vkIF2 public-DraftStyl
 eDefault-ltr"> <br /></span></p><p id="viewer-nvj4" class="XzvDs _208Ie ljr
 nk blog-post-text-font blog-post-text-color _2QAo- _25MYV _1Fao9 ljrnk publ
 ic-DraftStyleDefault-block-depth0 public-DraftStyleDefault-text-ltr"><span 
 class="vkIF2 public-DraftStyleDefault-ltr"><br />Please <strong>register <a
  href="https://tinyurl.com/apecs-fieldwork" target="_blank" rel="noopener" 
 class="_2qJYG blog-link-hashtag-color _2xVcV"><span class="sDZYg">here</spa
 n></a></strong> beforehand, so that you can get access to the zoom session.
 </span></p>
DTSTAMP:20260421T152154Z
DTSTART;TZID=UTC;VALUE=DATE:20210318
DTEND;TZID=UTC;VALUE=DATE:20210319
SEQUENCE:0
TRANSP:OPAQUE
END:VEVENT
END:VCALENDAR