BEGIN:VCALENDAR
VERSION:2.0
PRODID:-//jEvents 2.0 for Joomla//EN
CALSCALE:GREGORIAN
METHOD:PUBLISH
BEGIN:VEVENT
UID:a6ad6cafd7051d7040667885f937c9af
CATEGORIES:APECS Events
CREATED:20210315T132146
SUMMARY:APECS Switzerland - Virtual member meeting
LOCATION:Online
DESCRIPTION:The week from the 14th to 20th of March is the international Polar Week. AP
 ECS Switzerland (https://apecsswitzerland.wixsite.com/home) is organizing a
  virtual member meeting during this week.\nJoin us on Friday, 19th of March
  from 3pm to 5pm online!\nAll early career scientists working on polar and 
 high altitude topics are very welcome!\nThe <a href="https://apecs.is/image
 s/Articles/Files/279_Rebecca_Gugerli_APECS_Switzerland_Polar_Week_March_202
 1.pdf" target="_blank" rel="noopener">program</a> consists of presentations
  from members about their research and research groups and discussions in s
 mall groups about potential activities. The member meeting will be followed
  by an Apéro (online).\nRegistration:\n\nPlease register with the following
  link and you will receive the link to the meeting afterwards.\n (https://u
 s02web.zoom.us/meeting/register/tZYlf-GprDIuGtav3R0_6XC6hHeprXTZMD9F)<a hre
 f="https://us02web.zoom.us/meeting/register/tZYlf-GprDIuGtav3R0_6XC6hHeprXT
 ZMD9F" target="_blank" rel="noopener">https://us02web.zoom.us/meeting/regis
 ter/tZYlf-GprDIuGtav3R0_6XC6hHeprXTZMD9F</a>\n\nThe Apérocan be joined here
 :  (https://gather.town/app/W8TGp7SB5wQACQ1k/apecsvirtualmembermeeting)<a h
 ref="https://gather.town/app/W8TGp7SB5wQACQ1k/apecsvirtualmembermeeting" ta
 rget="_blank" rel="noopener">https://gather.town/app/W8TGp7SB5wQACQ1k/apecs
 virtualmembermeeting</a>\nContact:\nAPECS Switzerland ( (mailto:apecs.switz
 erland@gmail.com)This email address is being protected from spambots. You n
 eed JavaScript enabled to view it.
				document.getElementById('cloak0ec3f7
 be75218bb5b784c470dbb430c9').innerHTML = '';
				var prefix = '&#109;a' + '
 i&#108;' + '&#116;o';
				var path = 'hr' + 'ef' + '=';
				var addy0ec3f7b
 e75218bb5b784c470dbb430c9 = '&#97;p&#101;cs.sw&#105;tz&#101;rl&#97;nd' + '&
 #64;';
				addy0ec3f7be75218bb5b784c470dbb430c9 = addy0ec3f7be75218bb5b784c
 470dbb430c9 + 'gm&#97;&#105;l' + '&#46;' + 'c&#111;m';
				var addy_text0ec
 3f7be75218bb5b784c470dbb430c9 = '&#97;p&#101;cs.sw&#105;tz&#101;rl&#97;nd' 
 + '&#64;' + 'gm&#97;&#105;l' + '&#46;' + 'c&#111;m';document.getElementById
 ('cloak0ec3f7be75218bb5b784c470dbb430c9').innerHTML += '<a ' + path + '\'' 
 + prefix + ':' + addy0ec3f7be75218bb5b784c470dbb430c9 + '\'>'+addy_text0ec3
 f7be75218bb5b784c470dbb430c9+'';
		)\n<a href="https://apecsswitzerland.wix
 site.com/home" target="_blank" rel="noopener"></a>https://apecsswitzerland.
 wixsite.com/home\nFacebook: APECS SwitzerlandNC\n
X-ALT-DESC;FMTTYPE=text/html:<p style="text-align: justify;">The week from the 14th to 20th of March is 
 the international Polar Week. <a href="https://apecsswitzerland.wixsite.com
 /home" target="_blank" rel="noopener"><strong>APECS Switzerland</strong></a
 > is organizing a virtual member meeting during this week.</p><p style="tex
 t-align: justify;"><strong>Join us on Friday, 19th of March from 3pm to 5pm
  online!</strong></p><p style="text-align: justify;">All early career scien
 tists working on polar and high altitude topics are very welcome!</p><p sty
 le="text-align: justify;">The <strong><a href="https://apecs.is/images/Arti
 cles/Files/279_Rebecca_Gugerli_APECS_Switzerland_Polar_Week_March_2021.pdf"
  target="_blank" rel="noopener">program</a></strong> consists of presentati
 ons from members about their research and research groups and discussions i
 n small groups about potential activities. The member meeting will be follo
 wed by an Apéro (online).</p><p style="text-align: justify;"><strong>Regist
 ration:<br /></strong><br />Please register with the following link and you
  will receive the link to the meeting afterwards.<br /><a href="https://us0
 2web.zoom.us/meeting/register/tZYlf-GprDIuGtav3R0_6XC6hHeprXTZMD9F" target=
 "_blank" rel="noopener"></a><a href="https://us02web.zoom.us/meeting/regist
 er/tZYlf-GprDIuGtav3R0_6XC6hHeprXTZMD9F" target="_blank" rel="noopener">htt
 ps://us02web.zoom.us/meeting/register/tZYlf-GprDIuGtav3R0_6XC6hHeprXTZMD9F<
 /a><br /><br />The Apérocan be joined here: <a href="https://gather.town/ap
 p/W8TGp7SB5wQACQ1k/apecsvirtualmembermeeting" target="_blank" rel="noopener
 "></a><a href="https://gather.town/app/W8TGp7SB5wQACQ1k/apecsvirtualmemberm
 eeting" target="_blank" rel="noopener">https://gather.town/app/W8TGp7SB5wQA
 CQ1k/apecsvirtualmembermeeting</a></p><p style="text-align: justify;"><stro
 ng>Contact:</strong><br />APECS Switzerland (<span id="cloak4c4f242e8b39ccb
 c89222e7110fa14e3"><a href="mailto:apecs.switzerland@gmail.com" target="_bl
 ank"></a><span id="cloak0ec3f7be75218bb5b784c470dbb430c9">This email addres
 s is being protected from spambots. You need JavaScript enabled to view it.
 </span><script type='text/javascript'>
				document.getElementById('cloak0e
 c3f7be75218bb5b784c470dbb430c9').innerHTML = '';
				var prefix = '&#109;a'
  + 'i&#108;' + '&#116;o';
				var path = 'hr' + 'ef' + '=';
				var addy0ec
 3f7be75218bb5b784c470dbb430c9 = '&#97;p&#101;cs.sw&#105;tz&#101;rl&#97;nd' 
 + '&#64;';
				addy0ec3f7be75218bb5b784c470dbb430c9 = addy0ec3f7be75218bb5b
 784c470dbb430c9 + 'gm&#97;&#105;l' + '&#46;' + 'c&#111;m';
				var addy_tex
 t0ec3f7be75218bb5b784c470dbb430c9 = '&#97;p&#101;cs.sw&#105;tz&#101;rl&#97;
 nd' + '&#64;' + 'gm&#97;&#105;l' + '&#46;' + 'c&#111;m';document.getElement
 ById('cloak0ec3f7be75218bb5b784c470dbb430c9').innerHTML += '<a ' + path + '
 \'' + prefix + ':' + addy0ec3f7be75218bb5b784c470dbb430c9 + '\'>'+addy_text
 0ec3f7be75218bb5b784c470dbb430c9+'<\/a>';
		</script></span>)<br /><a href=
 "https://apecsswitzerland.wixsite.com/home" target="_blank" rel="noopener">
 </a><a href="https://apecsswitzerland.wixsite.com/home" target="_blank" rel
 ="noopener">https://apecsswitzerland.wixsite.com/home</a><br />Facebook: AP
 ECS SwitzerlandNC</p>
DTSTAMP:20260420T150839Z
DTSTART;TZID=UTC;VALUE=DATE:20210319
DTEND;TZID=UTC;VALUE=DATE:20210320
SEQUENCE:0
TRANSP:OPAQUE
END:VEVENT
END:VCALENDAR