BEGIN:VCALENDAR
VERSION:2.0
PRODID:-//jEvents 2.0 for Joomla//EN
CALSCALE:GREGORIAN
METHOD:PUBLISH
BEGIN:VEVENT
UID:5ca1d17896af6f739ccb344ad9a5aa90
CATEGORIES:APECS Events
CREATED:20210315T133008
SUMMARY:APECS Colombia Seminar: "Our Tropical Glaciers, Imminent Extinction?"
LOCATION:Online
DESCRIPTION:<p style="text-align: justify;">Within the APECS events and activities fram
 ework, the International Polar Week will be held between March 14 and 20, 2
 021. APECS Colombia will participate in the <strong>Seminar "Our Tropical G
 laciers, Imminent Extinction?"</strong> to take place next <strong>Saturday
 , March 20, from 10:00 to 12:00 am (GMT-5)</strong>. Topics are developed o
 n glacier monitoring networks in Colombia, morphometric analysis, and major
  social initiatives such as Cumbres Blancas and Ascenso Andino. We extend t
 he invitation to those interested in these topics relevant to our country, 
 the world, and cryosphere research in general.<br /><br />To participate, y
 ou must register in advance by following&nbsp;<strong><a href="https://docs
 .google.com/forms/d/e/1FAIpQLSevzQCbmVmPMK42z3yk0ef69J9HbgCJySuhxHJklMk_DNf
 R4w/viewform" target="_blank" rel="noopener">this link</a></strong>. 2 days
  before the event, we will share the zoom link.<br /><br />We hope to count
  on your participation.</p><p style="text-align: justify;">APECS Colombia<b
 r />Impulsando el futuro de la Investigación de la criósfera Colombiana</p>
DTSTAMP:20260419T151235Z
DTSTART;TZID=UTC;VALUE=DATE:20210320
DTEND;TZID=UTC;VALUE=DATE:20210321
SEQUENCE:0
TRANSP:OPAQUE
END:VEVENT
END:VCALENDAR