BEGIN:VCALENDAR
VERSION:2.0
PRODID:-//jEvents 2.0 for Joomla//EN
CALSCALE:GREGORIAN
METHOD:PUBLISH
BEGIN:VEVENT
UID:80232549674106bd99bf9be0969525d2
CATEGORIES:Polar Online Events
CREATED:20210322T074541
SUMMARY:GeoX ECSS workshop on “Online conferences 2021”
LOCATION:Online
DESCRIPTION:We would like to draw your attention to the GeoX Early Career Scientist Sec
 tion workshop on “Online conferences 2021”. The workshop will be on Tuesday
  the 13th of April between 10-12 h.\nThe conference season for 2021 is kick
 ing off and for a lot of people this means staying at home while following 
 multiple sessions, giving a talk of presenting a poster, following a worksh
 op, networking etc.\nSo what does it mean to join an online conference? Wha
 t are the benefits and what are the negative sides? Some of you may have jo
 ined an online conference last year and perhaps have questions on how thing
 s have been improved.\nSpeakers:\n\n - Peter van der Beek (University of Po
 tsdam, Chair of the EGU Programme Committee) “Organising vEGU21: Challenges
  and Opportunities”\n - Michael Dietze (GFZ) “Short courses and town hall m
 eetings”\n - Valby van Schijndel (University of Potsdam) “Online, Hybrid or
  On site?”\n - Anne Schöpa (GFZ) “Hands-on practice in presenting your rese
 arch in 4 sentences”The workshop will be held by ZOOM and the link will be 
 sent to you after registration.\nPlease register by sending a short email w
 ith your name and affiliation to this address: This email address is being 
 protected from spambots. You need JavaScript enabled to view it.
				docume
 nt.getElementById('cloaka2a0ca3b4c4ccbce80a8fb2192954a76').innerHTML = '';

 				var prefix = '&#109;a' + 'i&#108;' + '&#116;o';
				var path = 'hr' + '
 ef' + '=';
				var addya2a0ca3b4c4ccbce80a8fb2192954a76 = 'q&#117;&#101;st&
 #105;&#111;ns' + '&#64;';
				addya2a0ca3b4c4ccbce80a8fb2192954a76 = addya2
 a0ca3b4c4ccbce80a8fb2192954a76 + 'g&#101;&#111;-x' + '&#46;' + 'n&#101;t';

 				var addy_texta2a0ca3b4c4ccbce80a8fb2192954a76 = 'q&#117;&#101;st&#105;&
 #111;ns' + '&#64;' + 'g&#101;&#111;-x' + '&#46;' + 'n&#101;t';document.getE
 lementById('cloaka2a0ca3b4c4ccbce80a8fb2192954a76').innerHTML += '<a ' + pa
 th + '\'' + prefix + ':' + addya2a0ca3b4c4ccbce80a8fb2192954a76 + '\'>'+add
 y_texta2a0ca3b4c4ccbce80a8fb2192954a76+'';
		\nHere you can also submit any
  questions you would like to be addressed during the workshop.\nTake care,\
 nValby and the ECS-core team\nhttps://www.geo-x.net/ecs/\n
X-ALT-DESC;FMTTYPE=text/html:<p style="text-align: justify;">We would like to draw your attention to the
  GeoX Early Career Scientist Section workshop on<strong> “Online conference
 s 2021”</strong>. The workshop will be on <strong>Tuesday the 13th of April
  between 10-12 h</strong>.</p><p style="text-align: justify;">The conferenc
 e season for 2021 is kicking off and for a lot of people this means staying
  at home while following multiple sessions, giving a talk of presenting a p
 oster, following a workshop, networking etc.</p><p style="text-align: justi
 fy;">So what does it mean to join an online conference? What are the benefi
 ts and what are the negative sides? Some of you may have joined an online c
 onference last year and perhaps have questions on how things have been impr
 oved.</p><p style="text-align: justify;"><strong>Speakers:</strong></p><ul 
 style="text-align: justify;"><li><strong>Peter van der Beek</strong> (Unive
 rsity of Potsdam, Chair of the EGU Programme Committee) “Organising vEGU21:
  Challenges and Opportunities”</li><li><strong>Michael Dietze</strong> (GFZ
 ) “Short courses and town hall meetings”</li><li><strong>Valby van Schijnde
 l</strong> (University of Potsdam) “Online, Hybrid or On site?”</li><li><st
 rong>Anne Schöpa</strong> (GFZ) “Hands-on practice in presenting your resea
 rch in 4 sentences”</li></ul><p style="text-align: justify;">The workshop w
 ill be held by ZOOM and the link will be sent to you after registration.</p
 ><p style="text-align: justify;">Please register by sending a short email w
 ith your name and affiliation to this address: <span id="cloaka2a0ca3b4c4cc
 bce80a8fb2192954a76">This email address is being protected from spambots. Y
 ou need JavaScript enabled to view it.</span><script type='text/javascript'
 >
				document.getElementById('cloaka2a0ca3b4c4ccbce80a8fb2192954a76').inne
 rHTML = '';
				var prefix = '&#109;a' + 'i&#108;' + '&#116;o';
				var pat
 h = 'hr' + 'ef' + '=';
				var addya2a0ca3b4c4ccbce80a8fb2192954a76 = 'q&#1
 17;&#101;st&#105;&#111;ns' + '&#64;';
				addya2a0ca3b4c4ccbce80a8fb2192954
 a76 = addya2a0ca3b4c4ccbce80a8fb2192954a76 + 'g&#101;&#111;-x' + '&#46;' + 
 'n&#101;t';
				var addy_texta2a0ca3b4c4ccbce80a8fb2192954a76 = 'q&#117;&#1
 01;st&#105;&#111;ns' + '&#64;' + 'g&#101;&#111;-x' + '&#46;' + 'n&#101;t';d
 ocument.getElementById('cloaka2a0ca3b4c4ccbce80a8fb2192954a76').innerHTML +
 = '<a ' + path + '\'' + prefix + ':' + addya2a0ca3b4c4ccbce80a8fb2192954a76
  + '\'>'+addy_texta2a0ca3b4c4ccbce80a8fb2192954a76+'<\/a>';
		</script></p>
 <p style="text-align: justify;">Here you can also submit any questions you 
 would like to be addressed during the workshop.</p><p style="text-align: ju
 stify;">Take care,</p><p style="text-align: justify;">Valby and the ECS-cor
 e team</p><p style="text-align: justify;"><a href="https://www.geo-x.net/ec
 s/" target="_blank" rel="noopener">https://www.geo-x.net/ecs/</a></p>
DTSTAMP:20260422T213849Z
DTSTART;TZID=UTC;VALUE=DATE:20210413
DTEND;TZID=UTC;VALUE=DATE:20210414
SEQUENCE:0
TRANSP:OPAQUE
END:VEVENT
END:VCALENDAR