BEGIN:VCALENDAR
VERSION:2.0
PRODID:-//jEvents 2.0 for Joomla//EN
CALSCALE:GREGORIAN
METHOD:PUBLISH
BEGIN:VEVENT
UID:260565c52a8c0fca8f0f56b77edeb87f
CATEGORIES:Polar Online Events
CREATED:20210322T074945
SUMMARY:March ICYS international ice-core seminar
LOCATION:Online
DESCRIPTION:2021 ICYS international ice-core seminar series \nThe second ICYS internati
 onal ice-core seminar will take place on March 25th at 20:00 – 21:00 UTC:\n
 \n - Water isotopes, ice cores, and paleoclimate – Bradley Markle (Universi
 ty of Colorado/INSTAAR, USA).\n\n\n - How does the isotopic composition of 
 the surface snow change during snow metamorphism, and what are the processe
 s driving this change? – Romilly Harris- Stuart (University of Bergen, Norw
 ay).To receive the zoom link for the seminar, please email:  (mailto:icecor
 eys@gmail.com)This email address is being protected from spambots. You need
  JavaScript enabled to view it.
				document.getElementById('cloak24933ba06
 de315b78bf4bd8474ed5bef').innerHTML = '';
				var prefix = '&#109;a' + 'i&#
 108;' + '&#116;o';
				var path = 'hr' + 'ef' + '=';
				var addy24933ba06d
 e315b78bf4bd8474ed5bef = '&#105;c&#101;c&#111;r&#101;ys' + '&#64;';
				add
 y24933ba06de315b78bf4bd8474ed5bef = addy24933ba06de315b78bf4bd8474ed5bef + 
 'gm&#97;&#105;l' + '&#46;' + 'c&#111;m';
				var addy_text24933ba06de315b78
 bf4bd8474ed5bef = '&#105;c&#101;c&#111;r&#101;ys' + '&#64;' + 'gm&#97;&#105
 ;l' + '&#46;' + 'c&#111;m';document.getElementById('cloak24933ba06de315b78b
 f4bd8474ed5bef').innerHTML += '<a ' + path + '\'' + prefix + ':' + addy2493
 3ba06de315b78bf4bd8474ed5bef + '\'>'+addy_text24933ba06de315b78bf4bd8474ed5
 bef+'';
		, with the header ‘Seminar’. The link will be emailed out to you 
 ~24 hrs before the seminar. Please note if you have already done this for t
 he first seminar, you do not need to email again.\nMore information about f
 uture talks will be posted on the ICYS PAGES website: <a href="http://pastg
 lobalchanges.org/science/end-aff/icys" target="_blank" rel="noopener">http:
 //pastglobalchanges.org/science/end-aff/icys</a> and on twitter @ICYSci.\n 
 \n
X-ALT-DESC;FMTTYPE=text/html:<p style="text-align: justify;"><strong>2021 ICYS international ice-core se
 minar series </strong></p><p style="text-align: justify;">The second ICYS i
 nternational ice-core seminar will take place on <strong>March 25<sup>th</s
 up> </strong>at <strong>20:00 – 21:00 UTC</strong>:</p><ol style="text-alig
 n: justify;"><li><strong>Water isotopes, ice cores, and paleoclimate – Brad
 ley Markle</strong> (University of Colorado/INSTAAR, USA).<br /><br /></li>
 <li><strong>How does the isotopic composition of the surface snow change du
 ring snow metamorphism, and what are the processes driving this change? – R
 omilly Harris- Stuart</strong> (University of Bergen, Norway).</li></ol><p 
 style="text-align: justify;"><strong>To receive the zoom link for the semin
 ar, please email: </strong><a href="mailto:icecoreys@gmail.com"></a><strong
 ><span id="cloak24933ba06de315b78bf4bd8474ed5bef">This email address is bei
 ng protected from spambots. You need JavaScript enabled to view it.</span><
 script type='text/javascript'>
				document.getElementById('cloak24933ba06d
 e315b78bf4bd8474ed5bef').innerHTML = '';
				var prefix = '&#109;a' + 'i&#1
 08;' + '&#116;o';
				var path = 'hr' + 'ef' + '=';
				var addy24933ba06de
 315b78bf4bd8474ed5bef = '&#105;c&#101;c&#111;r&#101;ys' + '&#64;';
				addy
 24933ba06de315b78bf4bd8474ed5bef = addy24933ba06de315b78bf4bd8474ed5bef + '
 gm&#97;&#105;l' + '&#46;' + 'c&#111;m';
				var addy_text24933ba06de315b78b
 f4bd8474ed5bef = '&#105;c&#101;c&#111;r&#101;ys' + '&#64;' + 'gm&#97;&#105;
 l' + '&#46;' + 'c&#111;m';document.getElementById('cloak24933ba06de315b78bf
 4bd8474ed5bef').innerHTML += '<a ' + path + '\'' + prefix + ':' + addy24933
 ba06de315b78bf4bd8474ed5bef + '\'>'+addy_text24933ba06de315b78bf4bd8474ed5b
 ef+'<\/a>';
		</script></strong><strong>, with the header ‘Seminar’. </stro
 ng>The link will be emailed out to you ~24 hrs before the seminar. Please n
 ote if you have already done this for the first seminar, you do not need to
  email again.</p><p style="text-align: justify;">More information about fut
 ure talks will be posted on the ICYS PAGES website: <a href="http://pastglo
 balchanges.org/science/end-aff/icys" target="_blank" rel="noopener">http://
 pastglobalchanges.org/science/end-aff/icys</a> and on twitter @ICYSci.</p><
 p style="text-align: justify;">&nbsp;</p>
DTSTAMP:20260423T104907Z
DTSTART;TZID=UTC;VALUE=DATE:20210325
DTEND;TZID=UTC;VALUE=DATE:20210326
SEQUENCE:0
TRANSP:OPAQUE
END:VEVENT
END:VCALENDAR