BEGIN:VCALENDAR
VERSION:2.0
PRODID:-//jEvents 2.0 for Joomla//EN
CALSCALE:GREGORIAN
METHOD:PUBLISH
BEGIN:VEVENT
UID:f628d5d41e6815eb5462295b3d4bceca
CATEGORIES:Polar Online Events
CREATED:20210322T100722
SUMMARY:IARPC Arctic Research Plan Draft - Teleconference
LOCATION:Online
DESCRIPTION:The Interagency Arctic Research Policy Committee (IARPC) has released a dra
 ft (https://www.iarpccollaborations.org/draft-plan.html) of the next five-y
 ear Arctic Research Plan, which will span from 2022-2026. IARPC is now aski
 ng the public to comment on the draft plan by June 11, 2021. To provide add
 itional information about the draft plan contents and development, IARPC is
  hosting a series of one-hour information sessions.\n \n Each information s
 ession will provide an overview of IARPC, the timeline for developing the A
 rctic Research Plan 2022-2026, the contents of the draft plan, and how to s
 ubmit comments on the draft.\n \n In addition to this information, each web
 inar will provide a deeper dive into one of the plan priority areas or the 
 foundational activities. We will also host a teleconference-only informatio
 n session for individuals who cannot access webinars due to lower internet 
 bandwidth. Please note that these are informational sessions only; official
  comments must be submitted separately.\nTeleconference: Complete Plan Over
 view, For People With Low Internet Bandwidth\n April 6, 9am AKT/1pm ET\n Di
 al in: (877) 423 6338\n Participant code: 527651\nNext webinars:\n\n - Webi
 nar 3: Focus on Priority Area 2 (Arctic Systems Interactions)\nApril 19, 10
 am AKT/2pm ET\n - Webinar 4: Focus on Priority Area 4 (Risk Management &amp
 ; Hazard Mitigation)\nMay 17, 10am AKT/2pm ET
X-ALT-DESC;FMTTYPE=text/html:<p><strong>The Interagency Arctic Research Policy Committee (IARPC)&nbsp;</
 strong>has <a href="https://www.iarpccollaborations.org/draft-plan.html" ta
 rget="_blank" rel="noopener">released a draft</a>&nbsp;of the next five-yea
 r Arctic Research Plan, which will span from 2022-2026. IARPC is now <stron
 g>asking the public to comment on the draft plan by June 11, 2021.</strong>
  To provide additional information about the draft plan contents and develo
 pment, IARPC is hosting a series of one-hour information sessions.<br /> <b
 r /> Each information session will provide an overview of&nbsp;IARPC, the t
 imeline for developing the Arctic Research Plan 2022-2026, the contents of 
 the draft plan, and how to submit comments on the draft.<br /> <br /> In ad
 dition to this information, each webinar will provide a deeper dive into on
 e of the plan priority areas or the foundational activities. We will also h
 ost a teleconference-only information session for individuals who cannot ac
 cess webinars due to lower internet bandwidth. Please note that these are i
 nformational sessions only; official comments must be&nbsp;submitted separa
 tely.</p><p><strong><strong>Teleconference: Complete Plan Overview, For Peo
 ple With Low Internet Bandwidth<br /> April 6, 9am AKT/1pm ET</strong><br /
 > Dial in: (877) 423 6338<br /> Participant code: 527651</strong></p><p>Nex
 t webinars:</p><ul><li><strong>Webinar 3:</strong> Focus on Priority Area 2
  (Arctic Systems Interactions)<br />April 19, 10am AKT/2pm ET</li><li><stro
 ng>Webinar 4:</strong> Focus on Priority Area 4 (Risk Management &amp; Haza
 rd Mitigation)<br />May 17, 10am AKT/2pm ET</li></ul>
DTSTAMP:20260423T165013Z
DTSTART;TZID=UTC;VALUE=DATE:20210406
DTEND;TZID=UTC;VALUE=DATE:20210407
SEQUENCE:0
TRANSP:OPAQUE
END:VEVENT
END:VCALENDAR