BEGIN:VCALENDAR
VERSION:2.0
PRODID:-//jEvents 2.0 for Joomla//EN
CALSCALE:GREGORIAN
METHOD:PUBLISH
BEGIN:VEVENT
UID:06e58e680dbccdaf7b2799d2e7a3e62b
CATEGORIES:APECS Events
CREATED:20210323T132112
SUMMARY:Series of webinars "Café con hielo" (POLARCSIC & APECS-Spain)
LOCATION:Online
DESCRIPTION:<p>The first session, <strong>"Climate Change at the Poles"</strong> will b
 e held on <strong>23rd March 2021, at 18:30 h (GMT+1)</strong>. <br /><br /
 >Join us here: <a href="https://youtu.be/yH611zOZY2o"></a><a href="https://
 youtu.be/yH611zOZY2o">https://youtu.be/yH611zOZY2o</a>!</p><p>"Café con hie
 lo" is a series of dissemination talks that will cover current issues on po
 lar science. The activity comes from the collaboration between the platform
  POLARCSIC (from the Spanish National Research Council) and APECS-Spain, wi
 th the aim of approaching polar science to the general public. The series w
 ill include 6 sessions, all of them during Spring 2021. In each session, tw
 o scientists will give a flash talk about different perspectives of the ses
 sion topic and afterwards, there will be an open round table, conducted by 
 a chair related to the topic. The idea is to promote the participation of t
 he audience with questions and comments to create a conversation among all 
 the participants. The activities will be broadcasted live on Youtube and wi
 ll be in Spanish, so we encourage all our Spanish speaker colleagues from a
 ll over the world to join us!</p><p><br />First session: <strong>"Climate C
 hange at the Poles"</strong><br />"Global warming is dramatically accelerat
 ing the melting of ice and snow in the Arctic and Antarctica, affecting not
  only human, animal and plant life, but also atmospheric and ocean circulat
 ion and sea level. The changes that occur in the polar zones affect the ent
 ire planet, with direct consequences on climate dynamics, both in other lat
 itudes and in global climate processes. According to scientists, the growin
 g threats of climate change make polar research an increasingly global prio
 rity. Now, a webinar entitled "Climate Change at the Poles", which is part 
 of the new cycle of outreach conferences "Coffee with ice", addresses these
  issues. It will feature Carlota Escutia, scientist at the Andalusian Insti
 tute of Earth Sciences (IACT-CSIC-UGR), and Nicolás Valiente, researcher at
  the University of Oslo. The meeting will be moderated by José Miguel Viñas
 , meteorologist at Meteored and disseminator of atmospheric sciences. Escut
 ia will discuss the impact of climate change on the Antarctic ice sheets an
 d Valiente will explain the role of Arctic lake ecosystems as sentinels of 
 climate change." <a href="https://youtu.be/yH611zOZY2o"><br /><br /></a>For
  any questions, please contact <span id="cloak61a59cd4eea151df66bb80e80c513
 968"><a href="mailto:apecs.spain@gmail.com"></a><span id="cloak29b3e3f84526
 73f9795bf5896cb963b2">This email address is being protected from spambots. 
 You need JavaScript enabled to view it.</span><script type='text/javascript
 '>
				document.getElementById('cloak29b3e3f8452673f9795bf5896cb963b2').inn
 erHTML = '';
				var prefix = '&#109;a' + 'i&#108;' + '&#116;o';
				var pa
 th = 'hr' + 'ef' + '=';
				var addy29b3e3f8452673f9795bf5896cb963b2 = '&#9
 7;p&#101;cs.sp&#97;&#105;n' + '&#64;';
				addy29b3e3f8452673f9795bf5896cb9
 63b2 = addy29b3e3f8452673f9795bf5896cb963b2 + 'gm&#97;&#105;l' + '&#46;' + 
 'c&#111;m';
				var addy_text29b3e3f8452673f9795bf5896cb963b2 = '&#97;p&#10
 1;cs.sp&#97;&#105;n' + '&#64;' + 'gm&#97;&#105;l' + '&#46;' + 'c&#111;m';do
 cument.getElementById('cloak29b3e3f8452673f9795bf5896cb963b2').innerHTML +=
  '<a ' + path + '\'' + prefix + ':' + addy29b3e3f8452673f9795bf5896cb963b2 
 + '\'>'+addy_text29b3e3f8452673f9795bf5896cb963b2+'<\/a>';
		</script></spa
 n>.</p>
DTSTAMP:20260419T205210Z
DTSTART;TZID=UTC:20210323T183000
SEQUENCE:0
TRANSP:OPAQUE
END:VEVENT
END:VCALENDAR