BEGIN:VCALENDAR
VERSION:2.0
PRODID:-//jEvents 2.0 for Joomla//EN
CALSCALE:GREGORIAN
METHOD:PUBLISH
BEGIN:VEVENT
UID:4c1f656b3a8c99a0413e9f01b110da1b
CATEGORIES:Polar Online Events
CREATED:20210329T064647
SUMMARY:Arctic Sustainable Energy Research Conference: Research and community needs in the context of a global energy transition
LOCATION:Online
DESCRIPTION:<p style="text-align: justify;">Organizers announce a three-day virtual con
 ference, <strong>“Arctic Sustainable Energy: Research and Community Needs i
 n the Context of a Global Energy Transition”</strong> focused on sustainabl
 e energy and energy efficiency research. This conference will take place <s
 trong>20—22 April 2021 from 8:30 a.m. to 12:00 p.m. (Alaska Daylight Time)<
 /strong> on each day. Registration is free of charge.</p><p style="text-ali
 gn: justify;">The conference will feature guest speakers and panelists from
  Alaska and around the world. It is sponsored by the U.S. Arctic Research C
 ommission with co-sponsorship by the Cold Climate Housing Research Center, 
 the National Renewable Energy Laboratory, the Alaska Native Tribal Health C
 onsortium, and the Alaska Center for Energy and Power;</p><p style="text-al
 ign: justify;"><em>Conference Objectives</em></p><ul style="text-align: jus
 tify;"><li>Provide a forum to share the latest information on sustainable e
 nergy research in remote, cold climate communities.</li><li>Determine susta
 inable energy research gaps in Arctic and sub-Arctic regions.</li><li>Inves
 tigate links between renewable energy research and climate and energy equit
 y.</li><li>Discuss changes in policy needed to meet climate goals and commu
 nity needs.</li></ul><p style="text-align: justify;"><em>Conference Session
 s</em></p><ul style="text-align: justify;"><li>20 April: Climate, Energy, a
 nd Community Needs.</li><li>21 April: Buildings and Infrastructure – Energy
  Efficiency, Distributed Energy Resources.</li><li>22 April: Sustainable En
 ergy – Technologies, Integration.</li></ul><p style="text-align: justify;">
 <a href="https://www.arctic.gov/uploads/assets/arctic-sustainable-energy-re
 search-agenda.pdf" target="_blank" rel="noopener">Download the Agenda </a><
 /p><p style="text-align: justify;"><a href="https://www.arctic.gov/arctic-s
 ustainable-energy-research-conference/" target="_blank" rel="noopener">Furt
 her Information</a></p><p style="text-align: justify;"><a href="https://us0
 2web.zoom.us/webinar/register/WN_Ten-BGLXQhOa2EXPgBzCog" target="_blank" re
 l="noopener">Conference Registration</a></p><p style="text-align: justify;"
 >For additional information, please contact the conference organizers at: <
 span id="cloaka1b215448082d2d4035c3ba7e97230a3">This email address is being
  protected from spambots. You need JavaScript enabled to view it.</span><sc
 ript type='text/javascript'>
				document.getElementById('cloaka1b215448082
 d2d4035c3ba7e97230a3').innerHTML = '';
				var prefix = '&#109;a' + 'i&#108
 ;' + '&#116;o';
				var path = 'hr' + 'ef' + '=';
				var addya1b215448082d
 2d4035c3ba7e97230a3 = 'r&#101;sc&#111;&#111;rd' + '&#64;';
				addya1b21544
 8082d2d4035c3ba7e97230a3 = addya1b215448082d2d4035c3ba7e97230a3 + '&#97;rct
 &#105;c' + '&#46;' + 'g&#111;v';
				var addy_texta1b215448082d2d4035c3ba7e
 97230a3 = 'r&#101;sc&#111;&#111;rd' + '&#64;' + '&#97;rct&#105;c' + '&#46;'
  + 'g&#111;v';document.getElementById('cloaka1b215448082d2d4035c3ba7e97230a
 3').innerHTML += '<a ' + path + '\'' + prefix + ':' + addya1b215448082d2d40
 35c3ba7e97230a3 + '\'>'+addy_texta1b215448082d2d4035c3ba7e97230a3+'<\/a>';

 		</script>.</p>
DTSTAMP:20260420T142844Z
DTSTART;TZID=UTC;VALUE=DATE:20210420
DTEND;TZID=UTC;VALUE=DATE:20210423
SEQUENCE:0
TRANSP:OPAQUE
END:VEVENT
END:VCALENDAR