BEGIN:VCALENDAR
VERSION:2.0
PRODID:-//jEvents 2.0 for Joomla//EN
CALSCALE:GREGORIAN
METHOD:PUBLISH
BEGIN:VEVENT
UID:dc9faecc21b45c936e4df16da397c633
CATEGORIES:Polar Online Events
CREATED:20210329T072641
SUMMARY:Ocean Visions Summit 2021
LOCATION:Online
DESCRIPTION:The Ocean Visions 2021 Summit May 18-21, 2021 “Towards a Global Ecosystem f
 or Ocean Solutions” will bring together a multi-sector community of researc
 hers, innovators, decision-makers, funders, and more to develop roadmaps fo
 r solving great ocean challenges including ocean-based solutions to climate
 , equitable coastal solutions strategies for resilience and adaptation, mar
 ine circular economies, ocean &amp; human health, and how to transform rese
 arch from academia into sustainable businesses.\nSubmission deadline: 1st A
 pril\nFor more information and registration visit conference website (https
 ://www.oceanvisions.org/summit-2021).\n
X-ALT-DESC;FMTTYPE=text/html:<p style="text-align: justify;">The <strong>Ocean Visions 2021 Summit May 1
 8-21, 2021 “Towards a Global Ecosystem for Ocean Solutions”</strong> will b
 ring together a multi-sector community of researchers, innovators, decision
 -makers, funders, and more to develop roadmaps for solving great ocean chal
 lenges including ocean-based solutions to climate, equitable coastal soluti
 ons strategies for resilience and adaptation, marine circular economies, oc
 ean &amp; human health, and how to transform research from academia into su
 stainable businesses.</p><p style="text-align: justify;"><strong>Submission
  deadline: 1st April</strong></p><p style="text-align: justify;">For more i
 nformation and registration visit <a href="https://www.oceanvisions.org/sum
 mit-2021" target="_blank" rel="noopener">conference website</a>.</p>
DTSTAMP:20260422T154820Z
DTSTART;TZID=UTC;VALUE=DATE:20210518
DTEND;TZID=UTC;VALUE=DATE:20210522
SEQUENCE:0
TRANSP:OPAQUE
END:VEVENT
END:VCALENDAR