BEGIN:VCALENDAR
VERSION:2.0
PRODID:-//jEvents 2.0 for Joomla//EN
CALSCALE:GREGORIAN
METHOD:PUBLISH
BEGIN:VEVENT
UID:ffd29645d023a3e363e9ebe1c0beee28
CATEGORIES:Polar Online Events
CREATED:20210329T130730
SUMMARY:International Glaciological Society Global Seminar Series 2021 #39
LOCATION:Online
DESCRIPTION:International Glaciological Society Global Seminar Series 2021 #39 - March 
 31st\nDrew Christ, University of Vermont\n"A multi-million-year-old record 
 of Greenland vegetation and glacial history preserved in sediment beneath 1
 .4 km of ice at Camp Century"\nYou need to register in advance for the semi
 nars, but your registration should last for several seminars. If it was a w
 hile ago that you registered - check your link still works and drop me an e
 mail if it doesn't. There's a short question to answer - please tell me eno
 ugh to accept you! I'll be doing that manually, so just be kind and make it
  obvious (even if I met you once at AGU)… (something like: I'm a PhD studen
 t with X... or whatever). Using your official university email address woul
 d make my life particularly easy! https://tinyurl.com/yyhbcqrq\nAfter regis
 tering, you will receive a confirmation email containing information about 
 joining the seminar. If you attended this week you use the same link next w
 eek and don't need to re-register.\n• April 14th Joseph Graly, Northumbria 
 University, "What do we know about subglacial geochemistry?"\n• April 21st 
 Lauren Simkins, University of Virginia, "Landform evidence of persistent su
 bglacial plumbing near grounding lines"\n• April 28th Jan Lenaerts, Univers
 ity of Boulder at Colorado, “Scratching the ice sheet surface: surface proc
 esses from observations and numerical models\n• May 5th Three shorter talks
 :\n(Emma) Mickey MacKie, Stanford Radio Glaciology, "Simulating subglacial 
 Greenland with geostatistics"\nEmma Pearce, University of Leeds, "Full Wave
 form Inversion for glaciological seismic data; Improving the seismic charac
 terisation of glacier firn"\nNico Stoll, Alfred Wegener institute Bremerhav
 en, "Impurities and deformation in the EGRIP ice core"\n• May 12th Martin S
 chneebeli, WSL Institute for Snow and Avalanche Research, Davos, "Seeing sn
 ow on sea ice during the MOSAiC expedition"\n• May 19th Hilmar Gudmundsson,
  University of Northumbria\n• May 26th Mark Carey, Oregon University, title
  tba\n• June 2nd Three shorter talks:\nDenis Felikson, NASA Goddard Space F
 light Center &amp; USRA/GESTAR, Title tba\nThomas Hudson, University of Oxf
 ord, "Breaking the ice: Using icequakes to observe hydrofracture-induced cr
 evassing"\nRajashree (Tri) Datta, University of Colorado, Boulder, Title tb
 a\n• June 9th Robin Bell, Columbia University, New York, Title tba\n• June 
 16th Miriam Jackson, ICIMOD, Title tba\n• June 23rd Kira Olsen, NASA, Title
  tba\n• June 30th Julien Chaput, University of Texas at El Paso, "Singing s
 now: How Antarctic firn traps seismic waves and reveals dynamic environment
 al forcing"\nSpaces for talks in late June, early July and August.\n• July 
 21st Three shorter talks:\nJohn Christian, UT Austin, "Outlet glacier varia
 bility near instabilities"\nThomas Chen, Academy for Mathematics, Science, 
 and Engineering, "The Role of Machine Learning in Glacial Assessment"\nEric
  Petersen, Geophysical Institute, University of Alaska Fairbanks, title tba
 \n• August 4th Three shorter talks: if you'd like a slot then please let le
 t me know\n \nThen we will have a holiday!\nSeminar times:\nLondon - 9pm (p
 lease watch out for times... if your country has changed time zone as the U
 K has not as yet)\nEurope - 10pm\nEast Coast US - 4pm\nWest Coast US - 1pm\
 nDelhi (+1) - 2.30am (sorry!)\nTokyo (+1) - 6am\nSydney (+1) - 8am\nNew Zea
 land (+1) - 10am\nThe seminar will also be recorded and posted to the Frien
 ds of the International Glaciological Society Facebook page after the semin
 ar so that you can watch it afterwards if technology fails or you can't mak
 e it! Hope to see you there!\n
X-ALT-DESC;FMTTYPE=text/html:<p style="text-align: justify;"><strong>International Glaciological Society
  Global Seminar Series 2021 #39 - March 31st</strong></p><p style="text-ali
 gn: justify;"><strong>Drew Christ, </strong>University of Vermont<br /><str
 ong>"A multi-million-year-old record of Greenland vegetation and glacial hi
 story preserved in sediment beneath 1.4 km of ice at Camp Century"</strong>
 </p><p style="text-align: justify;">You need to register in advance for the
  seminars, but your registration should last for several seminars. If it wa
 s a while ago that you registered - check your link still works and drop me
  an email if it doesn't. There's a short question to answer - please tell m
 e enough to accept you! I'll be doing that manually, so just be kind and ma
 ke it obvious (even if I met you once at AGU)… (something like: I'm a PhD s
 tudent with X... or whatever). Using your official university email address
  would make my life particularly easy! <a href="https://tinyurl.com/yyhbcqr
 q" target="_blank" rel="noopener">https://tinyurl.com/yyhbcqrq</a></p><p st
 yle="text-align: justify;">After registering, you will receive a confirmati
 on email containing information about joining the seminar. If you attended 
 this week you use the same link next week and don't need to re-register.</p
 ><p style="text-align: justify;">• April 14th Joseph Graly, Northumbria Uni
 versity, "What do we know about subglacial geochemistry?"<br />• April 21st
  Lauren Simkins, University of Virginia, "Landform evidence of persistent s
 ubglacial plumbing near grounding lines"<br />• April 28th Jan Lenaerts, Un
 iversity of Boulder at Colorado, “Scratching the ice sheet surface: surface
  processes from observations and numerical models<br />• May 5th Three shor
 ter talks:<br />(Emma) Mickey MacKie, Stanford Radio Glaciology, "Simulatin
 g subglacial Greenland with geostatistics"<br />Emma Pearce, University of 
 Leeds, "Full Waveform Inversion for glaciological seismic data; Improving t
 he seismic characterisation of glacier firn"<br />Nico Stoll, Alfred Wegene
 r institute Bremerhaven, "Impurities and deformation in the EGRIP ice core"
 <br />• May 12th Martin Schneebeli, WSL Institute for Snow and Avalanche Re
 search, Davos, "Seeing snow on sea ice during the MOSAiC expedition"<br />•
  May 19th Hilmar Gudmundsson, University of Northumbria<br />• May 26th Mar
 k Carey, Oregon University, title tba<br />• June 2nd Three shorter talks:<
 br />Denis Felikson, NASA Goddard Space Flight Center &amp; USRA/GESTAR, Ti
 tle tba<br />Thomas Hudson, University of Oxford, "Breaking the ice: Using 
 icequakes to observe hydrofracture-induced crevassing"<br />Rajashree (Tri)
  Datta, University of Colorado, Boulder, Title tba<br />• June 9th Robin Be
 ll, Columbia University, New York, Title tba<br />• June 16th Miriam Jackso
 n, ICIMOD, Title tba<br />• June 23rd Kira Olsen, NASA, Title tba</p><p sty
 le="text-align: justify;">• June 30th Julien Chaput, University of Texas at
  El Paso, "Singing snow: How Antarctic firn traps seismic waves and reveals
  dynamic environmental forcing"<br />Spaces for talks in late June, early J
 uly and August.<br />• July 21st Three shorter talks:<br />John Christian, 
 UT Austin, "Outlet glacier variability near instabilities"<br />Thomas Chen
 , Academy for Mathematics, Science, and Engineering, "The Role of Machine L
 earning in Glacial Assessment"<br />Eric Petersen, Geophysical Institute, U
 niversity of Alaska Fairbanks, title tba<br />• August 4th Three shorter ta
 lks: if you'd like a slot then please let let me know</p><p style="text-ali
 gn: justify;">&nbsp;</p><p style="text-align: justify;">Then we will have a
  holiday!</p><p style="text-align: justify;">Seminar times:<br />London - 9
 pm (please watch out for times... if your country has changed time zone as 
 the UK has not as yet)<br />Europe - 10pm<br />East Coast US - 4pm<br />Wes
 t Coast US - 1pm<br />Delhi (+1) - 2.30am (sorry!)<br />Tokyo (+1) - 6am<br
  />Sydney (+1) - 8am<br />New Zealand (+1) - 10am</p><p style="text-align: 
 justify;">The seminar will also be recorded and posted to the Friends of th
 e International Glaciological Society Facebook page after the seminar so th
 at you can watch it afterwards if technology fails or you can't make it! Ho
 pe to see you there!</p>
DTSTAMP:20260422T213735Z
DTSTART;TZID=UTC;VALUE=DATE:20210331
DTEND;TZID=UTC;VALUE=DATE:20210401
SEQUENCE:0
TRANSP:OPAQUE
END:VEVENT
END:VCALENDAR