BEGIN:VCALENDAR
VERSION:2.0
PRODID:-//jEvents 2.0 for Joomla//EN
CALSCALE:GREGORIAN
METHOD:PUBLISH
BEGIN:VEVENT
UID:3c7616ec2bde68c26e74495c80f88d96
CATEGORIES:Polar Online Events
CREATED:20210406T131008
SUMMARY:Webinar on "Future directions in GIA model intercomparison and benchmarking"
LOCATION:Online
DESCRIPTION:Our once-a-month virtual seminar series on 'sea-level changes, GIA, and ice
  sheets' continues next Tuesday, April 13th at 11:00 am EDT, with a talk by
  Wouter van der Wal of Delft University on "Future directions in GIA model 
 intercomparison and benchmarking". The talk will be followed by an extended
  discussion period with plenty of time for audience questions and interacti
 on, so please do come with your questions on this topic. We especially welc
 ome questions from early career researchers.\n\nSeminar attendance is open 
 to all and the registration link for this webinar is https://msu.zoom.us/we
 binar/register/WN_4DpYlYGORfaj8qNB-fwYjQ.\nWe will be recording the seminar
  and sharing it via our mailing list (along with other updates about upcomi
 ng seminars and events), which you can subscribe to by sending an e-mail wi
 th a blank subject line to This email address is being protected from spamb
 ots. You need JavaScript enabled to view it.
				document.getElementById('c
 loak2b8486092b488b7f49a8e1cf3cb737da').innerHTML = '';
				var prefix = '&#
 109;a' + 'i&#108;' + '&#116;o';
				var path = 'hr' + 'ef' + '=';
				var a
 ddy2b8486092b488b7f49a8e1cf3cb737da = 'l&#105;sts&#101;rv' + '&#64;';
				a
 ddy2b8486092b488b7f49a8e1cf3cb737da = addy2b8486092b488b7f49a8e1cf3cb737da 
 + 'l&#105;sts' + '&#46;' + 'mcg&#105;ll' + '&#46;' + 'c&#97;';
				var addy
 _text2b8486092b488b7f49a8e1cf3cb737da = 'l&#105;sts&#101;rv' + '&#64;' + 'l
 &#105;sts' + '&#46;' + 'mcg&#105;ll' + '&#46;' + 'c&#97;';document.getEleme
 ntById('cloak2b8486092b488b7f49a8e1cf3cb737da').innerHTML += '<a ' + path +
  '\'' + prefix + ':' + addy2b8486092b488b7f49a8e1cf3cb737da + '\'>'+addy_te
 xt2b8486092b488b7f49a8e1cf3cb737da+'';
		 containing the following text com
 mand: subscribe earth-ice-sea firstname lastname(Note that within ~1hr you 
 should receive an email requesting you to confirm your subscription, which 
 you can do by replying to the email with "OK"). If you have trouble subscri
 bing please contact Natalya Gomez (This email address is being protected fr
 om spambots. You need JavaScript enabled to view it.
				document.getElemen
 tById('cloak98e26e2c19df0726c406a90225bfb449').innerHTML = '';
				var pref
 ix = '&#109;a' + 'i&#108;' + '&#116;o';
				var path = 'hr' + 'ef' + '=';
	
 			var addy98e26e2c19df0726c406a90225bfb449 = 'n&#97;t&#97;ly&#97;.g&#111;m
 &#101;z' + '&#64;';
				addy98e26e2c19df0726c406a90225bfb449 = addy98e26e2c
 19df0726c406a90225bfb449 + 'mcg&#105;ll' + '&#46;' + 'c&#97;';
				var addy
 _text98e26e2c19df0726c406a90225bfb449 = 'n&#97;t&#97;ly&#97;.g&#111;m&#101;
 z' + '&#64;' + 'mcg&#105;ll' + '&#46;' + 'c&#97;';document.getElementById('
 cloak98e26e2c19df0726c406a90225bfb449').innerHTML += '<a ' + path + '\'' + 
 prefix + ':' + addy98e26e2c19df0726c406a90225bfb449 + '\'>'+addy_text98e26e
 2c19df0726c406a90225bfb449+'';
		).\n\nFuture seminars are (not all times a
 re determined yet but will be between 11:00-13:00 EDT):May 11th, 11am EDT: 
 Perspectives from the modern sea level and ice sheet modeling communities. 
  \nAimée Slangen &amp; Fiamma Straneo\n \nJune 8th, exact time tbd: Paleo i
 ce sheet records and modeling.\nApril Dalton &amp; Andrew Christ\n \nJuly 1
 3th, exact time tbd: Holocene paleo sea level records\nNicole Khan &amp; St
 ephen Chua\n\nAll the best, from\nPALSEA,\nThe IAG Subcommission 3.4 on Cry
 osphere Deformation, \nThe WCRP Grand Challenges on Regional Sea Level and 
 Coastal Impacts (WP1 on long term sea level and GIA)\nand SERCE\n
X-ALT-DESC;FMTTYPE=text/html:<p style="text-align: justify;">Our once-a-month virtual seminar series on 
 'sea-level changes, GIA, and ice sheets' continues next Tuesday, <strong>Ap
 ril 13th&nbsp;at 11:00 am EDT</strong>, with a talk by <strong>Wouter van d
 er Wal</strong> of Delft University on "<strong>Future directions in GIA mo
 del intercomparison and&nbsp;benchmarking</strong>".&nbsp;The talk will be 
 followed by an extended discussion period with plenty of time for audience 
 questions and interaction, so please do come with your questions on this to
 pic. We especially welcome questions from early career researchers.<br /><b
 r />Seminar attendance is open to all and the registration link for this we
 binar is <a href="https://msu.zoom.us/webinar/register/WN_4DpYlYGORfaj8qNB-
 fwYjQ" target="_blank" rel="noopener">https://msu.zoom.us/webinar/register/
 WN_4DpYlYGORfaj8qNB-fwYjQ</a>.</p><div style="text-align: justify;">We will
  be recording the seminar and sharing it via our mailing list (along with o
 ther updates about upcoming seminars and events), which you can subscribe t
 o by&nbsp;sending an e-mail with a blank subject line to&nbsp;<span id="clo
 ak2b8486092b488b7f49a8e1cf3cb737da">This email address is being protected f
 rom spambots. You need JavaScript enabled to view it.</span><script type='t
 ext/javascript'>
				document.getElementById('cloak2b8486092b488b7f49a8e1cf
 3cb737da').innerHTML = '';
				var prefix = '&#109;a' + 'i&#108;' + '&#116;
 o';
				var path = 'hr' + 'ef' + '=';
				var addy2b8486092b488b7f49a8e1cf3
 cb737da = 'l&#105;sts&#101;rv' + '&#64;';
				addy2b8486092b488b7f49a8e1cf3
 cb737da = addy2b8486092b488b7f49a8e1cf3cb737da + 'l&#105;sts' + '&#46;' + '
 mcg&#105;ll' + '&#46;' + 'c&#97;';
				var addy_text2b8486092b488b7f49a8e1c
 f3cb737da = 'l&#105;sts&#101;rv' + '&#64;' + 'l&#105;sts' + '&#46;' + 'mcg&
 #105;ll' + '&#46;' + 'c&#97;';document.getElementById('cloak2b8486092b488b7
 f49a8e1cf3cb737da').innerHTML += '<a ' + path + '\'' + prefix + ':' + addy2
 b8486092b488b7f49a8e1cf3cb737da + '\'>'+addy_text2b8486092b488b7f49a8e1cf3c
 b737da+'<\/a>';
		</script>&nbsp;containing the following text command: <st
 rong>subscribe&nbsp;earth-ice-sea&nbsp;<em>firstname lastname</em></strong>
 </div><div style="text-align: justify;">(Note that within ~1hr you should r
 eceive an email requesting you to confirm your subscription, which you can 
 do by replying to the email with "OK"). If you have trouble subscribing ple
 ase contact Natalya Gomez (<span id="cloak98e26e2c19df0726c406a90225bfb449"
 >This email address is being protected from spambots. You need JavaScript e
 nabled to view it.</span><script type='text/javascript'>
				document.getEl
 ementById('cloak98e26e2c19df0726c406a90225bfb449').innerHTML = '';
				var 
 prefix = '&#109;a' + 'i&#108;' + '&#116;o';
				var path = 'hr' + 'ef' + '=
 ';
				var addy98e26e2c19df0726c406a90225bfb449 = 'n&#97;t&#97;ly&#97;.g&#1
 11;m&#101;z' + '&#64;';
				addy98e26e2c19df0726c406a90225bfb449 = addy98e2
 6e2c19df0726c406a90225bfb449 + 'mcg&#105;ll' + '&#46;' + 'c&#97;';
				var 
 addy_text98e26e2c19df0726c406a90225bfb449 = 'n&#97;t&#97;ly&#97;.g&#111;m&#
 101;z' + '&#64;' + 'mcg&#105;ll' + '&#46;' + 'c&#97;';document.getElementBy
 Id('cloak98e26e2c19df0726c406a90225bfb449').innerHTML += '<a ' + path + '\'
 ' + prefix + ':' + addy98e26e2c19df0726c406a90225bfb449 + '\'>'+addy_text98
 e26e2c19df0726c406a90225bfb449+'<\/a>';
		</script>).<br /><br />Future sem
 inars are (not all times are determined yet but will be between 11:00-13:00
  EDT):</div><p style="text-align: justify;"><strong>May 11th</strong>, 11am
  EDT: Perspectives from the modern sea level and ice sheet&nbsp;modeling co
 mmunities. &nbsp;<br />Aimée Slangen &amp; Fiamma Straneo<br />&nbsp;<br />
 <strong>June 8th</strong>, exact time tbd: Paleo ice sheet records and mode
 ling.<br />April Dalton &amp;&nbsp;Andrew Christ<br />&nbsp;<br /><strong>J
 uly 13th</strong>, exact time tbd:&nbsp;Holocene paleo sea level records<br
  />Nicole Khan &amp; Stephen Chua<br /><br />All the best, from<br /><stron
 g>PALSEA,<br />The IAG Subcommission 3.4 on Cryosphere Deformation,&nbsp;<b
 r />The WCRP Grand Challenges on Regional Sea Level and Coastal Impacts (WP
 1 on long term sea level and GIA)<br />and SERCE</strong></p>
DTSTAMP:20260422T173323Z
DTSTART;TZID=UTC;VALUE=DATE:20210413
DTEND;TZID=UTC;VALUE=DATE:20210414
SEQUENCE:0
TRANSP:OPAQUE
END:VEVENT
END:VCALENDAR