BEGIN:VCALENDAR
VERSION:2.0
PRODID:-//jEvents 2.0 for Joomla//EN
CALSCALE:GREGORIAN
METHOD:PUBLISH
BEGIN:VEVENT
UID:aacfb93da9954617438ef83c0cdcf29e
CATEGORIES:Polar Online Events
CREATED:20210416T084041
SUMMARY:High North Dialogue Research Workshop: Perspectives of the young
LOCATION:Online
DESCRIPTION:On behalf of the High North Dialogue, we invite you to take part in High No
 rth Dialogue Research Workshop: Perspectives of the young. The internationa
 l multidisciplinary workshop will be held as a digital event on April 27, 2
 021, in conjunction with the annual High North Dialogue week.\nDuring the r
 ecent decade, the Arctic regions, with their extremely rich yet difficult t
 o get natural resources, have attracted a lot of attention from national st
 ates, global businesses, and international policymakers. To use the resourc
 e potential but to maintain the sensitive Arctic environment and contribute
  to the people living in the area, we need more knowledge about the challen
 ges and opportunities for sustainable development in the Arctic. It is a pr
 omising area for future studies and no wonder that many young researchers w
 orldwide look at this field with optimism and interest.\nWhy and for whom?\
 nHigh North Dialogue Research Workshop this year is especially focused on y
 oung people's participation. We invite master students, PhD students, and y
 oung scientists to present and discuss their ideas and projects concerned w
 ith social-economic and industrial Arctic development and connect with simi
 larly minded scholars across academic fields and institutions.\nThe worksho
 p aims at inspiring young researchers for further activity and creating sci
 entific network connections among young students. Scientists will have the 
 opportunity to present their papers, discuss the Arctic development's key i
 ssues from a multidisciplinary perspective, and get feedback from professor
 s and qualified experts of Nord University Business School, Northern Arctic
  Federal University, and other partner universities. We believe that the wo
 rkshop will motivate researchers to keep on their study in the internationa
 l and interdisciplinary context.\nOrganizers:\nThe research workshop is a s
 ide-event of the annual High North Dialogue conference. The workshop is org
 anised by High North Center for Business and Governance, Nord University, N
 orway, and Higher School of Economics, Management and Law, Northern Arctic 
 Federal University, Russia, in cooperation with Murmansk Arctic State Unive
 rsity and Murmansk State Technical University.\nHow to join?\nWe invite you
  to submit a short summary of your idea/proposal/project concerned with the
  workshop's topic by April 15, 2021 (maximum 400 words). Selections will be
  made by April 21, 2021, and those selected will be asked to present their 
 paper. There is also a possibility to join the workshop without presentatio
 n and participate in the project's discussions.  \nThe link for registratio
 n  (https://docs.google.com/forms/d/e/1FAIpQLScMATflF8EBdKyXUdzobaNmbjoVxKc
 vumE4q-TLjfBkwTR4Eg/viewform)<a href="https://docs.google.com/forms/d/e/1FA
 IpQLScMATflF8EBdKyXUdzobaNmbjoVxKcvumE4q-TLjfBkwTR4Eg/viewform" target="_bl
 ank" rel="noopener">https://docs.google.com/forms/d/e/1FAIpQLScMATflF8EBdKy
 XUdzobaNmbjoVxKcvumE4q-TLjfBkwTR4Eg/viewform</a>\nContact information:\nEle
 na Zhurova, PhD, Adviser, High North Center for Business and Governance, No
 rd University. Tel. +47 755 17 124/ mob. +47 936 84 061, E-mail:  (mailto:e
 lena.zhurova@nord.no)This email address is being protected from spambots. Y
 ou need JavaScript enabled to view it.
				document.getElementById('cloak4e
 9a00dd16532857c1a3c188b4afde6d').innerHTML = '';
				var prefix = '&#109;a'
  + 'i&#108;' + '&#116;o';
				var path = 'hr' + 'ef' + '=';
				var addy4e9
 a00dd16532857c1a3c188b4afde6d = '&#101;l&#101;n&#97;.zh&#117;r&#111;v&#97;'
  + '&#64;';
				addy4e9a00dd16532857c1a3c188b4afde6d = addy4e9a00dd16532857
 c1a3c188b4afde6d + 'n&#111;rd' + '&#46;' + 'n&#111;';
				var addy_text4e9a
 00dd16532857c1a3c188b4afde6d = '&#101;l&#101;n&#97;.zh&#117;r&#111;v&#97;' 
 + '&#64;' + 'n&#111;rd' + '&#46;' + 'n&#111;';document.getElementById('cloa
 k4e9a00dd16532857c1a3c188b4afde6d').innerHTML += '<a ' + path + '\'' + pref
 ix + ':' + addy4e9a00dd16532857c1a3c188b4afde6d + '\'>'+addy_text4e9a00dd16
 532857c1a3c188b4afde6d+'';
		.\nUliana Yakusheva, Senior Lecturer, Northern
  Arctic Federal University. Email: <a href="mailto:ylich.zz@rambler.ru"></a
 >This email address is being protected from spambots. You need JavaScript e
 nabled to view it.
				document.getElementById('cloak87077734e3657a3e3cd7bb
 215452f34c').innerHTML = '';
				var prefix = '&#109;a' + 'i&#108;' + '&#11
 6;o';
				var path = 'hr' + 'ef' + '=';
				var addy87077734e3657a3e3cd7bb2
 15452f34c = 'yl&#105;ch.zz' + '&#64;';
				addy87077734e3657a3e3cd7bb215452
 f34c = addy87077734e3657a3e3cd7bb215452f34c + 'r&#97;mbl&#101;r' + '&#46;' 
 + 'r&#117;';
				var addy_text87077734e3657a3e3cd7bb215452f34c = 'yl&#105;c
 h.zz' + '&#64;' + 'r&#97;mbl&#101;r' + '&#46;' + 'r&#117;';document.getElem
 entById('cloak87077734e3657a3e3cd7bb215452f34c').innerHTML += '<a ' + path 
 + '\'' + prefix + ':' + addy87077734e3657a3e3cd7bb215452f34c + '\'>'+addy_t
 ext87077734e3657a3e3cd7bb215452f34c+'';
		.\n
X-ALT-DESC;FMTTYPE=text/html:<p style="text-align: justify;">On behalf of the High North Dialogue, we in
 vite you to take part in <strong>High North Dialogue Research Workshop: Per
 spectives of the young.</strong> The international multidisciplinary worksh
 op will be held as a digital event on <strong>April 27, 2021</strong>, in c
 onjunction with the annual High North Dialogue week.</p><p style="text-alig
 n: justify;">During the recent decade, the Arctic regions, with their extre
 mely rich yet difficult to get natural resources, have attracted a lot of a
 ttention from national states, global businesses, and international policym
 akers. To use the resource potential but to maintain the sensitive Arctic e
 nvironment and contribute to the people living in the area, we need more kn
 owledge about the challenges and opportunities for sustainable development 
 in the Arctic. It is a promising area for future studies and no wonder that
  many young researchers worldwide look at this field with optimism and inte
 rest.</p><p style="text-align: justify;"><strong>Why and for whom?</strong>
 </p><p style="text-align: justify;">High North Dialogue Research Workshop t
 his year is especially focused on young people's participation. We invite m
 aster students, PhD students, and young scientists to present and discuss t
 heir ideas and projects concerned with social-economic and industrial Arcti
 c development and connect with similarly minded scholars across academic fi
 elds and institutions.</p><p style="text-align: justify;">The workshop aims
  at inspiring young researchers for further activity and creating scientifi
 c network connections among young students. Scientists will have the opport
 unity to present their papers, discuss the Arctic development's key issues 
 from a multidisciplinary perspective, and get feedback from professors and 
 qualified experts of Nord University Business School, Northern Arctic Feder
 al University, and other partner universities. We believe that the workshop
  will motivate researchers to keep on their study in the international and 
 interdisciplinary context.</p><p style="text-align: justify;"><strong>Organ
 izers:</strong></p><p style="text-align: justify;">The research workshop is
  a side-event of the annual High North Dialogue conference. The workshop is
  organised by High North Center for Business and Governance, Nord Universit
 y, Norway, and Higher School of Economics, Management and Law, Northern Arc
 tic Federal University, Russia, in cooperation with Murmansk Arctic State U
 niversity and Murmansk State Technical University.</p><p style="text-align:
  justify;"><strong>How to join?</strong></p><p style="text-align: justify;"
 ><strong>We invite you to submit a short summary of your idea/proposal/proj
 ect concerned with the workshop's topic by April 15, 2021 (maximum 400 word
 s). Selections will be made by April 21, 2021, and those selected will be a
 sked to present their paper. There is also a possibility to join the worksh
 op without presentation and participate in the project's discussions.&nbsp;
 &nbsp;</strong></p><p style="text-align: justify;">The link for registratio
 n <a href="https://docs.google.com/forms/d/e/1FAIpQLScMATflF8EBdKyXUdzobaNm
 bjoVxKcvumE4q-TLjfBkwTR4Eg/viewform" target="_blank" rel="noopener"></a><a 
 href="https://docs.google.com/forms/d/e/1FAIpQLScMATflF8EBdKyXUdzobaNmbjoVx
 KcvumE4q-TLjfBkwTR4Eg/viewform" target="_blank" rel="noopener">https://docs
 .google.com/forms/d/e/1FAIpQLScMATflF8EBdKyXUdzobaNmbjoVxKcvumE4q-TLjfBkwTR
 4Eg/viewform</a></p><p style="text-align: justify;"><strong>Contact informa
 tion:</strong></p><p style="text-align: justify;"><strong>Elena Zhurova</st
 rong>, PhD, Adviser, High North Center for Business and Governance, Nord Un
 iversity. Tel. +47 755 17 124/ mob. +47 936 84 061, E-mail: <a href="mailto
 :elena.zhurova@nord.no"></a><span id="cloak4e9a00dd16532857c1a3c188b4afde6d
 ">This email address is being protected from spambots. You need JavaScript 
 enabled to view it.</span><script type='text/javascript'>
				document.getE
 lementById('cloak4e9a00dd16532857c1a3c188b4afde6d').innerHTML = '';
				var
  prefix = '&#109;a' + 'i&#108;' + '&#116;o';
				var path = 'hr' + 'ef' + '
 =';
				var addy4e9a00dd16532857c1a3c188b4afde6d = '&#101;l&#101;n&#97;.zh&
 #117;r&#111;v&#97;' + '&#64;';
				addy4e9a00dd16532857c1a3c188b4afde6d = a
 ddy4e9a00dd16532857c1a3c188b4afde6d + 'n&#111;rd' + '&#46;' + 'n&#111;';
		
 		var addy_text4e9a00dd16532857c1a3c188b4afde6d = '&#101;l&#101;n&#97;.zh&#
 117;r&#111;v&#97;' + '&#64;' + 'n&#111;rd' + '&#46;' + 'n&#111;';document.g
 etElementById('cloak4e9a00dd16532857c1a3c188b4afde6d').innerHTML += '<a ' +
  path + '\'' + prefix + ':' + addy4e9a00dd16532857c1a3c188b4afde6d + '\'>'+
 addy_text4e9a00dd16532857c1a3c188b4afde6d+'<\/a>';
		</script>.</p><p style
 ="text-align: justify;"><strong>Uliana Yakusheva</strong>, Senior Lecturer,
  Northern Arctic Federal University. Email: <a href="mailto:ylich.zz@ramble
 r.ru"></a><span id="cloak87077734e3657a3e3cd7bb215452f34c">This email addre
 ss is being protected from spambots. You need JavaScript enabled to view it
 .</span><script type='text/javascript'>
				document.getElementById('cloak8
 7077734e3657a3e3cd7bb215452f34c').innerHTML = '';
				var prefix = '&#109;a
 ' + 'i&#108;' + '&#116;o';
				var path = 'hr' + 'ef' + '=';
				var addy87
 077734e3657a3e3cd7bb215452f34c = 'yl&#105;ch.zz' + '&#64;';
				addy8707773
 4e3657a3e3cd7bb215452f34c = addy87077734e3657a3e3cd7bb215452f34c + 'r&#97;m
 bl&#101;r' + '&#46;' + 'r&#117;';
				var addy_text87077734e3657a3e3cd7bb21
 5452f34c = 'yl&#105;ch.zz' + '&#64;' + 'r&#97;mbl&#101;r' + '&#46;' + 'r&#1
 17;';document.getElementById('cloak87077734e3657a3e3cd7bb215452f34c').inner
 HTML += '<a ' + path + '\'' + prefix + ':' + addy87077734e3657a3e3cd7bb2154
 52f34c + '\'>'+addy_text87077734e3657a3e3cd7bb215452f34c+'<\/a>';
		</scrip
 t>.</p>
DTSTAMP:20260421T120534Z
DTSTART;TZID=UTC;VALUE=DATE:20210427
DTEND;TZID=UTC;VALUE=DATE:20210428
SEQUENCE:0
TRANSP:OPAQUE
END:VEVENT
END:VCALENDAR