BEGIN:VCALENDAR
VERSION:2.0
PRODID:-//jEvents 2.0 for Joomla//EN
CALSCALE:GREGORIAN
METHOD:PUBLISH
BEGIN:VEVENT
UID:0588c4337f8597ea2f268974eadfb21d
CATEGORIES:Polar Online Events
CREATED:20210421T062535
SUMMARY:A Call for Bold Regional and Global Actions to Reduce Black Carbon Emissions Impacting the Arctic
LOCATION:Online
DESCRIPTION:Organizers invite registration for their upcoming virtual forum, A Call for
  Bold Regional and Global Actions to Reduce Black Carbon Emissions Impactin
 g the Arctic. This forum will be held 29 April 2021, 14:00-16:30 CEST.\nThi
 s virtual forum will present:\n\n - Recent advances in knowledge on current
  and future scenarios,\n - Black carbon emissions reduction strategies and 
 identify areas where regional and global collaboration can be enhanced, and
 \n - International discussion on where and to what degree bold actions can 
 be undertaken to curb black carbon emissions impacting the Arctic region an
 d other parts of the world.Led by a group of expert organizations, the EU-f
 unded Action on Black Carbon in the Arctic is contributing to the developme
 nt of collective responses that reduce black carbon emissions affecting the
  Arctic by engaging with a broad group of regional and global stakeholders 
 and countries to identify feasible ways of taking joint actions. This initi
 ative has contributed to increased knowledge and guided the development of 
 a roadmap on enhanced international cooperation for actions that can reduce
  emissions of black carbon.\nFor more information and to register, go to:\n
  Event webpage (https://blackcarbonarctic.eu/)\nFor questions, contact:\n H
 annah Corns\n Email: This email address is being protected from spambots. Y
 ou need JavaScript enabled to view it.
				document.getElementById('cloak24
 a278db68dcebd1b3394c14f102cb66').innerHTML = '';
				var prefix = '&#109;a'
  + 'i&#108;' + '&#116;o';
				var path = 'hr' + 'ef' + '=';
				var addy24a
 278db68dcebd1b3394c14f102cb66 = 'bl&#97;ckc&#97;rb&#111;n&#97;rct&#105;c' +
  '&#64;';
				addy24a278db68dcebd1b3394c14f102cb66 = addy24a278db68dcebd1b3
 394c14f102cb66 + 'f&#111;r&#117;m-&#101;&#117;r&#111;p&#101;' + '&#46;' + '
 c&#111;m';
				var addy_text24a278db68dcebd1b3394c14f102cb66 = 'bl&#97;ckc&
 #97;rb&#111;n&#97;rct&#105;c' + '&#64;' + 'f&#111;r&#117;m-&#101;&#117;r&#1
 11;p&#101;' + '&#46;' + 'c&#111;m';document.getElementById('cloak24a278db68
 dcebd1b3394c14f102cb66').innerHTML += '<a ' + path + '\'' + prefix + ':' + 
 addy24a278db68dcebd1b3394c14f102cb66 + '\'>'+addy_text24a278db68dcebd1b3394
 c14f102cb66+'';
		\n Phone: +442920783027\n
X-ALT-DESC;FMTTYPE=text/html:<p style="text-align: justify;">Organizers invite registration for their up
 coming virtual forum, <strong><em>A Call for Bold Regional and Global Actio
 ns to Reduce Black Carbon Emissions Impacting the Arctic</em></strong>. Thi
 s forum will be held <strong>29 April 2021, 14:00-16:30 CEST</strong>.</p><
 p style="text-align: justify;"><strong>This virtual forum will present:</st
 rong></p><ul style="text-align: justify;"><li>Recent advances in knowledge 
 on current and future scenarios,</li><li>Black carbon emissions reduction s
 trategies and identify areas where regional and global collaboration can be
  enhanced, and</li><li>International discussion on where and to what degree
  bold actions can be undertaken to curb black carbon emissions impacting th
 e Arctic region and other parts of the world.</li></ul><p style="text-align
 : justify;">Led by a group of expert organizations, the EU-funded Action on
  Black Carbon in the Arctic is contributing to the development of collectiv
 e responses that reduce black carbon emissions affecting the Arctic by enga
 ging with a broad group of regional and global stakeholders and countries t
 o identify feasible ways of taking joint actions. This initiative has contr
 ibuted to increased knowledge and guided the development of a roadmap on en
 hanced international cooperation for actions that can reduce emissions of b
 lack carbon.</p><p style="text-align: justify;">For more information and to
  register, go to:<br /> <a href="https://blackcarbonarctic.eu/" target="_bl
 ank" rel="noopener">Event webpage</a></p><p style="text-align: justify;">Fo
 r questions, contact:<br /> Hannah Corns<br /> Email: <span id="cloak24a278
 db68dcebd1b3394c14f102cb66">This email address is being protected from spam
 bots. You need JavaScript enabled to view it.</span><script type='text/java
 script'>
				document.getElementById('cloak24a278db68dcebd1b3394c14f102cb66
 ').innerHTML = '';
				var prefix = '&#109;a' + 'i&#108;' + '&#116;o';
				
 var path = 'hr' + 'ef' + '=';
				var addy24a278db68dcebd1b3394c14f102cb66 
 = 'bl&#97;ckc&#97;rb&#111;n&#97;rct&#105;c' + '&#64;';
				addy24a278db68dc
 ebd1b3394c14f102cb66 = addy24a278db68dcebd1b3394c14f102cb66 + 'f&#111;r&#11
 7;m-&#101;&#117;r&#111;p&#101;' + '&#46;' + 'c&#111;m';
				var addy_text24
 a278db68dcebd1b3394c14f102cb66 = 'bl&#97;ckc&#97;rb&#111;n&#97;rct&#105;c' 
 + '&#64;' + 'f&#111;r&#117;m-&#101;&#117;r&#111;p&#101;' + '&#46;' + 'c&#11
 1;m';document.getElementById('cloak24a278db68dcebd1b3394c14f102cb66').inner
 HTML += '<a ' + path + '\'' + prefix + ':' + addy24a278db68dcebd1b3394c14f1
 02cb66 + '\'>'+addy_text24a278db68dcebd1b3394c14f102cb66+'<\/a>';
		</scrip
 t><br /> Phone: +442920783027</p>
DTSTAMP:20260420T135513Z
DTSTART;TZID=UTC;VALUE=DATE:20210429
DTEND;TZID=UTC;VALUE=DATE:20210430
SEQUENCE:0
TRANSP:OPAQUE
END:VEVENT
END:VCALENDAR