BEGIN:VCALENDAR
VERSION:2.0
PRODID:-//jEvents 2.0 for Joomla//EN
CALSCALE:GREGORIAN
METHOD:PUBLISH
BEGIN:VEVENT
UID:601b7960ff2d47bf1bcea29830426807
CATEGORIES:Polar Conferences, Meetings and Events
CREATED:20161201T023502
SUMMARY:IAMAS-IAPSO-IAGA Assembly 2017
LOCATION:Cape Town\, South Africa
DESCRIPTION:<p>The IAMAS (International Association of Meteorology and Atmospheric Scie
 nces)- IAPSO (International Association of Physical Sciences of the Ocean) 
 - IAGA -(International Association of Geophysics and Aeronomy) Assembly tha
 t will take place in Cape Town over 27 August - 1 September 2017</p><p>Ther
 e will be a lot of polar science involved, including sessions on:</p><p>POL
 AR OCEANOGRAPHY AND METEOROLOGY (IAPSO, IAMAS)<br />Vertical Atmospheric Co
 upling the Polar Atmosphere</p><p>The conference web site is at http://www.
 iapso-iamas-iaga2017.com/ and registration is now open.</p>
DTSTAMP:20260424T182835Z
DTSTART;TZID=UTC;VALUE=DATE:20170827
DTEND;TZID=UTC;VALUE=DATE:20170902
SEQUENCE:0
TRANSP:OPAQUE
END:VEVENT
END:VCALENDAR