BEGIN:VCALENDAR
VERSION:2.0
PRODID:-//jEvents 2.0 for Joomla//EN
CALSCALE:GREGORIAN
METHOD:PUBLISH
BEGIN:VEVENT
UID:f66b6016dfbe043a533a2a001d33f112
CATEGORIES:Polar Online Events
CREATED:20210427T074955
SUMMARY:COVID Pandemic Guidance for Field & Community-Based Research
LOCATION:Online
DESCRIPTION:<p style="text-align: justify;"><strong><span id="m_-7405598246209824843doc
 s-internal-guid-6a43f53e-7fff-bed4-7c07-b1ab8a3224ac">April 29 (Thursday): 
 10am-12pm AKDT (2-4pm EDT)</span></strong></p><p style="text-align: justify
 ;"><span id="m_-7405598246209824843docs-internal-guid-6a43f53e-7fff-bed4-7c
 07-b1ab8a3224ac">This virtual event will feature a panel of experts who wil
 l discuss and share timely information for those planning fieldwork this su
 mmer regarding COVID-19 related protocols, guidance, and restrictions at lo
 cal and regional levels across the Arctic. Panelists will also discuss how 
 COVID safety protocols intersect with other field safety concerns. The pane
 l discussion will be followed by break-out groups organized to discuss regi
 onal contexts, resources, and evolving situations.</span></p><p style="text
 -align: justify;"><span id="m_-7405598246209824843docs-internal-guid-6a43f5
 3e-7fff-bed4-7c07-b1ab8a3224ac"><a href="https://nna-co.org/upcoming-events
 " target="_blank" rel="noopener">See more information and register here</a>
 .&nbsp;</span></p><p dir="ltr">We will record the panel discussions during 
 these two events and compile related resources to share with those who are 
 unable to attend. These items will be posted on the <a href="https://nna-co
 .org/" target="_blank" rel="noopener">NNA-CO website</a> in the future.</p>
 <p dir="ltr">Please contact our office (<a href="mailto:contact@nna-co.org"
  target="_blank"></a><span id="cloakb42c953a9f374d5f9201f914358e943a">This 
 email address is being protected from spambots. You need JavaScript enabled
  to view it.</span><script type='text/javascript'>
				document.getElementB
 yId('cloakb42c953a9f374d5f9201f914358e943a').innerHTML = '';
				var prefix
  = '&#109;a' + 'i&#108;' + '&#116;o';
				var path = 'hr' + 'ef' + '=';
			
 	var addyb42c953a9f374d5f9201f914358e943a = 'c&#111;nt&#97;ct' + '&#64;';
	
 			addyb42c953a9f374d5f9201f914358e943a = addyb42c953a9f374d5f9201f914358e9
 43a + 'nn&#97;-c&#111;' + '&#46;' + '&#111;rg';
				var addy_textb42c953a9f
 374d5f9201f914358e943a = 'c&#111;nt&#97;ct' + '&#64;' + 'nn&#97;-c&#111;' +
  '&#46;' + '&#111;rg';document.getElementById('cloakb42c953a9f374d5f9201f91
 4358e943a').innerHTML += '<a ' + path + '\'' + prefix + ':' + addyb42c953a9
 f374d5f9201f914358e943a + '\'>'+addy_textb42c953a9f374d5f9201f914358e943a+'
 <\/a>';
		</script>) with any questions.</p>
DTSTAMP:20260420T123737Z
DTSTART;TZID=UTC;VALUE=DATE:20210429
DTEND;TZID=UTC;VALUE=DATE:20210430
SEQUENCE:0
TRANSP:OPAQUE
END:VEVENT
END:VCALENDAR