BEGIN:VCALENDAR
VERSION:2.0
PRODID:-//jEvents 2.0 for Joomla//EN
CALSCALE:GREGORIAN
METHOD:PUBLISH
BEGIN:VEVENT
UID:d1b1efc8d438ba9b7f2b69778c64b409
CATEGORIES:Polar Online Events
CREATED:20210427T142528
SUMMARY:Sustainability Research & Innovation Congress 2021
LOCATION:Online
DESCRIPTION:The Sustainability Research &amp; Innovation Congress 2021 (SRI2021) is the
  world’s first transdisciplinary gathering in sustainability – it will be a
  space of fierce advocacy for sustainability scholarship, innovation, colla
 boration and action.\nMore information and registration here (https://sri20
 21.org/)\n
X-ALT-DESC;FMTTYPE=text/html:<p style="text-align: justify;">The <strong>Sustainability Research &amp; I
 nnovation Congress 2021 (SRI2021)</strong> is the world’s first transdiscip
 linary gathering in sustainability – it will be a space of fierce advocacy 
 for sustainability scholarship, innovation, collaboration and action.</p><p
 >More information and registration <a href="https://sri2021.org/" target="_
 blank" rel="noopener">here</a></p>
DTSTAMP:20260421T091342Z
DTSTART;TZID=UTC;VALUE=DATE:20210612
DTEND;TZID=UTC;VALUE=DATE:20210616
SEQUENCE:0
TRANSP:OPAQUE
END:VEVENT
END:VCALENDAR